Workbook
Name AbsenceCodes: 'Codes & Feiertage'!$A$5:$A$11
Name AbsenceNames: 'Codes & Feiertage'!$B$5:$B$11
Name Holidays: 'Codes & Feiertage'!$A$16:$A$45

Sheet Anleitung
A1: Stundenzettel Jahr
A3: So funktioniert es
B4: 1. Jahresübersicht | C4: Im Blatt "Jahresübersicht" Namen, Jahr, Regelarbeitszeit pro Tag und optional den Stundenlohn eintragen: das gilt für alle 12 Monate.
B5: 2. Ein Blatt pro Monat | C5: Jeden Monat im eigenen Blatt ausfüllen (Januar … Dezember): Beginn, Ende im Format 08:30, Pause in Minuten. Schichten über Mitternacht werden berechnet.
B6: 3. Jahressummen | C6: Die Übersicht addiert Arbeitsstunden, reguläre Stunden, Überstunden, Arbeitstage und Abwesenheiten pro Monat und für das ganze Jahr.
B7: Abwesenheiten | C7: In der Spalte Abwesenheit einen Code aus der Liste wählen (U, SU, K, ZA, UF, EZ, R). Codes und Beschreibungen stehen im Blatt "Codes & Feiertage" und lassen sich ändern.
B8: Feiertage und Wochenende | C8: Samstage und Sonntage sind grau, Feiertage violett. Tragen Sie die Feiertage Ihres Landes bzw. Bundeslandes im Blatt "Codes & Feiertage" ein.
B9: Summen | C9: Stunden werden als Stunden:Minuten (auch über 24 Stunden) und dezimal für die Lohnabrechnung angezeigt: 7:30 = 7,50.
B10: Drucken | C10: Das Blatt druckt auf A4 quer, eine Seite breit, mit wiederholter Tabellenüberschrift. Unterschriftszeilen stehen unten.
B12: Hellviolette Zellen = ausfüllen. Graue Zellen = werden automatisch berechnet: bitte nicht überschreiben.
A14: Hinweis
B15: Die Pflichten zur Arbeitszeiterfassung unterscheiden sich von Land zu Land. Dieser Stundenzettel ist eine interne Aufzeichnung: Klären Sie mit Ihrer Lohnbuchhaltung oder Steuerberatung, welche Aufzeichnungen Sie wie lange aufbewahren müssen.

Sheet Jahresübersicht
A1: Stundenzettel Jahr
A2: Kostenlose Vorlage von NoBadge · hellviolette Zellen = ausfüllen · graue Zellen = berechnet, nicht überschreiben
A4: Angaben zur Person (gelten für alle 12 Monate)
A5: Mitarbeiter/in | G5: Jahr | I5: 2027
A6: Tätigkeit / Abteilung | G6: Regelarbeitszeit pro Tag (Std.) | I6: 8 | J6: darüber = Überstunden
A7: Stundenlohn (optional) | G7: Überstundenzuschlag (optional)
A9: Monat | B9: Arbeits- zeit | C9: Regulär | D9: Überstunden | E9: Stunden dezimal | F9: Arbeitstage | G9: =INDEX(AbsenceCodes,1) -> U | H9: =INDEX(AbsenceCodes,2) -> SU | I9: =INDEX(AbsenceCodes,3) -> K | J9: =INDEX(AbsenceCodes,4) -> ZA | K9: =INDEX(AbsenceCodes,5) -> UF | L9: =INDEX(AbsenceCodes,6) -> EZ | M9: =INDEX(AbsenceCodes,7) -> R | N9: Kosten (optional)
A10: Januar | B10: =Januar!F41 -> 0 | C10: =Januar!G41 -> 0 | D10: =Januar!H41 -> 0 | E10: =B10*24 -> 0 | F10: =Januar!I45 -> 0 | G10: =Januar!A49 -> 0 | H10: =Januar!B49 -> 0 | I10: =Januar!C49 -> 0 | J10: =Januar!D49 -> 0 | K10: =Januar!E49 -> 0 | L10: =Januar!F49 -> 0 | M10: =Januar!G49 -> 0 | N10: =IF(Januar!J45="","",Januar!J45)
A11: Februar | B11: =Februar!F41 -> 0 | C11: =Februar!G41 -> 0 | D11: =Februar!H41 -> 0 | E11: =B11*24 -> 0 | F11: =Februar!I45 -> 0 | G11: =Februar!A49 -> 0 | H11: =Februar!B49 -> 0 | I11: =Februar!C49 -> 0 | J11: =Februar!D49 -> 0 | K11: =Februar!E49 -> 0 | L11: =Februar!F49 -> 0 | M11: =Februar!G49 -> 0 | N11: =IF(Februar!J45="","",Februar!J45)
A12: März | B12: =März!F41 -> 0 | C12: =März!G41 -> 0 | D12: =März!H41 -> 0 | E12: =B12*24 -> 0 | F12: =März!I45 -> 0 | G12: =März!A49 -> 0 | H12: =März!B49 -> 0 | I12: =März!C49 -> 0 | J12: =März!D49 -> 0 | K12: =März!E49 -> 0 | L12: =März!F49 -> 0 | M12: =März!G49 -> 0 | N12: =IF(März!J45="","",März!J45)
A13: April | B13: =April!F41 -> 0 | C13: =April!G41 -> 0 | D13: =April!H41 -> 0 | E13: =B13*24 -> 0 | F13: =April!I45 -> 0 | G13: =April!A49 -> 0 | H13: =April!B49 -> 0 | I13: =April!C49 -> 0 | J13: =April!D49 -> 0 | K13: =April!E49 -> 0 | L13: =April!F49 -> 0 | M13: =April!G49 -> 0 | N13: =IF(April!J45="","",April!J45)
A14: Mai | B14: =Mai!F41 -> 0 | C14: =Mai!G41 -> 0 | D14: =Mai!H41 -> 0 | E14: =B14*24 -> 0 | F14: =Mai!I45 -> 0 | G14: =Mai!A49 -> 0 | H14: =Mai!B49 -> 0 | I14: =Mai!C49 -> 0 | J14: =Mai!D49 -> 0 | K14: =Mai!E49 -> 0 | L14: =Mai!F49 -> 0 | M14: =Mai!G49 -> 0 | N14: =IF(Mai!J45="","",Mai!J45)
A15: Juni | B15: =Juni!F41 -> 0 | C15: =Juni!G41 -> 0 | D15: =Juni!H41 -> 0 | E15: =B15*24 -> 0 | F15: =Juni!I45 -> 0 | G15: =Juni!A49 -> 0 | H15: =Juni!B49 -> 0 | I15: =Juni!C49 -> 0 | J15: =Juni!D49 -> 0 | K15: =Juni!E49 -> 0 | L15: =Juni!F49 -> 0 | M15: =Juni!G49 -> 0 | N15: =IF(Juni!J45="","",Juni!J45)
A16: Juli | B16: =Juli!F41 -> 0 | C16: =Juli!G41 -> 0 | D16: =Juli!H41 -> 0 | E16: =B16*24 -> 0 | F16: =Juli!I45 -> 0 | G16: =Juli!A49 -> 0 | H16: =Juli!B49 -> 0 | I16: =Juli!C49 -> 0 | J16: =Juli!D49 -> 0 | K16: =Juli!E49 -> 0 | L16: =Juli!F49 -> 0 | M16: =Juli!G49 -> 0 | N16: =IF(Juli!J45="","",Juli!J45)
A17: August | B17: =August!F41 -> 0 | C17: =August!G41 -> 0 | D17: =August!H41 -> 0 | E17: =B17*24 -> 0 | F17: =August!I45 -> 0 | G17: =August!A49 -> 0 | H17: =August!B49 -> 0 | I17: =August!C49 -> 0 | J17: =August!D49 -> 0 | K17: =August!E49 -> 0 | L17: =August!F49 -> 0 | M17: =August!G49 -> 0 | N17: =IF(August!J45="","",August!J45)
A18: September | B18: =September!F41 -> 0 | C18: =September!G41 -> 0 | D18: =September!H41 -> 0 | E18: =B18*24 -> 0 | F18: =September!I45 -> 0 | G18: =September!A49 -> 0 | H18: =September!B49 -> 0 | I18: =September!C49 -> 0 | J18: =September!D49 -> 0 | K18: =September!E49 -> 0 | L18: =September!F49 -> 0 | M18: =September!G49 -> 0 | N18: =IF(September!J45="","",September!J45)
A19: Oktober | B19: =Oktober!F41 -> 0 | C19: =Oktober!G41 -> 0 | D19: =Oktober!H41 -> 0 | E19: =B19*24 -> 0 | F19: =Oktober!I45 -> 0 | G19: =Oktober!A49 -> 0 | H19: =Oktober!B49 -> 0 | I19: =Oktober!C49 -> 0 | J19: =Oktober!D49 -> 0 | K19: =Oktober!E49 -> 0 | L19: =Oktober!F49 -> 0 | M19: =Oktober!G49 -> 0 | N19: =IF(Oktober!J45="","",Oktober!J45)
A20: November | B20: =November!F41 -> 0 | C20: =November!G41 -> 0 | D20: =November!H41 -> 0 | E20: =B20*24 -> 0 | F20: =November!I45 -> 0 | G20: =November!A49 -> 0 | H20: =November!B49 -> 0 | I20: =November!C49 -> 0 | J20: =November!D49 -> 0 | K20: =November!E49 -> 0 | L20: =November!F49 -> 0 | M20: =November!G49 -> 0 | N20: =IF(November!J45="","",November!J45)
A21: Dezember | B21: =Dezember!F41 -> 0 | C21: =Dezember!G41 -> 0 | D21: =Dezember!H41 -> 0 | E21: =B21*24 -> 0 | F21: =Dezember!I45 -> 0 | G21: =Dezember!A49 -> 0 | H21: =Dezember!B49 -> 0 | I21: =Dezember!C49 -> 0 | J21: =Dezember!D49 -> 0 | K21: =Dezember!E49 -> 0 | L21: =Dezember!F49 -> 0 | M21: =Dezember!G49 -> 0 | N21: =IF(Dezember!J45="","",Dezember!J45)
A22: Summe Jahr | B22: =SUM(B10:B21) -> 0 | C22: =SUM(C10:C21) -> 0 | D22: =SUM(D10:D21) -> 0 | E22: =SUM(E10:E21) -> 0 | F22: =SUM(F10:F21) -> 0 | G22: =SUM(G10:G21) -> 0 | H22: =SUM(H10:H21) -> 0 | I22: =SUM(I10:I21) -> 0 | ... M22: =SUM(M10:M21) -> 0 | N22: =IF(COUNT(N10:N21)=0,"",SUM(N10:N21))
A24: Keine Lust mehr, alles von Hand einzutragen? NoBadge erfasst die Stempelungen per GPS oder QR-Code auf dem Smartphone und exportiert den Monat nach Excel. 5,04 € pro aktivem Nutzer und Monat, 15 Tage kostenlos testen: nobadge.eu/de

Sheet Januar
A1: Stundenzettel Jahr · Januar
A2: Kostenlose Vorlage von NoBadge · hellviolette Zellen = ausfüllen · graue Zellen = berechnet, nicht überschreiben
A4: Mitarbeiter/in | C4: =IF(Jahresübersicht!$C$5="","",Jahresübersicht!$C$5) | G4: Monat (1-12) | I4: 1 | J4: =IF(AND(ISNUMBER($I$4),$I$4>=1,$I$4<=12),CHOOSE($I$4,"Januar","Februar","März","April","Mai","Juni","Juli","August","September","Oktober","November","Dezember")&" "&$I$5,"") -> Januar 2027
A5: Tätigkeit / Abteilung | C5: =IF(Jahresübersicht!$C$6="","",Jahresübersicht!$C$6) | G5: Jahr | I5: =Jahresübersicht!$I$5 -> 2027
A6: Regelarbeitszeit pro Tag (Std.) | C6: =Jahresübersicht!$I$6 -> 8 | D6: darüber = Überstunden | G6: Stundenlohn (optional) | I6: =IF(Jahresübersicht!$C$7="","",Jahresübersicht!$C$7)
G7: Überstundenzuschlag (optional) | I7: =IF(Jahresübersicht!$I$7="","",Jahresübersicht!$I$7)
A9: Datum | B9: Tag | C9: Beginn | D9: Ende | E9: Pause (Min.) | F9: Arbeits- zeit | G9: Regulär | H9: Überstunden | I9: Abwesenheit | J9: Notizen
A10: =IF(1<=DAY(DATE($I$5,$I$4+1,0)),DATE($I$5,$I$4,1),"") -> 46388 | B10: =IF(ISNUMBER(A10),CHOOSE(WEEKDAY(A10,2),"Mo","Di","Mi","Do","Fr","Sa","So"),"") -> Fr | F10: =IF(OR(C10="",D10=""),"",MAX(0,MOD(D10-C10,1)-N(E10)/1440)) | G10: =IF(F10="","",MIN(F10,$C$6/24)) | H10: =IF(F10="","",F10-G10)
A11: =IF(2<=DAY(DATE($I$5,$I$4+1,0)),DATE($I$5,$I$4,2),"") -> 46389 | B11: =IF(ISNUMBER(A11),CHOOSE(WEEKDAY(A11,2),"Mo","Di","Mi","Do","Fr","Sa","So"),"") -> Sa | F11: =IF(OR(C11="",D11=""),"",MAX(0,MOD(D11-C11,1)-N(E11)/1440)) | G11: =IF(F11="","",MIN(F11,$C$6/24)) | H11: =IF(F11="","",F11-G11)
A12: =IF(3<=DAY(DATE($I$5,$I$4+1,0)),DATE($I$5,$I$4,3),"") -> 46390 | B12: =IF(ISNUMBER(A12),CHOOSE(WEEKDAY(A12,2),"Mo","Di","Mi","Do","Fr","Sa","So"),"") -> So | F12: =IF(OR(C12="",D12=""),"",MAX(0,MOD(D12-C12,1)-N(E12)/1440)) | G12: =IF(F12="","",MIN(F12,$C$6/24)) | H12: =IF(F12="","",F12-G12)
A13: =IF(4<=DAY(DATE($I$5,$I$4+1,0)),DATE($I$5,$I$4,4),"") -> 46391 | B13: =IF(ISNUMBER(A13),CHOOSE(WEEKDAY(A13,2),"Mo","Di","Mi","Do","Fr","Sa","So"),"") -> Mo | F13: =IF(OR(C13="",D13=""),"",MAX(0,MOD(D13-C13,1)-N(E13)/1440)) | G13: =IF(F13="","",MIN(F13,$C$6/24)) | H13: =IF(F13="","",F13-G13)
A14: =IF(5<=DAY(DATE($I$5,$I$4+1,0)),DATE($I$5,$I$4,5),"") -> 46392 | B14: =IF(ISNUMBER(A14),CHOOSE(WEEKDAY(A14,2),"Mo","Di","Mi","Do","Fr","Sa","So"),"") -> Di | F14: =IF(OR(C14="",D14=""),"",MAX(0,MOD(D14-C14,1)-N(E14)/1440)) | G14: =IF(F14="","",MIN(F14,$C$6/24)) | H14: =IF(F14="","",F14-G14)
A15: =IF(6<=DAY(DATE($I$5,$I$4+1,0)),DATE($I$5,$I$4,6),"") -> 46393 | B15: =IF(ISNUMBER(A15),CHOOSE(WEEKDAY(A15,2),"Mo","Di","Mi","Do","Fr","Sa","So"),"") -> Mi | F15: =IF(OR(C15="",D15=""),"",MAX(0,MOD(D15-C15,1)-N(E15)/1440)) | G15: =IF(F15="","",MIN(F15,$C$6/24)) | H15: =IF(F15="","",F15-G15)
A16: =IF(7<=DAY(DATE($I$5,$I$4+1,0)),DATE($I$5,$I$4,7),"") -> 46394 | B16: =IF(ISNUMBER(A16),CHOOSE(WEEKDAY(A16,2),"Mo","Di","Mi","Do","Fr","Sa","So"),"") -> Do | F16: =IF(OR(C16="",D16=""),"",MAX(0,MOD(D16-C16,1)-N(E16)/1440)) | G16: =IF(F16="","",MIN(F16,$C$6/24)) | H16: =IF(F16="","",F16-G16)
A17: =IF(8<=DAY(DATE($I$5,$I$4+1,0)),DATE($I$5,$I$4,8),"") -> 46395 | B17: =IF(ISNUMBER(A17),CHOOSE(WEEKDAY(A17,2),"Mo","Di","Mi","Do","Fr","Sa","So"),"") -> Fr | F17: =IF(OR(C17="",D17=""),"",MAX(0,MOD(D17-C17,1)-N(E17)/1440)) | G17: =IF(F17="","",MIN(F17,$C$6/24)) | H17: =IF(F17="","",F17-G17)
A18: =IF(9<=DAY(DATE($I$5,$I$4+1,0)),DATE($I$5,$I$4,9),"") -> 46396 | B18: =IF(ISNUMBER(A18),CHOOSE(WEEKDAY(A18,2),"Mo","Di","Mi","Do","Fr","Sa","So"),"") -> Sa | F18: =IF(OR(C18="",D18=""),"",MAX(0,MOD(D18-C18,1)-N(E18)/1440)) | G18: =IF(F18="","",MIN(F18,$C$6/24)) | H18: =IF(F18="","",F18-G18)
A19: =IF(10<=DAY(DATE($I$5,$I$4+1,0)),DATE($I$5,$I$4,10),"") -> 46397 | B19: =IF(ISNUMBER(A19),CHOOSE(WEEKDAY(A19,2),"Mo","Di","Mi","Do","Fr","Sa","So"),"") -> So | F19: =IF(OR(C19="",D19=""),"",MAX(0,MOD(D19-C19,1)-N(E19)/1440)) | G19: =IF(F19="","",MIN(F19,$C$6/24)) | H19: =IF(F19="","",F19-G19)
A20: =IF(11<=DAY(DATE($I$5,$I$4+1,0)),DATE($I$5,$I$4,11),"") -> 46398 | B20: =IF(ISNUMBER(A20),CHOOSE(WEEKDAY(A20,2),"Mo","Di","Mi","Do","Fr","Sa","So"),"") -> Mo | F20: =IF(OR(C20="",D20=""),"",MAX(0,MOD(D20-C20,1)-N(E20)/1440)) | G20: =IF(F20="","",MIN(F20,$C$6/24)) | H20: =IF(F20="","",F20-G20)
A21: =IF(12<=DAY(DATE($I$5,$I$4+1,0)),DATE($I$5,$I$4,12),"") -> 46399 | B21: =IF(ISNUMBER(A21),CHOOSE(WEEKDAY(A21,2),"Mo","Di","Mi","Do","Fr","Sa","So"),"") -> Di | F21: =IF(OR(C21="",D21=""),"",MAX(0,MOD(D21-C21,1)-N(E21)/1440)) | G21: =IF(F21="","",MIN(F21,$C$6/24)) | H21: =IF(F21="","",F21-G21)
A22: =IF(13<=DAY(DATE($I$5,$I$4+1,0)),DATE($I$5,$I$4,13),"") -> 46400 | B22: =IF(ISNUMBER(A22),CHOOSE(WEEKDAY(A22,2),"Mo","Di","Mi","Do","Fr","Sa","So"),"") -> Mi | F22: =IF(OR(C22="",D22=""),"",MAX(0,MOD(D22-C22,1)-N(E22)/1440)) | G22: =IF(F22="","",MIN(F22,$C$6/24)) | H22: =IF(F22="","",F22-G22)
A23: =IF(14<=DAY(DATE($I$5,$I$4+1,0)),DATE($I$5,$I$4,14),"") -> 46401 | B23: =IF(ISNUMBER(A23),CHOOSE(WEEKDAY(A23,2),"Mo","Di","Mi","Do","Fr","Sa","So"),"") -> Do | F23: =IF(OR(C23="",D23=""),"",MAX(0,MOD(D23-C23,1)-N(E23)/1440)) | G23: =IF(F23="","",MIN(F23,$C$6/24)) | H23: =IF(F23="","",F23-G23)
A24: =IF(15<=DAY(DATE($I$5,$I$4+1,0)),DATE($I$5,$I$4,15),"") -> 46402 | B24: =IF(ISNUMBER(A24),CHOOSE(WEEKDAY(A24,2),"Mo","Di","Mi","Do","Fr","Sa","So"),"") -> Fr | F24: =IF(OR(C24="",D24=""),"",MAX(0,MOD(D24-C24,1)-N(E24)/1440)) | G24: =IF(F24="","",MIN(F24,$C$6/24)) | H24: =IF(F24="","",F24-G24)
A25: =IF(16<=DAY(DATE($I$5,$I$4+1,0)),DATE($I$5,$I$4,16),"") -> 46403 | B25: =IF(ISNUMBER(A25),CHOOSE(WEEKDAY(A25,2),"Mo","Di","Mi","Do","Fr","Sa","So"),"") -> Sa | F25: =IF(OR(C25="",D25=""),"",MAX(0,MOD(D25-C25,1)-N(E25)/1440)) | G25: =IF(F25="","",MIN(F25,$C$6/24)) | H25: =IF(F25="","",F25-G25)
A26: =IF(17<=DAY(DATE($I$5,$I$4+1,0)),DATE($I$5,$I$4,17),"") -> 46404 | B26: =IF(ISNUMBER(A26),CHOOSE(WEEKDAY(A26,2),"Mo","Di","Mi","Do","Fr","Sa","So"),"") -> So | F26: =IF(OR(C26="",D26=""),"",MAX(0,MOD(D26-C26,1)-N(E26)/1440)) | G26: =IF(F26="","",MIN(F26,$C$6/24)) | H26: =IF(F26="","",F26-G26)
A27: =IF(18<=DAY(DATE($I$5,$I$4+1,0)),DATE($I$5,$I$4,18),"") -> 46405 | B27: =IF(ISNUMBER(A27),CHOOSE(WEEKDAY(A27,2),"Mo","Di","Mi","Do","Fr","Sa","So"),"") -> Mo | F27: =IF(OR(C27="",D27=""),"",MAX(0,MOD(D27-C27,1)-N(E27)/1440)) | G27: =IF(F27="","",MIN(F27,$C$6/24)) | H27: =IF(F27="","",F27-G27)
A28: =IF(19<=DAY(DATE($I$5,$I$4+1,0)),DATE($I$5,$I$4,19),"") -> 46406 | B28: =IF(ISNUMBER(A28),CHOOSE(WEEKDAY(A28,2),"Mo","Di","Mi","Do","Fr","Sa","So"),"") -> Di | F28: =IF(OR(C28="",D28=""),"",MAX(0,MOD(D28-C28,1)-N(E28)/1440)) | G28: =IF(F28="","",MIN(F28,$C$6/24)) | H28: =IF(F28="","",F28-G28)
A29: =IF(20<=DAY(DATE($I$5,$I$4+1,0)),DATE($I$5,$I$4,20),"") -> 46407 | B29: =IF(ISNUMBER(A29),CHOOSE(WEEKDAY(A29,2),"Mo","Di","Mi","Do","Fr","Sa","So"),"") -> Mi | F29: =IF(OR(C29="",D29=""),"",MAX(0,MOD(D29-C29,1)-N(E29)/1440)) | G29: =IF(F29="","",MIN(F29,$C$6/24)) | H29: =IF(F29="","",F29-G29)
A30: =IF(21<=DAY(DATE($I$5,$I$4+1,0)),DATE($I$5,$I$4,21),"") -> 46408 | B30: =IF(ISNUMBER(A30),CHOOSE(WEEKDAY(A30,2),"Mo","Di","Mi","Do","Fr","Sa","So"),"") -> Do | F30: =IF(OR(C30="",D30=""),"",MAX(0,MOD(D30-C30,1)-N(E30)/1440)) | G30: =IF(F30="","",MIN(F30,$C$6/24)) | H30: =IF(F30="","",F30-G30)
A31: =IF(22<=DAY(DATE($I$5,$I$4+1,0)),DATE($I$5,$I$4,22),"") -> 46409 | B31: =IF(ISNUMBER(A31),CHOOSE(WEEKDAY(A31,2),"Mo","Di","Mi","Do","Fr","Sa","So"),"") -> Fr | F31: =IF(OR(C31="",D31=""),"",MAX(0,MOD(D31-C31,1)-N(E31)/1440)) | G31: =IF(F31="","",MIN(F31,$C$6/24)) | H31: =IF(F31="","",F31-G31)
A32: =IF(23<=DAY(DATE($I$5,$I$4+1,0)),DATE($I$5,$I$4,23),"") -> 46410 | B32: =IF(ISNUMBER(A32),CHOOSE(WEEKDAY(A32,2),"Mo","Di","Mi","Do","Fr","Sa","So"),"") -> Sa | F32: =IF(OR(C32="",D32=""),"",MAX(0,MOD(D32-C32,1)-N(E32)/1440)) | G32: =IF(F32="","",MIN(F32,$C$6/24)) | H32: =IF(F32="","",F32-G32)
A33: =IF(24<=DAY(DATE($I$5,$I$4+1,0)),DATE($I$5,$I$4,24),"") -> 46411 | B33: =IF(ISNUMBER(A33),CHOOSE(WEEKDAY(A33,2),"Mo","Di","Mi","Do","Fr","Sa","So"),"") -> So | F33: =IF(OR(C33="",D33=""),"",MAX(0,MOD(D33-C33,1)-N(E33)/1440)) | G33: =IF(F33="","",MIN(F33,$C$6/24)) | H33: =IF(F33="","",F33-G33)
A34: =IF(25<=DAY(DATE($I$5,$I$4+1,0)),DATE($I$5,$I$4,25),"") -> 46412 | B34: =IF(ISNUMBER(A34),CHOOSE(WEEKDAY(A34,2),"Mo","Di","Mi","Do","Fr","Sa","So"),"") -> Mo | F34: =IF(OR(C34="",D34=""),"",MAX(0,MOD(D34-C34,1)-N(E34)/1440)) | G34: =IF(F34="","",MIN(F34,$C$6/24)) | H34: =IF(F34="","",F34-G34)
A35: =IF(26<=DAY(DATE($I$5,$I$4+1,0)),DATE($I$5,$I$4,26),"") -> 46413 | B35: =IF(ISNUMBER(A35),CHOOSE(WEEKDAY(A35,2),"Mo","Di","Mi","Do","Fr","Sa","So"),"") -> Di | F35: =IF(OR(C35="",D35=""),"",MAX(0,MOD(D35-C35,1)-N(E35)/1440)) | G35: =IF(F35="","",MIN(F35,$C$6/24)) | H35: =IF(F35="","",F35-G35)
A36: =IF(27<=DAY(DATE($I$5,$I$4+1,0)),DATE($I$5,$I$4,27),"") -> 46414 | B36: =IF(ISNUMBER(A36),CHOOSE(WEEKDAY(A36,2),"Mo","Di","Mi","Do","Fr","Sa","So"),"") -> Mi | F36: =IF(OR(C36="",D36=""),"",MAX(0,MOD(D36-C36,1)-N(E36)/1440)) | G36: =IF(F36="","",MIN(F36,$C$6/24)) | H36: =IF(F36="","",F36-G36)
A37: =IF(28<=DAY(DATE($I$5,$I$4+1,0)),DATE($I$5,$I$4,28),"") -> 46415 | B37: =IF(ISNUMBER(A37),CHOOSE(WEEKDAY(A37,2),"Mo","Di","Mi","Do","Fr","Sa","So"),"") -> Do | F37: =IF(OR(C37="",D37=""),"",MAX(0,MOD(D37-C37,1)-N(E37)/1440)) | G37: =IF(F37="","",MIN(F37,$C$6/24)) | H37: =IF(F37="","",F37-G37)
A38: =IF(29<=DAY(DATE($I$5,$I$4+1,0)),DATE($I$5,$I$4,29),"") -> 46416 | B38: =IF(ISNUMBER(A38),CHOOSE(WEEKDAY(A38,2),"Mo","Di","Mi","Do","Fr","Sa","So"),"") -> Fr | F38: =IF(OR(C38="",D38=""),"",MAX(0,MOD(D38-C38,1)-N(E38)/1440)) | G38: =IF(F38="","",MIN(F38,$C$6/24)) | H38: =IF(F38="","",F38-G38)
A39: =IF(30<=DAY(DATE($I$5,$I$4+1,0)),DATE($I$5,$I$4,30),"") -> 46417 | B39: =IF(ISNUMBER(A39),CHOOSE(WEEKDAY(A39,2),"Mo","Di","Mi","Do","Fr","Sa","So"),"") -> Sa | F39: =IF(OR(C39="",D39=""),"",MAX(0,MOD(D39-C39,1)-N(E39)/1440)) | G39: =IF(F39="","",MIN(F39,$C$6/24)) | H39: =IF(F39="","",F39-G39)
A40: =IF(31<=DAY(DATE($I$5,$I$4+1,0)),DATE($I$5,$I$4,31),"") -> 46418 | B40: =IF(ISNUMBER(A40),CHOOSE(WEEKDAY(A40,2),"Mo","Di","Mi","Do","Fr","Sa","So"),"") -> So | F40: =IF(OR(C40="",D40=""),"",MAX(0,MOD(D40-C40,1)-N(E40)/1440)) | G40: =IF(F40="","",MIN(F40,$C$6/24)) | H40: =IF(F40="","",F40-G40)
A41: Summe Monat | F41: =SUM(F10:F40) -> 0 | G41: =SUM(G10:G40) -> 0 | H41: =SUM(H10:H40) -> 0 | I41: =COUNTA(I10:I40) -> 0
A43: Monatsübersicht
A44: Arbeitsstunden | C44: Reguläre Stunden | E44: Überstunden | G44: Stunden dezimal | I44: Arbeitstage | J44: Kosten (optional)
A45: =F41 -> 0 | C45: =G41 -> 0 | E45: =H41 -> 0 | G45: =F41*24 -> 0 | I45: =COUNTIF(F10:F40,">0") -> 0 | J45: =IF(I6="","",ROUND((G41+H41*(1+N(I7)))*24*I6,2))
A47: Abwesenheiten (Tage)
A48: =INDEX(AbsenceCodes,1)&" · "&INDEX(AbsenceNames,1) -> U · Urlaub | B48: =INDEX(AbsenceCodes,2)&" · "&INDEX(AbsenceNames,2) -> SU · Sonderurlaub | C48: =INDEX(AbsenceCodes,3)&" · "&INDEX(AbsenceNames,3) -> K · Krankheit | D48: =INDEX(AbsenceCodes,4)&" · "&INDEX(AbsenceNames,4) -> ZA · Zeitausgleich | E48: =INDEX(AbsenceCodes,5)&" · "&INDEX(AbsenceNames,5) -> UF · Arbeitsunfall | F48: =INDEX(AbsenceCodes,6)&" · "&INDEX(AbsenceNames,6) -> EZ · Elternzeit | G48: =INDEX(AbsenceCodes,7)&" · "&INDEX(AbsenceNames,7) -> R · Ruhetag | H48: Feiertage im Zeitraum
A49: =COUNTIF($I$10:$I$40,INDEX(AbsenceCodes,1)) -> 0 | B49: =COUNTIF($I$10:$I$40,INDEX(AbsenceCodes,2)) -> 0 | C49: =COUNTIF($I$10:$I$40,INDEX(AbsenceCodes,3)) -> 0 | D49: =COUNTIF($I$10:$I$40,INDEX(AbsenceCodes,4)) -> 0 | E49: =COUNTIF($I$10:$I$40,INDEX(AbsenceCodes,5)) -> 0 | F49: =COUNTIF($I$10:$I$40,INDEX(AbsenceCodes,6)) -> 0 | G49: =COUNTIF($I$10:$I$40,INDEX(AbsenceCodes,7)) -> 0 | H49: =SUMPRODUCT(ISNUMBER(A10:A40)*ISNUMBER(MATCH(A10:A40,Holidays,0))) -> 1
A51: Mitarbeiter/in und Arbeitgeber bestätigen, dass die eingetragenen Stunden den tatsächlich geleisteten entsprechen.
A53: Unterschrift Mitarbeiter/in: ______________________________ | F53: Unterschrift Arbeitgeber: ______________________________
A54: Datum: ____ / ____ / ________

Sheet Februar
A1: Stundenzettel Jahr · Februar
A2: Kostenlose Vorlage von NoBadge · hellviolette Zellen = ausfüllen · graue Zellen = berechnet, nicht überschreiben
A4: Mitarbeiter/in | C4: =IF(Jahresübersicht!$C$5="","",Jahresübersicht!$C$5) | G4: Monat (1-12) | I4: 2 | J4: =IF(AND(ISNUMBER($I$4),$I$4>=1,$I$4<=12),CHOOSE($I$4,"Januar","Februar","März","April","Mai","Juni","Juli","August","September","Oktober","November","Dezember")&" "&$I$5,"") -> Februar 2027
A5: Tätigkeit / Abteilung | C5: =IF(Jahresübersicht!$C$6="","",Jahresübersicht!$C$6) | G5: Jahr | I5: =Jahresübersicht!$I$5 -> 2027
A6: Regelarbeitszeit pro Tag (Std.) | C6: =Jahresübersicht!$I$6 -> 8 | D6: darüber = Überstunden | G6: Stundenlohn (optional) | I6: =IF(Jahresübersicht!$C$7="","",Jahresübersicht!$C$7)
G7: Überstundenzuschlag (optional) | I7: =IF(Jahresübersicht!$I$7="","",Jahresübersicht!$I$7)
A9: Datum | B9: Tag | C9: Beginn | D9: Ende | E9: Pause (Min.) | F9: Arbeits- zeit | G9: Regulär | H9: Überstunden | I9: Abwesenheit | J9: Notizen
A10: =IF(1<=DAY(DATE($I$5,$I$4+1,0)),DATE($I$5,$I$4,1),"") -> 46419 | B10: =IF(ISNUMBER(A10),CHOOSE(WEEKDAY(A10,2),"Mo","Di","Mi","Do","Fr","Sa","So"),"") -> Mo | F10: =IF(OR(C10="",D10=""),"",MAX(0,MOD(D10-C10,1)-N(E10)/1440)) | G10: =IF(F10="","",MIN(F10,$C$6/24)) | H10: =IF(F10="","",F10-G10)
A11: =IF(2<=DAY(DATE($I$5,$I$4+1,0)),DATE($I$5,$I$4,2),"") -> 46420 | B11: =IF(ISNUMBER(A11),CHOOSE(WEEKDAY(A11,2),"Mo","Di","Mi","Do","Fr","Sa","So"),"") -> Di | F11: =IF(OR(C11="",D11=""),"",MAX(0,MOD(D11-C11,1)-N(E11)/1440)) | G11: =IF(F11="","",MIN(F11,$C$6/24)) | H11: =IF(F11="","",F11-G11)
A12: =IF(3<=DAY(DATE($I$5,$I$4+1,0)),DATE($I$5,$I$4,3),"") -> 46421 | B12: =IF(ISNUMBER(A12),CHOOSE(WEEKDAY(A12,2),"Mo","Di","Mi","Do","Fr","Sa","So"),"") -> Mi | F12: =IF(OR(C12="",D12=""),"",MAX(0,MOD(D12-C12,1)-N(E12)/1440)) | G12: =IF(F12="","",MIN(F12,$C$6/24)) | H12: =IF(F12="","",F12-G12)
A13: =IF(4<=DAY(DATE($I$5,$I$4+1,0)),DATE($I$5,$I$4,4),"") -> 46422 | B13: =IF(ISNUMBER(A13),CHOOSE(WEEKDAY(A13,2),"Mo","Di","Mi","Do","Fr","Sa","So"),"") -> Do | F13: =IF(OR(C13="",D13=""),"",MAX(0,MOD(D13-C13,1)-N(E13)/1440)) | G13: =IF(F13="","",MIN(F13,$C$6/24)) | H13: =IF(F13="","",F13-G13)
A14: =IF(5<=DAY(DATE($I$5,$I$4+1,0)),DATE($I$5,$I$4,5),"") -> 46423 | B14: =IF(ISNUMBER(A14),CHOOSE(WEEKDAY(A14,2),"Mo","Di","Mi","Do","Fr","Sa","So"),"") -> Fr | F14: =IF(OR(C14="",D14=""),"",MAX(0,MOD(D14-C14,1)-N(E14)/1440)) | G14: =IF(F14="","",MIN(F14,$C$6/24)) | H14: =IF(F14="","",F14-G14)
A15: =IF(6<=DAY(DATE($I$5,$I$4+1,0)),DATE($I$5,$I$4,6),"") -> 46424 | B15: =IF(ISNUMBER(A15),CHOOSE(WEEKDAY(A15,2),"Mo","Di","Mi","Do","Fr","Sa","So"),"") -> Sa | F15: =IF(OR(C15="",D15=""),"",MAX(0,MOD(D15-C15,1)-N(E15)/1440)) | G15: =IF(F15="","",MIN(F15,$C$6/24)) | H15: =IF(F15="","",F15-G15)
A16: =IF(7<=DAY(DATE($I$5,$I$4+1,0)),DATE($I$5,$I$4,7),"") -> 46425 | B16: =IF(ISNUMBER(A16),CHOOSE(WEEKDAY(A16,2),"Mo","Di","Mi","Do","Fr","Sa","So"),"") -> So | F16: =IF(OR(C16="",D16=""),"",MAX(0,MOD(D16-C16,1)-N(E16)/1440)) | G16: =IF(F16="","",MIN(F16,$C$6/24)) | H16: =IF(F16="","",F16-G16)
A17: =IF(8<=DAY(DATE($I$5,$I$4+1,0)),DATE($I$5,$I$4,8),"") -> 46426 | B17: =IF(ISNUMBER(A17),CHOOSE(WEEKDAY(A17,2),"Mo","Di","Mi","Do","Fr","Sa","So"),"") -> Mo | F17: =IF(OR(C17="",D17=""),"",MAX(0,MOD(D17-C17,1)-N(E17)/1440)) | G17: =IF(F17="","",MIN(F17,$C$6/24)) | H17: =IF(F17="","",F17-G17)
A18: =IF(9<=DAY(DATE($I$5,$I$4+1,0)),DATE($I$5,$I$4,9),"") -> 46427 | B18: =IF(ISNUMBER(A18),CHOOSE(WEEKDAY(A18,2),"Mo","Di","Mi","Do","Fr","Sa","So"),"") -> Di | F18: =IF(OR(C18="",D18=""),"",MAX(0,MOD(D18-C18,1)-N(E18)/1440)) | G18: =IF(F18="","",MIN(F18,$C$6/24)) | H18: =IF(F18="","",F18-G18)
A19: =IF(10<=DAY(DATE($I$5,$I$4+1,0)),DATE($I$5,$I$4,10),"") -> 46428 | B19: =IF(ISNUMBER(A19),CHOOSE(WEEKDAY(A19,2),"Mo","Di","Mi","Do","Fr","Sa","So"),"") -> Mi | F19: =IF(OR(C19="",D19=""),"",MAX(0,MOD(D19-C19,1)-N(E19)/1440)) | G19: =IF(F19="","",MIN(F19,$C$6/24)) | H19: =IF(F19="","",F19-G19)
A20: =IF(11<=DAY(DATE($I$5,$I$4+1,0)),DATE($I$5,$I$4,11),"") -> 46429 | B20: =IF(ISNUMBER(A20),CHOOSE(WEEKDAY(A20,2),"Mo","Di","Mi","Do","Fr","Sa","So"),"") -> Do | F20: =IF(OR(C20="",D20=""),"",MAX(0,MOD(D20-C20,1)-N(E20)/1440)) | G20: =IF(F20="","",MIN(F20,$C$6/24)) | H20: =IF(F20="","",F20-G20)
A21: =IF(12<=DAY(DATE($I$5,$I$4+1,0)),DATE($I$5,$I$4,12),"") -> 46430 | B21: =IF(ISNUMBER(A21),CHOOSE(WEEKDAY(A21,2),"Mo","Di","Mi","Do","Fr","Sa","So"),"") -> Fr | F21: =IF(OR(C21="",D21=""),"",MAX(0,MOD(D21-C21,1)-N(E21)/1440)) | G21: =IF(F21="","",MIN(F21,$C$6/24)) | H21: =IF(F21="","",F21-G21)
A22: =IF(13<=DAY(DATE($I$5,$I$4+1,0)),DATE($I$5,$I$4,13),"") -> 46431 | B22: =IF(ISNUMBER(A22),CHOOSE(WEEKDAY(A22,2),"Mo","Di","Mi","Do","Fr","Sa","So"),"") -> Sa | F22: =IF(OR(C22="",D22=""),"",MAX(0,MOD(D22-C22,1)-N(E22)/1440)) | G22: =IF(F22="","",MIN(F22,$C$6/24)) | H22: =IF(F22="","",F22-G22)
A23: =IF(14<=DAY(DATE($I$5,$I$4+1,0)),DATE($I$5,$I$4,14),"") -> 46432 | B23: =IF(ISNUMBER(A23),CHOOSE(WEEKDAY(A23,2),"Mo","Di","Mi","Do","Fr","Sa","So"),"") -> So | F23: =IF(OR(C23="",D23=""),"",MAX(0,MOD(D23-C23,1)-N(E23)/1440)) | G23: =IF(F23="","",MIN(F23,$C$6/24)) | H23: =IF(F23="","",F23-G23)
A24: =IF(15<=DAY(DATE($I$5,$I$4+1,0)),DATE($I$5,$I$4,15),"") -> 46433 | B24: =IF(ISNUMBER(A24),CHOOSE(WEEKDAY(A24,2),"Mo","Di","Mi","Do","Fr","Sa","So"),"") -> Mo | F24: =IF(OR(C24="",D24=""),"",MAX(0,MOD(D24-C24,1)-N(E24)/1440)) | G24: =IF(F24="","",MIN(F24,$C$6/24)) | H24: =IF(F24="","",F24-G24)
A25: =IF(16<=DAY(DATE($I$5,$I$4+1,0)),DATE($I$5,$I$4,16),"") -> 46434 | B25: =IF(ISNUMBER(A25),CHOOSE(WEEKDAY(A25,2),"Mo","Di","Mi","Do","Fr","Sa","So"),"") -> Di | F25: =IF(OR(C25="",D25=""),"",MAX(0,MOD(D25-C25,1)-N(E25)/1440)) | G25: =IF(F25="","",MIN(F25,$C$6/24)) | H25: =IF(F25="","",F25-G25)
A26: =IF(17<=DAY(DATE($I$5,$I$4+1,0)),DATE($I$5,$I$4,17),"") -> 46435 | B26: =IF(ISNUMBER(A26),CHOOSE(WEEKDAY(A26,2),"Mo","Di","Mi","Do","Fr","Sa","So"),"") -> Mi | F26: =IF(OR(C26="",D26=""),"",MAX(0,MOD(D26-C26,1)-N(E26)/1440)) | G26: =IF(F26="","",MIN(F26,$C$6/24)) | H26: =IF(F26="","",F26-G26)
A27: =IF(18<=DAY(DATE($I$5,$I$4+1,0)),DATE($I$5,$I$4,18),"") -> 46436 | B27: =IF(ISNUMBER(A27),CHOOSE(WEEKDAY(A27,2),"Mo","Di","Mi","Do","Fr","Sa","So"),"") -> Do | F27: =IF(OR(C27="",D27=""),"",MAX(0,MOD(D27-C27,1)-N(E27)/1440)) | G27: =IF(F27="","",MIN(F27,$C$6/24)) | H27: =IF(F27="","",F27-G27)
A28: =IF(19<=DAY(DATE($I$5,$I$4+1,0)),DATE($I$5,$I$4,19),"") -> 46437 | B28: =IF(ISNUMBER(A28),CHOOSE(WEEKDAY(A28,2),"Mo","Di","Mi","Do","Fr","Sa","So"),"") -> Fr | F28: =IF(OR(C28="",D28=""),"",MAX(0,MOD(D28-C28,1)-N(E28)/1440)) | G28: =IF(F28="","",MIN(F28,$C$6/24)) | H28: =IF(F28="","",F28-G28)
A29: =IF(20<=DAY(DATE($I$5,$I$4+1,0)),DATE($I$5,$I$4,20),"") -> 46438 | B29: =IF(ISNUMBER(A29),CHOOSE(WEEKDAY(A29,2),"Mo","Di","Mi","Do","Fr","Sa","So"),"") -> Sa | F29: =IF(OR(C29="",D29=""),"",MAX(0,MOD(D29-C29,1)-N(E29)/1440)) | G29: =IF(F29="","",MIN(F29,$C$6/24)) | H29: =IF(F29="","",F29-G29)
A30: =IF(21<=DAY(DATE($I$5,$I$4+1,0)),DATE($I$5,$I$4,21),"") -> 46439 | B30: =IF(ISNUMBER(A30),CHOOSE(WEEKDAY(A30,2),"Mo","Di","Mi","Do","Fr","Sa","So"),"") -> So | F30: =IF(OR(C30="",D30=""),"",MAX(0,MOD(D30-C30,1)-N(E30)/1440)) | G30: =IF(F30="","",MIN(F30,$C$6/24)) | H30: =IF(F30="","",F30-G30)
A31: =IF(22<=DAY(DATE($I$5,$I$4+1,0)),DATE($I$5,$I$4,22),"") -> 46440 | B31: =IF(ISNUMBER(A31),CHOOSE(WEEKDAY(A31,2),"Mo","Di","Mi","Do","Fr","Sa","So"),"") -> Mo | F31: =IF(OR(C31="",D31=""),"",MAX(0,MOD(D31-C31,1)-N(E31)/1440)) | G31: =IF(F31="","",MIN(F31,$C$6/24)) | H31: =IF(F31="","",F31-G31)
A32: =IF(23<=DAY(DATE($I$5,$I$4+1,0)),DATE($I$5,$I$4,23),"") -> 46441 | B32: =IF(ISNUMBER(A32),CHOOSE(WEEKDAY(A32,2),"Mo","Di","Mi","Do","Fr","Sa","So"),"") -> Di | F32: =IF(OR(C32="",D32=""),"",MAX(0,MOD(D32-C32,1)-N(E32)/1440)) | G32: =IF(F32="","",MIN(F32,$C$6/24)) | H32: =IF(F32="","",F32-G32)
A33: =IF(24<=DAY(DATE($I$5,$I$4+1,0)),DATE($I$5,$I$4,24),"") -> 46442 | B33: =IF(ISNUMBER(A33),CHOOSE(WEEKDAY(A33,2),"Mo","Di","Mi","Do","Fr","Sa","So"),"") -> Mi | F33: =IF(OR(C33="",D33=""),"",MAX(0,MOD(D33-C33,1)-N(E33)/1440)) | G33: =IF(F33="","",MIN(F33,$C$6/24)) | H33: =IF(F33="","",F33-G33)
A34: =IF(25<=DAY(DATE($I$5,$I$4+1,0)),DATE($I$5,$I$4,25),"") -> 46443 | B34: =IF(ISNUMBER(A34),CHOOSE(WEEKDAY(A34,2),"Mo","Di","Mi","Do","Fr","Sa","So"),"") -> Do | F34: =IF(OR(C34="",D34=""),"",MAX(0,MOD(D34-C34,1)-N(E34)/1440)) | G34: =IF(F34="","",MIN(F34,$C$6/24)) | H34: =IF(F34="","",F34-G34)
A35: =IF(26<=DAY(DATE($I$5,$I$4+1,0)),DATE($I$5,$I$4,26),"") -> 46444 | B35: =IF(ISNUMBER(A35),CHOOSE(WEEKDAY(A35,2),"Mo","Di","Mi","Do","Fr","Sa","So"),"") -> Fr | F35: =IF(OR(C35="",D35=""),"",MAX(0,MOD(D35-C35,1)-N(E35)/1440)) | G35: =IF(F35="","",MIN(F35,$C$6/24)) | H35: =IF(F35="","",F35-G35)
A36: =IF(27<=DAY(DATE($I$5,$I$4+1,0)),DATE($I$5,$I$4,27),"") -> 46445 | B36: =IF(ISNUMBER(A36),CHOOSE(WEEKDAY(A36,2),"Mo","Di","Mi","Do","Fr","Sa","So"),"") -> Sa | F36: =IF(OR(C36="",D36=""),"",MAX(0,MOD(D36-C36,1)-N(E36)/1440)) | G36: =IF(F36="","",MIN(F36,$C$6/24)) | H36: =IF(F36="","",F36-G36)
A37: =IF(28<=DAY(DATE($I$5,$I$4+1,0)),DATE($I$5,$I$4,28),"") -> 46446 | B37: =IF(ISNUMBER(A37),CHOOSE(WEEKDAY(A37,2),"Mo","Di","Mi","Do","Fr","Sa","So"),"") -> So | F37: =IF(OR(C37="",D37=""),"",MAX(0,MOD(D37-C37,1)-N(E37)/1440)) | G37: =IF(F37="","",MIN(F37,$C$6/24)) | H37: =IF(F37="","",F37-G37)
A38: =IF(29<=DAY(DATE($I$5,$I$4+1,0)),DATE($I$5,$I$4,29),"") | B38: =IF(ISNUMBER(A38),CHOOSE(WEEKDAY(A38,2),"Mo","Di","Mi","Do","Fr","Sa","So"),"") | F38: =IF(OR(C38="",D38=""),"",MAX(0,MOD(D38-C38,1)-N(E38)/1440)) | G38: =IF(F38="","",MIN(F38,$C$6/24)) | H38: =IF(F38="","",F38-G38)
A39: =IF(30<=DAY(DATE($I$5,$I$4+1,0)),DATE($I$5,$I$4,30),"") | B39: =IF(ISNUMBER(A39),CHOOSE(WEEKDAY(A39,2),"Mo","Di","Mi","Do","Fr","Sa","So"),"") | F39: =IF(OR(C39="",D39=""),"",MAX(0,MOD(D39-C39,1)-N(E39)/1440)) | G39: =IF(F39="","",MIN(F39,$C$6/24)) | H39: =IF(F39="","",F39-G39)
A40: =IF(31<=DAY(DATE($I$5,$I$4+1,0)),DATE($I$5,$I$4,31),"") | B40: =IF(ISNUMBER(A40),CHOOSE(WEEKDAY(A40,2),"Mo","Di","Mi","Do","Fr","Sa","So"),"") | F40: =IF(OR(C40="",D40=""),"",MAX(0,MOD(D40-C40,1)-N(E40)/1440)) | G40: =IF(F40="","",MIN(F40,$C$6/24)) | H40: =IF(F40="","",F40-G40)
A41: Summe Monat | F41: =SUM(F10:F40) -> 0 | G41: =SUM(G10:G40) -> 0 | H41: =SUM(H10:H40) -> 0 | I41: =COUNTA(I10:I40) -> 0
A43: Monatsübersicht
A44: Arbeitsstunden | C44: Reguläre Stunden | E44: Überstunden | G44: Stunden dezimal | I44: Arbeitstage | J44: Kosten (optional)
A45: =F41 -> 0 | C45: =G41 -> 0 | E45: =H41 -> 0 | G45: =F41*24 -> 0 | I45: =COUNTIF(F10:F40,">0") -> 0 | J45: =IF(I6="","",ROUND((G41+H41*(1+N(I7)))*24*I6,2))
A47: Abwesenheiten (Tage)
A48: =INDEX(AbsenceCodes,1)&" · "&INDEX(AbsenceNames,1) -> U · Urlaub | B48: =INDEX(AbsenceCodes,2)&" · "&INDEX(AbsenceNames,2) -> SU · Sonderurlaub | C48: =INDEX(AbsenceCodes,3)&" · "&INDEX(AbsenceNames,3) -> K · Krankheit | D48: =INDEX(AbsenceCodes,4)&" · "&INDEX(AbsenceNames,4) -> ZA · Zeitausgleich | E48: =INDEX(AbsenceCodes,5)&" · "&INDEX(AbsenceNames,5) -> UF · Arbeitsunfall | F48: =INDEX(AbsenceCodes,6)&" · "&INDEX(AbsenceNames,6) -> EZ · Elternzeit | G48: =INDEX(AbsenceCodes,7)&" · "&INDEX(AbsenceNames,7) -> R · Ruhetag | H48: Feiertage im Zeitraum
A49: =COUNTIF($I$10:$I$40,INDEX(AbsenceCodes,1)) -> 0 | B49: =COUNTIF($I$10:$I$40,INDEX(AbsenceCodes,2)) -> 0 | C49: =COUNTIF($I$10:$I$40,INDEX(AbsenceCodes,3)) -> 0 | D49: =COUNTIF($I$10:$I$40,INDEX(AbsenceCodes,4)) -> 0 | E49: =COUNTIF($I$10:$I$40,INDEX(AbsenceCodes,5)) -> 0 | F49: =COUNTIF($I$10:$I$40,INDEX(AbsenceCodes,6)) -> 0 | G49: =COUNTIF($I$10:$I$40,INDEX(AbsenceCodes,7)) -> 0 | H49: =SUMPRODUCT(ISNUMBER(A10:A40)*ISNUMBER(MATCH(A10:A40,Holidays,0))) -> 0
A51: Mitarbeiter/in und Arbeitgeber bestätigen, dass die eingetragenen Stunden den tatsächlich geleisteten entsprechen.
A53: Unterschrift Mitarbeiter/in: ______________________________ | F53: Unterschrift Arbeitgeber: ______________________________
A54: Datum: ____ / ____ / ________

Sheet März
A1: Stundenzettel Jahr · März
A2: Kostenlose Vorlage von NoBadge · hellviolette Zellen = ausfüllen · graue Zellen = berechnet, nicht überschreiben
A4: Mitarbeiter/in | C4: =IF(Jahresübersicht!$C$5="","",Jahresübersicht!$C$5) | G4: Monat (1-12) | I4: 3 | J4: =IF(AND(ISNUMBER($I$4),$I$4>=1,$I$4<=12),CHOOSE($I$4,"Januar","Februar","März","April","Mai","Juni","Juli","August","September","Oktober","November","Dezember")&" "&$I$5,"") -> März 2027
A5: Tätigkeit / Abteilung | C5: =IF(Jahresübersicht!$C$6="","",Jahresübersicht!$C$6) | G5: Jahr | I5: =Jahresübersicht!$I$5 -> 2027
A6: Regelarbeitszeit pro Tag (Std.) | C6: =Jahresübersicht!$I$6 -> 8 | D6: darüber = Überstunden | G6: Stundenlohn (optional) | I6: =IF(Jahresübersicht!$C$7="","",Jahresübersicht!$C$7)
G7: Überstundenzuschlag (optional) | I7: =IF(Jahresübersicht!$I$7="","",Jahresübersicht!$I$7)
A9: Datum | B9: Tag | C9: Beginn | D9: Ende | E9: Pause (Min.) | F9: Arbeits- zeit | G9: Regulär | H9: Überstunden | I9: Abwesenheit | J9: Notizen
A10: =IF(1<=DAY(DATE($I$5,$I$4+1,0)),DATE($I$5,$I$4,1),"") -> 46447 | B10: =IF(ISNUMBER(A10),CHOOSE(WEEKDAY(A10,2),"Mo","Di","Mi","Do","Fr","Sa","So"),"") -> Mo | F10: =IF(OR(C10="",D10=""),"",MAX(0,MOD(D10-C10,1)-N(E10)/1440)) | G10: =IF(F10="","",MIN(F10,$C$6/24)) | H10: =IF(F10="","",F10-G10)
A11: =IF(2<=DAY(DATE($I$5,$I$4+1,0)),DATE($I$5,$I$4,2),"") -> 46448 | B11: =IF(ISNUMBER(A11),CHOOSE(WEEKDAY(A11,2),"Mo","Di","Mi","Do","Fr","Sa","So"),"") -> Di | F11: =IF(OR(C11="",D11=""),"",MAX(0,MOD(D11-C11,1)-N(E11)/1440)) | G11: =IF(F11="","",MIN(F11,$C$6/24)) | H11: =IF(F11="","",F11-G11)
A12: =IF(3<=DAY(DATE($I$5,$I$4+1,0)),DATE($I$5,$I$4,3),"") -> 46449 | B12: =IF(ISNUMBER(A12),CHOOSE(WEEKDAY(A12,2),"Mo","Di","Mi","Do","Fr","Sa","So"),"") -> Mi | F12: =IF(OR(C12="",D12=""),"",MAX(0,MOD(D12-C12,1)-N(E12)/1440)) | G12: =IF(F12="","",MIN(F12,$C$6/24)) | H12: =IF(F12="","",F12-G12)
A13: =IF(4<=DAY(DATE($I$5,$I$4+1,0)),DATE($I$5,$I$4,4),"") -> 46450 | B13: =IF(ISNUMBER(A13),CHOOSE(WEEKDAY(A13,2),"Mo","Di","Mi","Do","Fr","Sa","So"),"") -> Do | F13: =IF(OR(C13="",D13=""),"",MAX(0,MOD(D13-C13,1)-N(E13)/1440)) | G13: =IF(F13="","",MIN(F13,$C$6/24)) | H13: =IF(F13="","",F13-G13)
A14: =IF(5<=DAY(DATE($I$5,$I$4+1,0)),DATE($I$5,$I$4,5),"") -> 46451 | B14: =IF(ISNUMBER(A14),CHOOSE(WEEKDAY(A14,2),"Mo","Di","Mi","Do","Fr","Sa","So"),"") -> Fr | F14: =IF(OR(C14="",D14=""),"",MAX(0,MOD(D14-C14,1)-N(E14)/1440)) | G14: =IF(F14="","",MIN(F14,$C$6/24)) | H14: =IF(F14="","",F14-G14)
A15: =IF(6<=DAY(DATE($I$5,$I$4+1,0)),DATE($I$5,$I$4,6),"") -> 46452 | B15: =IF(ISNUMBER(A15),CHOOSE(WEEKDAY(A15,2),"Mo","Di","Mi","Do","Fr","Sa","So"),"") -> Sa | F15: =IF(OR(C15="",D15=""),"",MAX(0,MOD(D15-C15,1)-N(E15)/1440)) | G15: =IF(F15="","",MIN(F15,$C$6/24)) | H15: =IF(F15="","",F15-G15)
A16: =IF(7<=DAY(DATE($I$5,$I$4+1,0)),DATE($I$5,$I$4,7),"") -> 46453 | B16: =IF(ISNUMBER(A16),CHOOSE(WEEKDAY(A16,2),"Mo","Di","Mi","Do","Fr","Sa","So"),"") -> So | F16: =IF(OR(C16="",D16=""),"",MAX(0,MOD(D16-C16,1)-N(E16)/1440)) | G16: =IF(F16="","",MIN(F16,$C$6/24)) | H16: =IF(F16="","",F16-G16)
A17: =IF(8<=DAY(DATE($I$5,$I$4+1,0)),DATE($I$5,$I$4,8),"") -> 46454 | B17: =IF(ISNUMBER(A17),CHOOSE(WEEKDAY(A17,2),"Mo","Di","Mi","Do","Fr","Sa","So"),"") -> Mo | F17: =IF(OR(C17="",D17=""),"",MAX(0,MOD(D17-C17,1)-N(E17)/1440)) | G17: =IF(F17="","",MIN(F17,$C$6/24)) | H17: =IF(F17="","",F17-G17)
A18: =IF(9<=DAY(DATE($I$5,$I$4+1,0)),DATE($I$5,$I$4,9),"") -> 46455 | B18: =IF(ISNUMBER(A18),CHOOSE(WEEKDAY(A18,2),"Mo","Di","Mi","Do","Fr","Sa","So"),"") -> Di | F18: =IF(OR(C18="",D18=""),"",MAX(0,MOD(D18-C18,1)-N(E18)/1440)) | G18: =IF(F18="","",MIN(F18,$C$6/24)) | H18: =IF(F18="","",F18-G18)
A19: =IF(10<=DAY(DATE($I$5,$I$4+1,0)),DATE($I$5,$I$4,10),"") -> 46456 | B19: =IF(ISNUMBER(A19),CHOOSE(WEEKDAY(A19,2),"Mo","Di","Mi","Do","Fr","Sa","So"),"") -> Mi | F19: =IF(OR(C19="",D19=""),"",MAX(0,MOD(D19-C19,1)-N(E19)/1440)) | G19: =IF(F19="","",MIN(F19,$C$6/24)) | H19: =IF(F19="","",F19-G19)
A20: =IF(11<=DAY(DATE($I$5,$I$4+1,0)),DATE($I$5,$I$4,11),"") -> 46457 | B20: =IF(ISNUMBER(A20),CHOOSE(WEEKDAY(A20,2),"Mo","Di","Mi","Do","Fr","Sa","So"),"") -> Do | F20: =IF(OR(C20="",D20=""),"",MAX(0,MOD(D20-C20,1)-N(E20)/1440)) | G20: =IF(F20="","",MIN(F20,$C$6/24)) | H20: =IF(F20="","",F20-G20)
A21: =IF(12<=DAY(DATE($I$5,$I$4+1,0)),DATE($I$5,$I$4,12),"") -> 46458 | B21: =IF(ISNUMBER(A21),CHOOSE(WEEKDAY(A21,2),"Mo","Di","Mi","Do","Fr","Sa","So"),"") -> Fr | F21: =IF(OR(C21="",D21=""),"",MAX(0,MOD(D21-C21,1)-N(E21)/1440)) | G21: =IF(F21="","",MIN(F21,$C$6/24)) | H21: =IF(F21="","",F21-G21)
A22: =IF(13<=DAY(DATE($I$5,$I$4+1,0)),DATE($I$5,$I$4,13),"") -> 46459 | B22: =IF(ISNUMBER(A22),CHOOSE(WEEKDAY(A22,2),"Mo","Di","Mi","Do","Fr","Sa","So"),"") -> Sa | F22: =IF(OR(C22="",D22=""),"",MAX(0,MOD(D22-C22,1)-N(E22)/1440)) | G22: =IF(F22="","",MIN(F22,$C$6/24)) | H22: =IF(F22="","",F22-G22)
A23: =IF(14<=DAY(DATE($I$5,$I$4+1,0)),DATE($I$5,$I$4,14),"") -> 46460 | B23: =IF(ISNUMBER(A23),CHOOSE(WEEKDAY(A23,2),"Mo","Di","Mi","Do","Fr","Sa","So"),"") -> So | F23: =IF(OR(C23="",D23=""),"",MAX(0,MOD(D23-C23,1)-N(E23)/1440)) | G23: =IF(F23="","",MIN(F23,$C$6/24)) | H23: =IF(F23="","",F23-G23)
A24: =IF(15<=DAY(DATE($I$5,$I$4+1,0)),DATE($I$5,$I$4,15),"") -> 46461 | B24: =IF(ISNUMBER(A24),CHOOSE(WEEKDAY(A24,2),"Mo","Di","Mi","Do","Fr","Sa","So"),"") -> Mo | F24: =IF(OR(C24="",D24=""),"",MAX(0,MOD(D24-C24,1)-N(E24)/1440)) | G24: =IF(F24="","",MIN(F24,$C$6/24)) | H24: =IF(F24="","",F24-G24)
A25: =IF(16<=DAY(DATE($I$5,$I$4+1,0)),DATE($I$5,$I$4,16),"") -> 46462 | B25: =IF(ISNUMBER(A25),CHOOSE(WEEKDAY(A25,2),"Mo","Di","Mi","Do","Fr","Sa","So"),"") -> Di | F25: =IF(OR(C25="",D25=""),"",MAX(0,MOD(D25-C25,1)-N(E25)/1440)) | G25: =IF(F25="","",MIN(F25,$C$6/24)) | H25: =IF(F25="","",F25-G25)
A26: =IF(17<=DAY(DATE($I$5,$I$4+1,0)),DATE($I$5,$I$4,17),"") -> 46463 | B26: =IF(ISNUMBER(A26),CHOOSE(WEEKDAY(A26,2),"Mo","Di","Mi","Do","Fr","Sa","So"),"") -> Mi | F26: =IF(OR(C26="",D26=""),"",MAX(0,MOD(D26-C26,1)-N(E26)/1440)) | G26: =IF(F26="","",MIN(F26,$C$6/24)) | H26: =IF(F26="","",F26-G26)
A27: =IF(18<=DAY(DATE($I$5,$I$4+1,0)),DATE($I$5,$I$4,18),"") -> 46464 | B27: =IF(ISNUMBER(A27),CHOOSE(WEEKDAY(A27,2),"Mo","Di","Mi","Do","Fr","Sa","So"),"") -> Do | F27: =IF(OR(C27="",D27=""),"",MAX(0,MOD(D27-C27,1)-N(E27)/1440)) | G27: =IF(F27="","",MIN(F27,$C$6/24)) | H27: =IF(F27="","",F27-G27)
A28: =IF(19<=DAY(DATE($I$5,$I$4+1,0)),DATE($I$5,$I$4,19),"") -> 46465 | B28: =IF(ISNUMBER(A28),CHOOSE(WEEKDAY(A28,2),"Mo","Di","Mi","Do","Fr","Sa","So"),"") -> Fr | F28: =IF(OR(C28="",D28=""),"",MAX(0,MOD(D28-C28,1)-N(E28)/1440)) | G28: =IF(F28="","",MIN(F28,$C$6/24)) | H28: =IF(F28="","",F28-G28)
A29: =IF(20<=DAY(DATE($I$5,$I$4+1,0)),DATE($I$5,$I$4,20),"") -> 46466 | B29: =IF(ISNUMBER(A29),CHOOSE(WEEKDAY(A29,2),"Mo","Di","Mi","Do","Fr","Sa","So"),"") -> Sa | F29: =IF(OR(C29="",D29=""),"",MAX(0,MOD(D29-C29,1)-N(E29)/1440)) | G29: =IF(F29="","",MIN(F29,$C$6/24)) | H29: =IF(F29="","",F29-G29)
A30: =IF(21<=DAY(DATE($I$5,$I$4+1,0)),DATE($I$5,$I$4,21),"") -> 46467 | B30: =IF(ISNUMBER(A30),CHOOSE(WEEKDAY(A30,2),"Mo","Di","Mi","Do","Fr","Sa","So"),"") -> So | F30: =IF(OR(C30="",D30=""),"",MAX(0,MOD(D30-C30,1)-N(E30)/1440)) | G30: =IF(F30="","",MIN(F30,$C$6/24)) | H30: =IF(F30="","",F30-G30)
A31: =IF(22<=DAY(DATE($I$5,$I$4+1,0)),DATE($I$5,$I$4,22),"") -> 46468 | B31: =IF(ISNUMBER(A31),CHOOSE(WEEKDAY(A31,2),"Mo","Di","Mi","Do","Fr","Sa","So"),"") -> Mo | F31: =IF(OR(C31="",D31=""),"",MAX(0,MOD(D31-C31,1)-N(E31)/1440)) | G31: =IF(F31="","",MIN(F31,$C$6/24)) | H31: =IF(F31="","",F31-G31)
A32: =IF(23<=DAY(DATE($I$5,$I$4+1,0)),DATE($I$5,$I$4,23),"") -> 46469 | B32: =IF(ISNUMBER(A32),CHOOSE(WEEKDAY(A32,2),"Mo","Di","Mi","Do","Fr","Sa","So"),"") -> Di | F32: =IF(OR(C32="",D32=""),"",MAX(0,MOD(D32-C32,1)-N(E32)/1440)) | G32: =IF(F32="","",MIN(F32,$C$6/24)) | H32: =IF(F32="","",F32-G32)
A33: =IF(24<=DAY(DATE($I$5,$I$4+1,0)),DATE($I$5,$I$4,24),"") -> 46470 | B33: =IF(ISNUMBER(A33),CHOOSE(WEEKDAY(A33,2),"Mo","Di","Mi","Do","Fr","Sa","So"),"") -> Mi | F33: =IF(OR(C33="",D33=""),"",MAX(0,MOD(D33-C33,1)-N(E33)/1440)) | G33: =IF(F33="","",MIN(F33,$C$6/24)) | H33: =IF(F33="","",F33-G33)
A34: =IF(25<=DAY(DATE($I$5,$I$4+1,0)),DATE($I$5,$I$4,25),"") -> 46471 | B34: =IF(ISNUMBER(A34),CHOOSE(WEEKDAY(A34,2),"Mo","Di","Mi","Do","Fr","Sa","So"),"") -> Do | F34: =IF(OR(C34="",D34=""),"",MAX(0,MOD(D34-C34,1)-N(E34)/1440)) | G34: =IF(F34="","",MIN(F34,$C$6/24)) | H34: =IF(F34="","",F34-G34)
A35: =IF(26<=DAY(DATE($I$5,$I$4+1,0)),DATE($I$5,$I$4,26),"") -> 46472 | B35: =IF(ISNUMBER(A35),CHOOSE(WEEKDAY(A35,2),"Mo","Di","Mi","Do","Fr","Sa","So"),"") -> Fr | F35: =IF(OR(C35="",D35=""),"",MAX(0,MOD(D35-C35,1)-N(E35)/1440)) | G35: =IF(F35="","",MIN(F35,$C$6/24)) | H35: =IF(F35="","",F35-G35)
A36: =IF(27<=DAY(DATE($I$5,$I$4+1,0)),DATE($I$5,$I$4,27),"") -> 46473 | B36: =IF(ISNUMBER(A36),CHOOSE(WEEKDAY(A36,2),"Mo","Di","Mi","Do","Fr","Sa","So"),"") -> Sa | F36: =IF(OR(C36="",D36=""),"",MAX(0,MOD(D36-C36,1)-N(E36)/1440)) | G36: =IF(F36="","",MIN(F36,$C$6/24)) | H36: =IF(F36="","",F36-G36)
A37: =IF(28<=DAY(DATE($I$5,$I$4+1,0)),DATE($I$5,$I$4,28),"") -> 46474 | B37: =IF(ISNUMBER(A37),CHOOSE(WEEKDAY(A37,2),"Mo","Di","Mi","Do","Fr","Sa","So"),"") -> So | F37: =IF(OR(C37="",D37=""),"",MAX(0,MOD(D37-C37,1)-N(E37)/1440)) | G37: =IF(F37="","",MIN(F37,$C$6/24)) | H37: =IF(F37="","",F37-G37)
A38: =IF(29<=DAY(DATE($I$5,$I$4+1,0)),DATE($I$5,$I$4,29),"") -> 46475 | B38: =IF(ISNUMBER(A38),CHOOSE(WEEKDAY(A38,2),"Mo","Di","Mi","Do","Fr","Sa","So"),"") -> Mo | F38: =IF(OR(C38="",D38=""),"",MAX(0,MOD(D38-C38,1)-N(E38)/1440)) | G38: =IF(F38="","",MIN(F38,$C$6/24)) | H38: =IF(F38="","",F38-G38)
A39: =IF(30<=DAY(DATE($I$5,$I$4+1,0)),DATE($I$5,$I$4,30),"") -> 46476 | B39: =IF(ISNUMBER(A39),CHOOSE(WEEKDAY(A39,2),"Mo","Di","Mi","Do","Fr","Sa","So"),"") -> Di | F39: =IF(OR(C39="",D39=""),"",MAX(0,MOD(D39-C39,1)-N(E39)/1440)) | G39: =IF(F39="","",MIN(F39,$C$6/24)) | H39: =IF(F39="","",F39-G39)
A40: =IF(31<=DAY(DATE($I$5,$I$4+1,0)),DATE($I$5,$I$4,31),"") -> 46477 | B40: =IF(ISNUMBER(A40),CHOOSE(WEEKDAY(A40,2),"Mo","Di","Mi","Do","Fr","Sa","So"),"") -> Mi | F40: =IF(OR(C40="",D40=""),"",MAX(0,MOD(D40-C40,1)-N(E40)/1440)) | G40: =IF(F40="","",MIN(F40,$C$6/24)) | H40: =IF(F40="","",F40-G40)
A41: Summe Monat | F41: =SUM(F10:F40) -> 0 | G41: =SUM(G10:G40) -> 0 | H41: =SUM(H10:H40) -> 0 | I41: =COUNTA(I10:I40) -> 0
A43: Monatsübersicht
A44: Arbeitsstunden | C44: Reguläre Stunden | E44: Überstunden | G44: Stunden dezimal | I44: Arbeitstage | J44: Kosten (optional)
A45: =F41 -> 0 | C45: =G41 -> 0 | E45: =H41 -> 0 | G45: =F41*24 -> 0 | I45: =COUNTIF(F10:F40,">0") -> 0 | J45: =IF(I6="","",ROUND((G41+H41*(1+N(I7)))*24*I6,2))
A47: Abwesenheiten (Tage)
A48: =INDEX(AbsenceCodes,1)&" · "&INDEX(AbsenceNames,1) -> U · Urlaub | B48: =INDEX(AbsenceCodes,2)&" · "&INDEX(AbsenceNames,2) -> SU · Sonderurlaub | C48: =INDEX(AbsenceCodes,3)&" · "&INDEX(AbsenceNames,3) -> K · Krankheit | D48: =INDEX(AbsenceCodes,4)&" · "&INDEX(AbsenceNames,4) -> ZA · Zeitausgleich | E48: =INDEX(AbsenceCodes,5)&" · "&INDEX(AbsenceNames,5) -> UF · Arbeitsunfall | F48: =INDEX(AbsenceCodes,6)&" · "&INDEX(AbsenceNames,6) -> EZ · Elternzeit | G48: =INDEX(AbsenceCodes,7)&" · "&INDEX(AbsenceNames,7) -> R · Ruhetag | H48: Feiertage im Zeitraum
A49: =COUNTIF($I$10:$I$40,INDEX(AbsenceCodes,1)) -> 0 | B49: =COUNTIF($I$10:$I$40,INDEX(AbsenceCodes,2)) -> 0 | C49: =COUNTIF($I$10:$I$40,INDEX(AbsenceCodes,3)) -> 0 | D49: =COUNTIF($I$10:$I$40,INDEX(AbsenceCodes,4)) -> 0 | E49: =COUNTIF($I$10:$I$40,INDEX(AbsenceCodes,5)) -> 0 | F49: =COUNTIF($I$10:$I$40,INDEX(AbsenceCodes,6)) -> 0 | G49: =COUNTIF($I$10:$I$40,INDEX(AbsenceCodes,7)) -> 0 | H49: =SUMPRODUCT(ISNUMBER(A10:A40)*ISNUMBER(MATCH(A10:A40,Holidays,0))) -> 0
A51: Mitarbeiter/in und Arbeitgeber bestätigen, dass die eingetragenen Stunden den tatsächlich geleisteten entsprechen.
A53: Unterschrift Mitarbeiter/in: ______________________________ | F53: Unterschrift Arbeitgeber: ______________________________
A54: Datum: ____ / ____ / ________

Sheet April
A1: Stundenzettel Jahr · April
A2: Kostenlose Vorlage von NoBadge · hellviolette Zellen = ausfüllen · graue Zellen = berechnet, nicht überschreiben
A4: Mitarbeiter/in | C4: =IF(Jahresübersicht!$C$5="","",Jahresübersicht!$C$5) | G4: Monat (1-12) | I4: 4 | J4: =IF(AND(ISNUMBER($I$4),$I$4>=1,$I$4<=12),CHOOSE($I$4,"Januar","Februar","März","April","Mai","Juni","Juli","August","September","Oktober","November","Dezember")&" "&$I$5,"") -> April 2027
A5: Tätigkeit / Abteilung | C5: =IF(Jahresübersicht!$C$6="","",Jahresübersicht!$C$6) | G5: Jahr | I5: =Jahresübersicht!$I$5 -> 2027
A6: Regelarbeitszeit pro Tag (Std.) | C6: =Jahresübersicht!$I$6 -> 8 | D6: darüber = Überstunden | G6: Stundenlohn (optional) | I6: =IF(Jahresübersicht!$C$7="","",Jahresübersicht!$C$7)
G7: Überstundenzuschlag (optional) | I7: =IF(Jahresübersicht!$I$7="","",Jahresübersicht!$I$7)
A9: Datum | B9: Tag | C9: Beginn | D9: Ende | E9: Pause (Min.) | F9: Arbeits- zeit | G9: Regulär | H9: Überstunden | I9: Abwesenheit | J9: Notizen
A10: =IF(1<=DAY(DATE($I$5,$I$4+1,0)),DATE($I$5,$I$4,1),"") -> 46478 | B10: =IF(ISNUMBER(A10),CHOOSE(WEEKDAY(A10,2),"Mo","Di","Mi","Do","Fr","Sa","So"),"") -> Do | F10: =IF(OR(C10="",D10=""),"",MAX(0,MOD(D10-C10,1)-N(E10)/1440)) | G10: =IF(F10="","",MIN(F10,$C$6/24)) | H10: =IF(F10="","",F10-G10)
A11: =IF(2<=DAY(DATE($I$5,$I$4+1,0)),DATE($I$5,$I$4,2),"") -> 46479 | B11: =IF(ISNUMBER(A11),CHOOSE(WEEKDAY(A11,2),"Mo","Di","Mi","Do","Fr","Sa","So"),"") -> Fr | F11: =IF(OR(C11="",D11=""),"",MAX(0,MOD(D11-C11,1)-N(E11)/1440)) | G11: =IF(F11="","",MIN(F11,$C$6/24)) | H11: =IF(F11="","",F11-G11)
A12: =IF(3<=DAY(DATE($I$5,$I$4+1,0)),DATE($I$5,$I$4,3),"") -> 46480 | B12: =IF(ISNUMBER(A12),CHOOSE(WEEKDAY(A12,2),"Mo","Di","Mi","Do","Fr","Sa","So"),"") -> Sa | F12: =IF(OR(C12="",D12=""),"",MAX(0,MOD(D12-C12,1)-N(E12)/1440)) | G12: =IF(F12="","",MIN(F12,$C$6/24)) | H12: =IF(F12="","",F12-G12)
A13: =IF(4<=DAY(DATE($I$5,$I$4+1,0)),DATE($I$5,$I$4,4),"") -> 46481 | B13: =IF(ISNUMBER(A13),CHOOSE(WEEKDAY(A13,2),"Mo","Di","Mi","Do","Fr","Sa","So"),"") -> So | F13: =IF(OR(C13="",D13=""),"",MAX(0,MOD(D13-C13,1)-N(E13)/1440)) | G13: =IF(F13="","",MIN(F13,$C$6/24)) | H13: =IF(F13="","",F13-G13)
A14: =IF(5<=DAY(DATE($I$5,$I$4+1,0)),DATE($I$5,$I$4,5),"") -> 46482 | B14: =IF(ISNUMBER(A14),CHOOSE(WEEKDAY(A14,2),"Mo","Di","Mi","Do","Fr","Sa","So"),"") -> Mo | F14: =IF(OR(C14="",D14=""),"",MAX(0,MOD(D14-C14,1)-N(E14)/1440)) | G14: =IF(F14="","",MIN(F14,$C$6/24)) | H14: =IF(F14="","",F14-G14)
A15: =IF(6<=DAY(DATE($I$5,$I$4+1,0)),DATE($I$5,$I$4,6),"") -> 46483 | B15: =IF(ISNUMBER(A15),CHOOSE(WEEKDAY(A15,2),"Mo","Di","Mi","Do","Fr","Sa","So"),"") -> Di | F15: =IF(OR(C15="",D15=""),"",MAX(0,MOD(D15-C15,1)-N(E15)/1440)) | G15: =IF(F15="","",MIN(F15,$C$6/24)) | H15: =IF(F15="","",F15-G15)
A16: =IF(7<=DAY(DATE($I$5,$I$4+1,0)),DATE($I$5,$I$4,7),"") -> 46484 | B16: =IF(ISNUMBER(A16),CHOOSE(WEEKDAY(A16,2),"Mo","Di","Mi","Do","Fr","Sa","So"),"") -> Mi | F16: =IF(OR(C16="",D16=""),"",MAX(0,MOD(D16-C16,1)-N(E16)/1440)) | G16: =IF(F16="","",MIN(F16,$C$6/24)) | H16: =IF(F16="","",F16-G16)
A17: =IF(8<=DAY(DATE($I$5,$I$4+1,0)),DATE($I$5,$I$4,8),"") -> 46485 | B17: =IF(ISNUMBER(A17),CHOOSE(WEEKDAY(A17,2),"Mo","Di","Mi","Do","Fr","Sa","So"),"") -> Do | F17: =IF(OR(C17="",D17=""),"",MAX(0,MOD(D17-C17,1)-N(E17)/1440)) | G17: =IF(F17="","",MIN(F17,$C$6/24)) | H17: =IF(F17="","",F17-G17)
A18: =IF(9<=DAY(DATE($I$5,$I$4+1,0)),DATE($I$5,$I$4,9),"") -> 46486 | B18: =IF(ISNUMBER(A18),CHOOSE(WEEKDAY(A18,2),"Mo","Di","Mi","Do","Fr","Sa","So"),"") -> Fr | F18: =IF(OR(C18="",D18=""),"",MAX(0,MOD(D18-C18,1)-N(E18)/1440)) | G18: =IF(F18="","",MIN(F18,$C$6/24)) | H18: =IF(F18="","",F18-G18)
A19: =IF(10<=DAY(DATE($I$5,$I$4+1,0)),DATE($I$5,$I$4,10),"") -> 46487 | B19: =IF(ISNUMBER(A19),CHOOSE(WEEKDAY(A19,2),"Mo","Di","Mi","Do","Fr","Sa","So"),"") -> Sa | F19: =IF(OR(C19="",D19=""),"",MAX(0,MOD(D19-C19,1)-N(E19)/1440)) | G19: =IF(F19="","",MIN(F19,$C$6/24)) | H19: =IF(F19="","",F19-G19)
A20: =IF(11<=DAY(DATE($I$5,$I$4+1,0)),DATE($I$5,$I$4,11),"") -> 46488 | B20: =IF(ISNUMBER(A20),CHOOSE(WEEKDAY(A20,2),"Mo","Di","Mi","Do","Fr","Sa","So"),"") -> So | F20: =IF(OR(C20="",D20=""),"",MAX(0,MOD(D20-C20,1)-N(E20)/1440)) | G20: =IF(F20="","",MIN(F20,$C$6/24)) | H20: =IF(F20="","",F20-G20)
A21: =IF(12<=DAY(DATE($I$5,$I$4+1,0)),DATE($I$5,$I$4,12),"") -> 46489 | B21: =IF(ISNUMBER(A21),CHOOSE(WEEKDAY(A21,2),"Mo","Di","Mi","Do","Fr","Sa","So"),"") -> Mo | F21: =IF(OR(C21="",D21=""),"",MAX(0,MOD(D21-C21,1)-N(E21)/1440)) | G21: =IF(F21="","",MIN(F21,$C$6/24)) | H21: =IF(F21="","",F21-G21)
A22: =IF(13<=DAY(DATE($I$5,$I$4+1,0)),DATE($I$5,$I$4,13),"") -> 46490 | B22: =IF(ISNUMBER(A22),CHOOSE(WEEKDAY(A22,2),"Mo","Di","Mi","Do","Fr","Sa","So"),"") -> Di | F22: =IF(OR(C22="",D22=""),"",MAX(0,MOD(D22-C22,1)-N(E22)/1440)) | G22: =IF(F22="","",MIN(F22,$C$6/24)) | H22: =IF(F22="","",F22-G22)
A23: =IF(14<=DAY(DATE($I$5,$I$4+1,0)),DATE($I$5,$I$4,14),"") -> 46491 | B23: =IF(ISNUMBER(A23),CHOOSE(WEEKDAY(A23,2),"Mo","Di","Mi","Do","Fr","Sa","So"),"") -> Mi | F23: =IF(OR(C23="",D23=""),"",MAX(0,MOD(D23-C23,1)-N(E23)/1440)) | G23: =IF(F23="","",MIN(F23,$C$6/24)) | H23: =IF(F23="","",F23-G23)
A24: =IF(15<=DAY(DATE($I$5,$I$4+1,0)),DATE($I$5,$I$4,15),"") -> 46492 | B24: =IF(ISNUMBER(A24),CHOOSE(WEEKDAY(A24,2),"Mo","Di","Mi","Do","Fr","Sa","So"),"") -> Do | F24: =IF(OR(C24="",D24=""),"",MAX(0,MOD(D24-C24,1)-N(E24)/1440)) | G24: =IF(F24="","",MIN(F24,$C$6/24)) | H24: =IF(F24="","",F24-G24)
A25: =IF(16<=DAY(DATE($I$5,$I$4+1,0)),DATE($I$5,$I$4,16),"") -> 46493 | B25: =IF(ISNUMBER(A25),CHOOSE(WEEKDAY(A25,2),"Mo","Di","Mi","Do","Fr","Sa","So"),"") -> Fr | F25: =IF(OR(C25="",D25=""),"",MAX(0,MOD(D25-C25,1)-N(E25)/1440)) | G25: =IF(F25="","",MIN(F25,$C$6/24)) | H25: =IF(F25="","",F25-G25)
A26: =IF(17<=DAY(DATE($I$5,$I$4+1,0)),DATE($I$5,$I$4,17),"") -> 46494 | B26: =IF(ISNUMBER(A26),CHOOSE(WEEKDAY(A26,2),"Mo","Di","Mi","Do","Fr","Sa","So"),"") -> Sa | F26: =IF(OR(C26="",D26=""),"",MAX(0,MOD(D26-C26,1)-N(E26)/1440)) | G26: =IF(F26="","",MIN(F26,$C$6/24)) | H26: =IF(F26="","",F26-G26)
A27: =IF(18<=DAY(DATE($I$5,$I$4+1,0)),DATE($I$5,$I$4,18),"") -> 46495 | B27: =IF(ISNUMBER(A27),CHOOSE(WEEKDAY(A27,2),"Mo","Di","Mi","Do","Fr","Sa","So"),"") -> So | F27: =IF(OR(C27="",D27=""),"",MAX(0,MOD(D27-C27,1)-N(E27)/1440)) | G27: =IF(F27="","",MIN(F27,$C$6/24)) | H27: =IF(F27="","",F27-G27)
A28: =IF(19<=DAY(DATE($I$5,$I$4+1,0)),DATE($I$5,$I$4,19),"") -> 46496 | B28: =IF(ISNUMBER(A28),CHOOSE(WEEKDAY(A28,2),"Mo","Di","Mi","Do","Fr","Sa","So"),"") -> Mo | F28: =IF(OR(C28="",D28=""),"",MAX(0,MOD(D28-C28,1)-N(E28)/1440)) | G28: =IF(F28="","",MIN(F28,$C$6/24)) | H28: =IF(F28="","",F28-G28)
A29: =IF(20<=DAY(DATE($I$5,$I$4+1,0)),DATE($I$5,$I$4,20),"") -> 46497 | B29: =IF(ISNUMBER(A29),CHOOSE(WEEKDAY(A29,2),"Mo","Di","Mi","Do","Fr","Sa","So"),"") -> Di | F29: =IF(OR(C29="",D29=""),"",MAX(0,MOD(D29-C29,1)-N(E29)/1440)) | G29: =IF(F29="","",MIN(F29,$C$6/24)) | H29: =IF(F29="","",F29-G29)
A30: =IF(21<=DAY(DATE($I$5,$I$4+1,0)),DATE($I$5,$I$4,21),"") -> 46498 | B30: =IF(ISNUMBER(A30),CHOOSE(WEEKDAY(A30,2),"Mo","Di","Mi","Do","Fr","Sa","So"),"") -> Mi | F30: =IF(OR(C30="",D30=""),"",MAX(0,MOD(D30-C30,1)-N(E30)/1440)) | G30: =IF(F30="","",MIN(F30,$C$6/24)) | H30: =IF(F30="","",F30-G30)
A31: =IF(22<=DAY(DATE($I$5,$I$4+1,0)),DATE($I$5,$I$4,22),"") -> 46499 | B31: =IF(ISNUMBER(A31),CHOOSE(WEEKDAY(A31,2),"Mo","Di","Mi","Do","Fr","Sa","So"),"") -> Do | F31: =IF(OR(C31="",D31=""),"",MAX(0,MOD(D31-C31,1)-N(E31)/1440)) | G31: =IF(F31="","",MIN(F31,$C$6/24)) | H31: =IF(F31="","",F31-G31)
A32: =IF(23<=DAY(DATE($I$5,$I$4+1,0)),DATE($I$5,$I$4,23),"") -> 46500 | B32: =IF(ISNUMBER(A32),CHOOSE(WEEKDAY(A32,2),"Mo","Di","Mi","Do","Fr","Sa","So"),"") -> Fr | F32: =IF(OR(C32="",D32=""),"",MAX(0,MOD(D32-C32,1)-N(E32)/1440)) | G32: =IF(F32="","",MIN(F32,$C$6/24)) | H32: =IF(F32="","",F32-G32)
A33: =IF(24<=DAY(DATE($I$5,$I$4+1,0)),DATE($I$5,$I$4,24),"") -> 46501 | B33: =IF(ISNUMBER(A33),CHOOSE(WEEKDAY(A33,2),"Mo","Di","Mi","Do","Fr","Sa","So"),"") -> Sa | F33: =IF(OR(C33="",D33=""),"",MAX(0,MOD(D33-C33,1)-N(E33)/1440)) | G33: =IF(F33="","",MIN(F33,$C$6/24)) | H33: =IF(F33="","",F33-G33)
A34: =IF(25<=DAY(DATE($I$5,$I$4+1,0)),DATE($I$5,$I$4,25),"") -> 46502 | B34: =IF(ISNUMBER(A34),CHOOSE(WEEKDAY(A34,2),"Mo","Di","Mi","Do","Fr","Sa","So"),"") -> So | F34: =IF(OR(C34="",D34=""),"",MAX(0,MOD(D34-C34,1)-N(E34)/1440)) | G34: =IF(F34="","",MIN(F34,$C$6/24)) | H34: =IF(F34="","",F34-G34)
A35: =IF(26<=DAY(DATE($I$5,$I$4+1,0)),DATE($I$5,$I$4,26),"") -> 46503 | B35: =IF(ISNUMBER(A35),CHOOSE(WEEKDAY(A35,2),"Mo","Di","Mi","Do","Fr","Sa","So"),"") -> Mo | F35: =IF(OR(C35="",D35=""),"",MAX(0,MOD(D35-C35,1)-N(E35)/1440)) | G35: =IF(F35="","",MIN(F35,$C$6/24)) | H35: =IF(F35="","",F35-G35)
A36: =IF(27<=DAY(DATE($I$5,$I$4+1,0)),DATE($I$5,$I$4,27),"") -> 46504 | B36: =IF(ISNUMBER(A36),CHOOSE(WEEKDAY(A36,2),"Mo","Di","Mi","Do","Fr","Sa","So"),"") -> Di | F36: =IF(OR(C36="",D36=""),"",MAX(0,MOD(D36-C36,1)-N(E36)/1440)) | G36: =IF(F36="","",MIN(F36,$C$6/24)) | H36: =IF(F36="","",F36-G36)
A37: =IF(28<=DAY(DATE($I$5,$I$4+1,0)),DATE($I$5,$I$4,28),"") -> 46505 | B37: =IF(ISNUMBER(A37),CHOOSE(WEEKDAY(A37,2),"Mo","Di","Mi","Do","Fr","Sa","So"),"") -> Mi | F37: =IF(OR(C37="",D37=""),"",MAX(0,MOD(D37-C37,1)-N(E37)/1440)) | G37: =IF(F37="","",MIN(F37,$C$6/24)) | H37: =IF(F37="","",F37-G37)
A38: =IF(29<=DAY(DATE($I$5,$I$4+1,0)),DATE($I$5,$I$4,29),"") -> 46506 | B38: =IF(ISNUMBER(A38),CHOOSE(WEEKDAY(A38,2),"Mo","Di","Mi","Do","Fr","Sa","So"),"") -> Do | F38: =IF(OR(C38="",D38=""),"",MAX(0,MOD(D38-C38,1)-N(E38)/1440)) | G38: =IF(F38="","",MIN(F38,$C$6/24)) | H38: =IF(F38="","",F38-G38)
A39: =IF(30<=DAY(DATE($I$5,$I$4+1,0)),DATE($I$5,$I$4,30),"") -> 46507 | B39: =IF(ISNUMBER(A39),CHOOSE(WEEKDAY(A39,2),"Mo","Di","Mi","Do","Fr","Sa","So"),"") -> Fr | F39: =IF(OR(C39="",D39=""),"",MAX(0,MOD(D39-C39,1)-N(E39)/1440)) | G39: =IF(F39="","",MIN(F39,$C$6/24)) | H39: =IF(F39="","",F39-G39)
A40: =IF(31<=DAY(DATE($I$5,$I$4+1,0)),DATE($I$5,$I$4,31),"") | B40: =IF(ISNUMBER(A40),CHOOSE(WEEKDAY(A40,2),"Mo","Di","Mi","Do","Fr","Sa","So"),"") | F40: =IF(OR(C40="",D40=""),"",MAX(0,MOD(D40-C40,1)-N(E40)/1440)) | G40: =IF(F40="","",MIN(F40,$C$6/24)) | H40: =IF(F40="","",F40-G40)
A41: Summe Monat | F41: =SUM(F10:F40) -> 0 | G41: =SUM(G10:G40) -> 0 | H41: =SUM(H10:H40) -> 0 | I41: =COUNTA(I10:I40) -> 0
A43: Monatsübersicht
A44: Arbeitsstunden | C44: Reguläre Stunden | E44: Überstunden | G44: Stunden dezimal | I44: Arbeitstage | J44: Kosten (optional)
A45: =F41 -> 0 | C45: =G41 -> 0 | E45: =H41 -> 0 | G45: =F41*24 -> 0 | I45: =COUNTIF(F10:F40,">0") -> 0 | J45: =IF(I6="","",ROUND((G41+H41*(1+N(I7)))*24*I6,2))
A47: Abwesenheiten (Tage)
A48: =INDEX(AbsenceCodes,1)&" · "&INDEX(AbsenceNames,1) -> U · Urlaub | B48: =INDEX(AbsenceCodes,2)&" · "&INDEX(AbsenceNames,2) -> SU · Sonderurlaub | C48: =INDEX(AbsenceCodes,3)&" · "&INDEX(AbsenceNames,3) -> K · Krankheit | D48: =INDEX(AbsenceCodes,4)&" · "&INDEX(AbsenceNames,4) -> ZA · Zeitausgleich | E48: =INDEX(AbsenceCodes,5)&" · "&INDEX(AbsenceNames,5) -> UF · Arbeitsunfall | F48: =INDEX(AbsenceCodes,6)&" · "&INDEX(AbsenceNames,6) -> EZ · Elternzeit | G48: =INDEX(AbsenceCodes,7)&" · "&INDEX(AbsenceNames,7) -> R · Ruhetag | H48: Feiertage im Zeitraum
A49: =COUNTIF($I$10:$I$40,INDEX(AbsenceCodes,1)) -> 0 | B49: =COUNTIF($I$10:$I$40,INDEX(AbsenceCodes,2)) -> 0 | C49: =COUNTIF($I$10:$I$40,INDEX(AbsenceCodes,3)) -> 0 | D49: =COUNTIF($I$10:$I$40,INDEX(AbsenceCodes,4)) -> 0 | E49: =COUNTIF($I$10:$I$40,INDEX(AbsenceCodes,5)) -> 0 | F49: =COUNTIF($I$10:$I$40,INDEX(AbsenceCodes,6)) -> 0 | G49: =COUNTIF($I$10:$I$40,INDEX(AbsenceCodes,7)) -> 0 | H49: =SUMPRODUCT(ISNUMBER(A10:A40)*ISNUMBER(MATCH(A10:A40,Holidays,0))) -> 0
A51: Mitarbeiter/in und Arbeitgeber bestätigen, dass die eingetragenen Stunden den tatsächlich geleisteten entsprechen.
A53: Unterschrift Mitarbeiter/in: ______________________________ | F53: Unterschrift Arbeitgeber: ______________________________
A54: Datum: ____ / ____ / ________

Sheet Mai
A1: Stundenzettel Jahr · Mai
A2: Kostenlose Vorlage von NoBadge · hellviolette Zellen = ausfüllen · graue Zellen = berechnet, nicht überschreiben
A4: Mitarbeiter/in | C4: =IF(Jahresübersicht!$C$5="","",Jahresübersicht!$C$5) | G4: Monat (1-12) | I4: 5 | J4: =IF(AND(ISNUMBER($I$4),$I$4>=1,$I$4<=12),CHOOSE($I$4,"Januar","Februar","März","April","Mai","Juni","Juli","August","September","Oktober","November","Dezember")&" "&$I$5,"") -> Mai 2027
A5: Tätigkeit / Abteilung | C5: =IF(Jahresübersicht!$C$6="","",Jahresübersicht!$C$6) | G5: Jahr | I5: =Jahresübersicht!$I$5 -> 2027
A6: Regelarbeitszeit pro Tag (Std.) | C6: =Jahresübersicht!$I$6 -> 8 | D6: darüber = Überstunden | G6: Stundenlohn (optional) | I6: =IF(Jahresübersicht!$C$7="","",Jahresübersicht!$C$7)
G7: Überstundenzuschlag (optional) | I7: =IF(Jahresübersicht!$I$7="","",Jahresübersicht!$I$7)
A9: Datum | B9: Tag | C9: Beginn | D9: Ende | E9: Pause (Min.) | F9: Arbeits- zeit | G9: Regulär | H9: Überstunden | I9: Abwesenheit | J9: Notizen
A10: =IF(1<=DAY(DATE($I$5,$I$4+1,0)),DATE($I$5,$I$4,1),"") -> 46508 | B10: =IF(ISNUMBER(A10),CHOOSE(WEEKDAY(A10,2),"Mo","Di","Mi","Do","Fr","Sa","So"),"") -> Sa | F10: =IF(OR(C10="",D10=""),"",MAX(0,MOD(D10-C10,1)-N(E10)/1440)) | G10: =IF(F10="","",MIN(F10,$C$6/24)) | H10: =IF(F10="","",F10-G10)
A11: =IF(2<=DAY(DATE($I$5,$I$4+1,0)),DATE($I$5,$I$4,2),"") -> 46509 | B11: =IF(ISNUMBER(A11),CHOOSE(WEEKDAY(A11,2),"Mo","Di","Mi","Do","Fr","Sa","So"),"") -> So | F11: =IF(OR(C11="",D11=""),"",MAX(0,MOD(D11-C11,1)-N(E11)/1440)) | G11: =IF(F11="","",MIN(F11,$C$6/24)) | H11: =IF(F11="","",F11-G11)
A12: =IF(3<=DAY(DATE($I$5,$I$4+1,0)),DATE($I$5,$I$4,3),"") -> 46510 | B12: =IF(ISNUMBER(A12),CHOOSE(WEEKDAY(A12,2),"Mo","Di","Mi","Do","Fr","Sa","So"),"") -> Mo | F12: =IF(OR(C12="",D12=""),"",MAX(0,MOD(D12-C12,1)-N(E12)/1440)) | G12: =IF(F12="","",MIN(F12,$C$6/24)) | H12: =IF(F12="","",F12-G12)
A13: =IF(4<=DAY(DATE($I$5,$I$4+1,0)),DATE($I$5,$I$4,4),"") -> 46511 | B13: =IF(ISNUMBER(A13),CHOOSE(WEEKDAY(A13,2),"Mo","Di","Mi","Do","Fr","Sa","So"),"") -> Di | F13: =IF(OR(C13="",D13=""),"",MAX(0,MOD(D13-C13,1)-N(E13)/1440)) | G13: =IF(F13="","",MIN(F13,$C$6/24)) | H13: =IF(F13="","",F13-G13)
A14: =IF(5<=DAY(DATE($I$5,$I$4+1,0)),DATE($I$5,$I$4,5),"") -> 46512 | B14: =IF(ISNUMBER(A14),CHOOSE(WEEKDAY(A14,2),"Mo","Di","Mi","Do","Fr","Sa","So"),"") -> Mi | F14: =IF(OR(C14="",D14=""),"",MAX(0,MOD(D14-C14,1)-N(E14)/1440)) | G14: =IF(F14="","",MIN(F14,$C$6/24)) | H14: =IF(F14="","",F14-G14)
A15: =IF(6<=DAY(DATE($I$5,$I$4+1,0)),DATE($I$5,$I$4,6),"") -> 46513 | B15: =IF(ISNUMBER(A15),CHOOSE(WEEKDAY(A15,2),"Mo","Di","Mi","Do","Fr","Sa","So"),"") -> Do | F15: =IF(OR(C15="",D15=""),"",MAX(0,MOD(D15-C15,1)-N(E15)/1440)) | G15: =IF(F15="","",MIN(F15,$C$6/24)) | H15: =IF(F15="","",F15-G15)
A16: =IF(7<=DAY(DATE($I$5,$I$4+1,0)),DATE($I$5,$I$4,7),"") -> 46514 | B16: =IF(ISNUMBER(A16),CHOOSE(WEEKDAY(A16,2),"Mo","Di","Mi","Do","Fr","Sa","So"),"") -> Fr | F16: =IF(OR(C16="",D16=""),"",MAX(0,MOD(D16-C16,1)-N(E16)/1440)) | G16: =IF(F16="","",MIN(F16,$C$6/24)) | H16: =IF(F16="","",F16-G16)
A17: =IF(8<=DAY(DATE($I$5,$I$4+1,0)),DATE($I$5,$I$4,8),"") -> 46515 | B17: =IF(ISNUMBER(A17),CHOOSE(WEEKDAY(A17,2),"Mo","Di","Mi","Do","Fr","Sa","So"),"") -> Sa | F17: =IF(OR(C17="",D17=""),"",MAX(0,MOD(D17-C17,1)-N(E17)/1440)) | G17: =IF(F17="","",MIN(F17,$C$6/24)) | H17: =IF(F17="","",F17-G17)
A18: =IF(9<=DAY(DATE($I$5,$I$4+1,0)),DATE($I$5,$I$4,9),"") -> 46516 | B18: =IF(ISNUMBER(A18),CHOOSE(WEEKDAY(A18,2),"Mo","Di","Mi","Do","Fr","Sa","So"),"") -> So | F18: =IF(OR(C18="",D18=""),"",MAX(0,MOD(D18-C18,1)-N(E18)/1440)) | G18: =IF(F18="","",MIN(F18,$C$6/24)) | H18: =IF(F18="","",F18-G18)
A19: =IF(10<=DAY(DATE($I$5,$I$4+1,0)),DATE($I$5,$I$4,10),"") -> 46517 | B19: =IF(ISNUMBER(A19),CHOOSE(WEEKDAY(A19,2),"Mo","Di","Mi","Do","Fr","Sa","So"),"") -> Mo | F19: =IF(OR(C19="",D19=""),"",MAX(0,MOD(D19-C19,1)-N(E19)/1440)) | G19: =IF(F19="","",MIN(F19,$C$6/24)) | H19: =IF(F19="","",F19-G19)
A20: =IF(11<=DAY(DATE($I$5,$I$4+1,0)),DATE($I$5,$I$4,11),"") -> 46518 | B20: =IF(ISNUMBER(A20),CHOOSE(WEEKDAY(A20,2),"Mo","Di","Mi","Do","Fr","Sa","So"),"") -> Di | F20: =IF(OR(C20="",D20=""),"",MAX(0,MOD(D20-C20,1)-N(E20)/1440)) | G20: =IF(F20="","",MIN(F20,$C$6/24)) | H20: =IF(F20="","",F20-G20)
A21: =IF(12<=DAY(DATE($I$5,$I$4+1,0)),DATE($I$5,$I$4,12),"") -> 46519 | B21: =IF(ISNUMBER(A21),CHOOSE(WEEKDAY(A21,2),"Mo","Di","Mi","Do","Fr","Sa","So"),"") -> Mi | F21: =IF(OR(C21="",D21=""),"",MAX(0,MOD(D21-C21,1)-N(E21)/1440)) | G21: =IF(F21="","",MIN(F21,$C$6/24)) | H21: =IF(F21="","",F21-G21)
A22: =IF(13<=DAY(DATE($I$5,$I$4+1,0)),DATE($I$5,$I$4,13),"") -> 46520 | B22: =IF(ISNUMBER(A22),CHOOSE(WEEKDAY(A22,2),"Mo","Di","Mi","Do","Fr","Sa","So"),"") -> Do | F22: =IF(OR(C22="",D22=""),"",MAX(0,MOD(D22-C22,1)-N(E22)/1440)) | G22: =IF(F22="","",MIN(F22,$C$6/24)) | H22: =IF(F22="","",F22-G22)
A23: =IF(14<=DAY(DATE($I$5,$I$4+1,0)),DATE($I$5,$I$4,14),"") -> 46521 | B23: =IF(ISNUMBER(A23),CHOOSE(WEEKDAY(A23,2),"Mo","Di","Mi","Do","Fr","Sa","So"),"") -> Fr | F23: =IF(OR(C23="",D23=""),"",MAX(0,MOD(D23-C23,1)-N(E23)/1440)) | G23: =IF(F23="","",MIN(F23,$C$6/24)) | H23: =IF(F23="","",F23-G23)
A24: =IF(15<=DAY(DATE($I$5,$I$4+1,0)),DATE($I$5,$I$4,15),"") -> 46522 | B24: =IF(ISNUMBER(A24),CHOOSE(WEEKDAY(A24,2),"Mo","Di","Mi","Do","Fr","Sa","So"),"") -> Sa | F24: =IF(OR(C24="",D24=""),"",MAX(0,MOD(D24-C24,1)-N(E24)/1440)) | G24: =IF(F24="","",MIN(F24,$C$6/24)) | H24: =IF(F24="","",F24-G24)
A25: =IF(16<=DAY(DATE($I$5,$I$4+1,0)),DATE($I$5,$I$4,16),"") -> 46523 | B25: =IF(ISNUMBER(A25),CHOOSE(WEEKDAY(A25,2),"Mo","Di","Mi","Do","Fr","Sa","So"),"") -> So | F25: =IF(OR(C25="",D25=""),"",MAX(0,MOD(D25-C25,1)-N(E25)/1440)) | G25: =IF(F25="","",MIN(F25,$C$6/24)) | H25: =IF(F25="","",F25-G25)
A26: =IF(17<=DAY(DATE($I$5,$I$4+1,0)),DATE($I$5,$I$4,17),"") -> 46524 | B26: =IF(ISNUMBER(A26),CHOOSE(WEEKDAY(A26,2),"Mo","Di","Mi","Do","Fr","Sa","So"),"") -> Mo | F26: =IF(OR(C26="",D26=""),"",MAX(0,MOD(D26-C26,1)-N(E26)/1440)) | G26: =IF(F26="","",MIN(F26,$C$6/24)) | H26: =IF(F26="","",F26-G26)
A27: =IF(18<=DAY(DATE($I$5,$I$4+1,0)),DATE($I$5,$I$4,18),"") -> 46525 | B27: =IF(ISNUMBER(A27),CHOOSE(WEEKDAY(A27,2),"Mo","Di","Mi","Do","Fr","Sa","So"),"") -> Di | F27: =IF(OR(C27="",D27=""),"",MAX(0,MOD(D27-C27,1)-N(E27)/1440)) | G27: =IF(F27="","",MIN(F27,$C$6/24)) | H27: =IF(F27="","",F27-G27)
A28: =IF(19<=DAY(DATE($I$5,$I$4+1,0)),DATE($I$5,$I$4,19),"") -> 46526 | B28: =IF(ISNUMBER(A28),CHOOSE(WEEKDAY(A28,2),"Mo","Di","Mi","Do","Fr","Sa","So"),"") -> Mi | F28: =IF(OR(C28="",D28=""),"",MAX(0,MOD(D28-C28,1)-N(E28)/1440)) | G28: =IF(F28="","",MIN(F28,$C$6/24)) | H28: =IF(F28="","",F28-G28)
A29: =IF(20<=DAY(DATE($I$5,$I$4+1,0)),DATE($I$5,$I$4,20),"") -> 46527 | B29: =IF(ISNUMBER(A29),CHOOSE(WEEKDAY(A29,2),"Mo","Di","Mi","Do","Fr","Sa","So"),"") -> Do | F29: =IF(OR(C29="",D29=""),"",MAX(0,MOD(D29-C29,1)-N(E29)/1440)) | G29: =IF(F29="","",MIN(F29,$C$6/24)) | H29: =IF(F29="","",F29-G29)
A30: =IF(21<=DAY(DATE($I$5,$I$4+1,0)),DATE($I$5,$I$4,21),"") -> 46528 | B30: =IF(ISNUMBER(A30),CHOOSE(WEEKDAY(A30,2),"Mo","Di","Mi","Do","Fr","Sa","So"),"") -> Fr | F30: =IF(OR(C30="",D30=""),"",MAX(0,MOD(D30-C30,1)-N(E30)/1440)) | G30: =IF(F30="","",MIN(F30,$C$6/24)) | H30: =IF(F30="","",F30-G30)
A31: =IF(22<=DAY(DATE($I$5,$I$4+1,0)),DATE($I$5,$I$4,22),"") -> 46529 | B31: =IF(ISNUMBER(A31),CHOOSE(WEEKDAY(A31,2),"Mo","Di","Mi","Do","Fr","Sa","So"),"") -> Sa | F31: =IF(OR(C31="",D31=""),"",MAX(0,MOD(D31-C31,1)-N(E31)/1440)) | G31: =IF(F31="","",MIN(F31,$C$6/24)) | H31: =IF(F31="","",F31-G31)
A32: =IF(23<=DAY(DATE($I$5,$I$4+1,0)),DATE($I$5,$I$4,23),"") -> 46530 | B32: =IF(ISNUMBER(A32),CHOOSE(WEEKDAY(A32,2),"Mo","Di","Mi","Do","Fr","Sa","So"),"") -> So | F32: =IF(OR(C32="",D32=""),"",MAX(0,MOD(D32-C32,1)-N(E32)/1440)) | G32: =IF(F32="","",MIN(F32,$C$6/24)) | H32: =IF(F32="","",F32-G32)
A33: =IF(24<=DAY(DATE($I$5,$I$4+1,0)),DATE($I$5,$I$4,24),"") -> 46531 | B33: =IF(ISNUMBER(A33),CHOOSE(WEEKDAY(A33,2),"Mo","Di","Mi","Do","Fr","Sa","So"),"") -> Mo | F33: =IF(OR(C33="",D33=""),"",MAX(0,MOD(D33-C33,1)-N(E33)/1440)) | G33: =IF(F33="","",MIN(F33,$C$6/24)) | H33: =IF(F33="","",F33-G33)
A34: =IF(25<=DAY(DATE($I$5,$I$4+1,0)),DATE($I$5,$I$4,25),"") -> 46532 | B34: =IF(ISNUMBER(A34),CHOOSE(WEEKDAY(A34,2),"Mo","Di","Mi","Do","Fr","Sa","So"),"") -> Di | F34: =IF(OR(C34="",D34=""),"",MAX(0,MOD(D34-C34,1)-N(E34)/1440)) | G34: =IF(F34="","",MIN(F34,$C$6/24)) | H34: =IF(F34="","",F34-G34)
A35: =IF(26<=DAY(DATE($I$5,$I$4+1,0)),DATE($I$5,$I$4,26),"") -> 46533 | B35: =IF(ISNUMBER(A35),CHOOSE(WEEKDAY(A35,2),"Mo","Di","Mi","Do","Fr","Sa","So"),"") -> Mi | F35: =IF(OR(C35="",D35=""),"",MAX(0,MOD(D35-C35,1)-N(E35)/1440)) | G35: =IF(F35="","",MIN(F35,$C$6/24)) | H35: =IF(F35="","",F35-G35)
A36: =IF(27<=DAY(DATE($I$5,$I$4+1,0)),DATE($I$5,$I$4,27),"") -> 46534 | B36: =IF(ISNUMBER(A36),CHOOSE(WEEKDAY(A36,2),"Mo","Di","Mi","Do","Fr","Sa","So"),"") -> Do | F36: =IF(OR(C36="",D36=""),"",MAX(0,MOD(D36-C36,1)-N(E36)/1440)) | G36: =IF(F36="","",MIN(F36,$C$6/24)) | H36: =IF(F36="","",F36-G36)
A37: =IF(28<=DAY(DATE($I$5,$I$4+1,0)),DATE($I$5,$I$4,28),"") -> 46535 | B37: =IF(ISNUMBER(A37),CHOOSE(WEEKDAY(A37,2),"Mo","Di","Mi","Do","Fr","Sa","So"),"") -> Fr | F37: =IF(OR(C37="",D37=""),"",MAX(0,MOD(D37-C37,1)-N(E37)/1440)) | G37: =IF(F37="","",MIN(F37,$C$6/24)) | H37: =IF(F37="","",F37-G37)
A38: =IF(29<=DAY(DATE($I$5,$I$4+1,0)),DATE($I$5,$I$4,29),"") -> 46536 | B38: =IF(ISNUMBER(A38),CHOOSE(WEEKDAY(A38,2),"Mo","Di","Mi","Do","Fr","Sa","So"),"") -> Sa | F38: =IF(OR(C38="",D38=""),"",MAX(0,MOD(D38-C38,1)-N(E38)/1440)) | G38: =IF(F38="","",MIN(F38,$C$6/24)) | H38: =IF(F38="","",F38-G38)
A39: =IF(30<=DAY(DATE($I$5,$I$4+1,0)),DATE($I$5,$I$4,30),"") -> 46537 | B39: =IF(ISNUMBER(A39),CHOOSE(WEEKDAY(A39,2),"Mo","Di","Mi","Do","Fr","Sa","So"),"") -> So | F39: =IF(OR(C39="",D39=""),"",MAX(0,MOD(D39-C39,1)-N(E39)/1440)) | G39: =IF(F39="","",MIN(F39,$C$6/24)) | H39: =IF(F39="","",F39-G39)
A40: =IF(31<=DAY(DATE($I$5,$I$4+1,0)),DATE($I$5,$I$4,31),"") -> 46538 | B40: =IF(ISNUMBER(A40),CHOOSE(WEEKDAY(A40,2),"Mo","Di","Mi","Do","Fr","Sa","So"),"") -> Mo | F40: =IF(OR(C40="",D40=""),"",MAX(0,MOD(D40-C40,1)-N(E40)/1440)) | G40: =IF(F40="","",MIN(F40,$C$6/24)) | H40: =IF(F40="","",F40-G40)
A41: Summe Monat | F41: =SUM(F10:F40) -> 0 | G41: =SUM(G10:G40) -> 0 | H41: =SUM(H10:H40) -> 0 | I41: =COUNTA(I10:I40) -> 0
A43: Monatsübersicht
A44: Arbeitsstunden | C44: Reguläre Stunden | E44: Überstunden | G44: Stunden dezimal | I44: Arbeitstage | J44: Kosten (optional)
A45: =F41 -> 0 | C45: =G41 -> 0 | E45: =H41 -> 0 | G45: =F41*24 -> 0 | I45: =COUNTIF(F10:F40,">0") -> 0 | J45: =IF(I6="","",ROUND((G41+H41*(1+N(I7)))*24*I6,2))
A47: Abwesenheiten (Tage)
A48: =INDEX(AbsenceCodes,1)&" · "&INDEX(AbsenceNames,1) -> U · Urlaub | B48: =INDEX(AbsenceCodes,2)&" · "&INDEX(AbsenceNames,2) -> SU · Sonderurlaub | C48: =INDEX(AbsenceCodes,3)&" · "&INDEX(AbsenceNames,3) -> K · Krankheit | D48: =INDEX(AbsenceCodes,4)&" · "&INDEX(AbsenceNames,4) -> ZA · Zeitausgleich | E48: =INDEX(AbsenceCodes,5)&" · "&INDEX(AbsenceNames,5) -> UF · Arbeitsunfall | F48: =INDEX(AbsenceCodes,6)&" · "&INDEX(AbsenceNames,6) -> EZ · Elternzeit | G48: =INDEX(AbsenceCodes,7)&" · "&INDEX(AbsenceNames,7) -> R · Ruhetag | H48: Feiertage im Zeitraum
A49: =COUNTIF($I$10:$I$40,INDEX(AbsenceCodes,1)) -> 0 | B49: =COUNTIF($I$10:$I$40,INDEX(AbsenceCodes,2)) -> 0 | C49: =COUNTIF($I$10:$I$40,INDEX(AbsenceCodes,3)) -> 0 | D49: =COUNTIF($I$10:$I$40,INDEX(AbsenceCodes,4)) -> 0 | E49: =COUNTIF($I$10:$I$40,INDEX(AbsenceCodes,5)) -> 0 | F49: =COUNTIF($I$10:$I$40,INDEX(AbsenceCodes,6)) -> 0 | G49: =COUNTIF($I$10:$I$40,INDEX(AbsenceCodes,7)) -> 0 | H49: =SUMPRODUCT(ISNUMBER(A10:A40)*ISNUMBER(MATCH(A10:A40,Holidays,0))) -> 0
A51: Mitarbeiter/in und Arbeitgeber bestätigen, dass die eingetragenen Stunden den tatsächlich geleisteten entsprechen.
A53: Unterschrift Mitarbeiter/in: ______________________________ | F53: Unterschrift Arbeitgeber: ______________________________
A54: Datum: ____ / ____ / ________

Sheet Juni
A1: Stundenzettel Jahr · Juni
A2: Kostenlose Vorlage von NoBadge · hellviolette Zellen = ausfüllen · graue Zellen = berechnet, nicht überschreiben
A4: Mitarbeiter/in | C4: =IF(Jahresübersicht!$C$5="","",Jahresübersicht!$C$5) | G4: Monat (1-12) | I4: 6 | J4: =IF(AND(ISNUMBER($I$4),$I$4>=1,$I$4<=12),CHOOSE($I$4,"Januar","Februar","März","April","Mai","Juni","Juli","August","September","Oktober","November","Dezember")&" "&$I$5,"") -> Juni 2027
A5: Tätigkeit / Abteilung | C5: =IF(Jahresübersicht!$C$6="","",Jahresübersicht!$C$6) | G5: Jahr | I5: =Jahresübersicht!$I$5 -> 2027
A6: Regelarbeitszeit pro Tag (Std.) | C6: =Jahresübersicht!$I$6 -> 8 | D6: darüber = Überstunden | G6: Stundenlohn (optional) | I6: =IF(Jahresübersicht!$C$7="","",Jahresübersicht!$C$7)
G7: Überstundenzuschlag (optional) | I7: =IF(Jahresübersicht!$I$7="","",Jahresübersicht!$I$7)
A9: Datum | B9: Tag | C9: Beginn | D9: Ende | E9: Pause (Min.) | F9: Arbeits- zeit | G9: Regulär | H9: Überstunden | I9: Abwesenheit | J9: Notizen
A10: =IF(1<=DAY(DATE($I$5,$I$4+1,0)),DATE($I$5,$I$4,1),"") -> 46539 | B10: =IF(ISNUMBER(A10),CHOOSE(WEEKDAY(A10,2),"Mo","Di","Mi","Do","Fr","Sa","So"),"") -> Di | F10: =IF(OR(C10="",D10=""),"",MAX(0,MOD(D10-C10,1)-N(E10)/1440)) | G10: =IF(F10="","",MIN(F10,$C$6/24)) | H10: =IF(F10="","",F10-G10)
A11: =IF(2<=DAY(DATE($I$5,$I$4+1,0)),DATE($I$5,$I$4,2),"") -> 46540 | B11: =IF(ISNUMBER(A11),CHOOSE(WEEKDAY(A11,2),"Mo","Di","Mi","Do","Fr","Sa","So"),"") -> Mi | F11: =IF(OR(C11="",D11=""),"",MAX(0,MOD(D11-C11,1)-N(E11)/1440)) | G11: =IF(F11="","",MIN(F11,$C$6/24)) | H11: =IF(F11="","",F11-G11)
A12: =IF(3<=DAY(DATE($I$5,$I$4+1,0)),DATE($I$5,$I$4,3),"") -> 46541 | B12: =IF(ISNUMBER(A12),CHOOSE(WEEKDAY(A12,2),"Mo","Di","Mi","Do","Fr","Sa","So"),"") -> Do | F12: =IF(OR(C12="",D12=""),"",MAX(0,MOD(D12-C12,1)-N(E12)/1440)) | G12: =IF(F12="","",MIN(F12,$C$6/24)) | H12: =IF(F12="","",F12-G12)
A13: =IF(4<=DAY(DATE($I$5,$I$4+1,0)),DATE($I$5,$I$4,4),"") -> 46542 | B13: =IF(ISNUMBER(A13),CHOOSE(WEEKDAY(A13,2),"Mo","Di","Mi","Do","Fr","Sa","So"),"") -> Fr | F13: =IF(OR(C13="",D13=""),"",MAX(0,MOD(D13-C13,1)-N(E13)/1440)) | G13: =IF(F13="","",MIN(F13,$C$6/24)) | H13: =IF(F13="","",F13-G13)
A14: =IF(5<=DAY(DATE($I$5,$I$4+1,0)),DATE($I$5,$I$4,5),"") -> 46543 | B14: =IF(ISNUMBER(A14),CHOOSE(WEEKDAY(A14,2),"Mo","Di","Mi","Do","Fr","Sa","So"),"") -> Sa | F14: =IF(OR(C14="",D14=""),"",MAX(0,MOD(D14-C14,1)-N(E14)/1440)) | G14: =IF(F14="","",MIN(F14,$C$6/24)) | H14: =IF(F14="","",F14-G14)
A15: =IF(6<=DAY(DATE($I$5,$I$4+1,0)),DATE($I$5,$I$4,6),"") -> 46544 | B15: =IF(ISNUMBER(A15),CHOOSE(WEEKDAY(A15,2),"Mo","Di","Mi","Do","Fr","Sa","So"),"") -> So | F15: =IF(OR(C15="",D15=""),"",MAX(0,MOD(D15-C15,1)-N(E15)/1440)) | G15: =IF(F15="","",MIN(F15,$C$6/24)) | H15: =IF(F15="","",F15-G15)
A16: =IF(7<=DAY(DATE($I$5,$I$4+1,0)),DATE($I$5,$I$4,7),"") -> 46545 | B16: =IF(ISNUMBER(A16),CHOOSE(WEEKDAY(A16,2),"Mo","Di","Mi","Do","Fr","Sa","So"),"") -> Mo | F16: =IF(OR(C16="",D16=""),"",MAX(0,MOD(D16-C16,1)-N(E16)/1440)) | G16: =IF(F16="","",MIN(F16,$C$6/24)) | H16: =IF(F16="","",F16-G16)
A17: =IF(8<=DAY(DATE($I$5,$I$4+1,0)),DATE($I$5,$I$4,8),"") -> 46546 | B17: =IF(ISNUMBER(A17),CHOOSE(WEEKDAY(A17,2),"Mo","Di","Mi","Do","Fr","Sa","So"),"") -> Di | F17: =IF(OR(C17="",D17=""),"",MAX(0,MOD(D17-C17,1)-N(E17)/1440)) | G17: =IF(F17="","",MIN(F17,$C$6/24)) | H17: =IF(F17="","",F17-G17)
A18: =IF(9<=DAY(DATE($I$5,$I$4+1,0)),DATE($I$5,$I$4,9),"") -> 46547 | B18: =IF(ISNUMBER(A18),CHOOSE(WEEKDAY(A18,2),"Mo","Di","Mi","Do","Fr","Sa","So"),"") -> Mi | F18: =IF(OR(C18="",D18=""),"",MAX(0,MOD(D18-C18,1)-N(E18)/1440)) | G18: =IF(F18="","",MIN(F18,$C$6/24)) | H18: =IF(F18="","",F18-G18)
A19: =IF(10<=DAY(DATE($I$5,$I$4+1,0)),DATE($I$5,$I$4,10),"") -> 46548 | B19: =IF(ISNUMBER(A19),CHOOSE(WEEKDAY(A19,2),"Mo","Di","Mi","Do","Fr","Sa","So"),"") -> Do | F19: =IF(OR(C19="",D19=""),"",MAX(0,MOD(D19-C19,1)-N(E19)/1440)) | G19: =IF(F19="","",MIN(F19,$C$6/24)) | H19: =IF(F19="","",F19-G19)
A20: =IF(11<=DAY(DATE($I$5,$I$4+1,0)),DATE($I$5,$I$4,11),"") -> 46549 | B20: =IF(ISNUMBER(A20),CHOOSE(WEEKDAY(A20,2),"Mo","Di","Mi","Do","Fr","Sa","So"),"") -> Fr | F20: =IF(OR(C20="",D20=""),"",MAX(0,MOD(D20-C20,1)-N(E20)/1440)) | G20: =IF(F20="","",MIN(F20,$C$6/24)) | H20: =IF(F20="","",F20-G20)
A21: =IF(12<=DAY(DATE($I$5,$I$4+1,0)),DATE($I$5,$I$4,12),"") -> 46550 | B21: =IF(ISNUMBER(A21),CHOOSE(WEEKDAY(A21,2),"Mo","Di","Mi","Do","Fr","Sa","So"),"") -> Sa | F21: =IF(OR(C21="",D21=""),"",MAX(0,MOD(D21-C21,1)-N(E21)/1440)) | G21: =IF(F21="","",MIN(F21,$C$6/24)) | H21: =IF(F21="","",F21-G21)
A22: =IF(13<=DAY(DATE($I$5,$I$4+1,0)),DATE($I$5,$I$4,13),"") -> 46551 | B22: =IF(ISNUMBER(A22),CHOOSE(WEEKDAY(A22,2),"Mo","Di","Mi","Do","Fr","Sa","So"),"") -> So | F22: =IF(OR(C22="",D22=""),"",MAX(0,MOD(D22-C22,1)-N(E22)/1440)) | G22: =IF(F22="","",MIN(F22,$C$6/24)) | H22: =IF(F22="","",F22-G22)
A23: =IF(14<=DAY(DATE($I$5,$I$4+1,0)),DATE($I$5,$I$4,14),"") -> 46552 | B23: =IF(ISNUMBER(A23),CHOOSE(WEEKDAY(A23,2),"Mo","Di","Mi","Do","Fr","Sa","So"),"") -> Mo | F23: =IF(OR(C23="",D23=""),"",MAX(0,MOD(D23-C23,1)-N(E23)/1440)) | G23: =IF(F23="","",MIN(F23,$C$6/24)) | H23: =IF(F23="","",F23-G23)
A24: =IF(15<=DAY(DATE($I$5,$I$4+1,0)),DATE($I$5,$I$4,15),"") -> 46553 | B24: =IF(ISNUMBER(A24),CHOOSE(WEEKDAY(A24,2),"Mo","Di","Mi","Do","Fr","Sa","So"),"") -> Di | F24: =IF(OR(C24="",D24=""),"",MAX(0,MOD(D24-C24,1)-N(E24)/1440)) | G24: =IF(F24="","",MIN(F24,$C$6/24)) | H24: =IF(F24="","",F24-G24)
A25: =IF(16<=DAY(DATE($I$5,$I$4+1,0)),DATE($I$5,$I$4,16),"") -> 46554 | B25: =IF(ISNUMBER(A25),CHOOSE(WEEKDAY(A25,2),"Mo","Di","Mi","Do","Fr","Sa","So"),"") -> Mi | F25: =IF(OR(C25="",D25=""),"",MAX(0,MOD(D25-C25,1)-N(E25)/1440)) | G25: =IF(F25="","",MIN(F25,$C$6/24)) | H25: =IF(F25="","",F25-G25)
A26: =IF(17<=DAY(DATE($I$5,$I$4+1,0)),DATE($I$5,$I$4,17),"") -> 46555 | B26: =IF(ISNUMBER(A26),CHOOSE(WEEKDAY(A26,2),"Mo","Di","Mi","Do","Fr","Sa","So"),"") -> Do | F26: =IF(OR(C26="",D26=""),"",MAX(0,MOD(D26-C26,1)-N(E26)/1440)) | G26: =IF(F26="","",MIN(F26,$C$6/24)) | H26: =IF(F26="","",F26-G26)
A27: =IF(18<=DAY(DATE($I$5,$I$4+1,0)),DATE($I$5,$I$4,18),"") -> 46556 | B27: =IF(ISNUMBER(A27),CHOOSE(WEEKDAY(A27,2),"Mo","Di","Mi","Do","Fr","Sa","So"),"") -> Fr | F27: =IF(OR(C27="",D27=""),"",MAX(0,MOD(D27-C27,1)-N(E27)/1440)) | G27: =IF(F27="","",MIN(F27,$C$6/24)) | H27: =IF(F27="","",F27-G27)
A28: =IF(19<=DAY(DATE($I$5,$I$4+1,0)),DATE($I$5,$I$4,19),"") -> 46557 | B28: =IF(ISNUMBER(A28),CHOOSE(WEEKDAY(A28,2),"Mo","Di","Mi","Do","Fr","Sa","So"),"") -> Sa | F28: =IF(OR(C28="",D28=""),"",MAX(0,MOD(D28-C28,1)-N(E28)/1440)) | G28: =IF(F28="","",MIN(F28,$C$6/24)) | H28: =IF(F28="","",F28-G28)
A29: =IF(20<=DAY(DATE($I$5,$I$4+1,0)),DATE($I$5,$I$4,20),"") -> 46558 | B29: =IF(ISNUMBER(A29),CHOOSE(WEEKDAY(A29,2),"Mo","Di","Mi","Do","Fr","Sa","So"),"") -> So | F29: =IF(OR(C29="",D29=""),"",MAX(0,MOD(D29-C29,1)-N(E29)/1440)) | G29: =IF(F29="","",MIN(F29,$C$6/24)) | H29: =IF(F29="","",F29-G29)
A30: =IF(21<=DAY(DATE($I$5,$I$4+1,0)),DATE($I$5,$I$4,21),"") -> 46559 | B30: =IF(ISNUMBER(A30),CHOOSE(WEEKDAY(A30,2),"Mo","Di","Mi","Do","Fr","Sa","So"),"") -> Mo | F30: =IF(OR(C30="",D30=""),"",MAX(0,MOD(D30-C30,1)-N(E30)/1440)) | G30: =IF(F30="","",MIN(F30,$C$6/24)) | H30: =IF(F30="","",F30-G30)
A31: =IF(22<=DAY(DATE($I$5,$I$4+1,0)),DATE($I$5,$I$4,22),"") -> 46560 | B31: =IF(ISNUMBER(A31),CHOOSE(WEEKDAY(A31,2),"Mo","Di","Mi","Do","Fr","Sa","So"),"") -> Di | F31: =IF(OR(C31="",D31=""),"",MAX(0,MOD(D31-C31,1)-N(E31)/1440)) | G31: =IF(F31="","",MIN(F31,$C$6/24)) | H31: =IF(F31="","",F31-G31)
A32: =IF(23<=DAY(DATE($I$5,$I$4+1,0)),DATE($I$5,$I$4,23),"") -> 46561 | B32: =IF(ISNUMBER(A32),CHOOSE(WEEKDAY(A32,2),"Mo","Di","Mi","Do","Fr","Sa","So"),"") -> Mi | F32: =IF(OR(C32="",D32=""),"",MAX(0,MOD(D32-C32,1)-N(E32)/1440)) | G32: =IF(F32="","",MIN(F32,$C$6/24)) | H32: =IF(F32="","",F32-G32)
A33: =IF(24<=DAY(DATE($I$5,$I$4+1,0)),DATE($I$5,$I$4,24),"") -> 46562 | B33: =IF(ISNUMBER(A33),CHOOSE(WEEKDAY(A33,2),"Mo","Di","Mi","Do","Fr","Sa","So"),"") -> Do | F33: =IF(OR(C33="",D33=""),"",MAX(0,MOD(D33-C33,1)-N(E33)/1440)) | G33: =IF(F33="","",MIN(F33,$C$6/24)) | H33: =IF(F33="","",F33-G33)
A34: =IF(25<=DAY(DATE($I$5,$I$4+1,0)),DATE($I$5,$I$4,25),"") -> 46563 | B34: =IF(ISNUMBER(A34),CHOOSE(WEEKDAY(A34,2),"Mo","Di","Mi","Do","Fr","Sa","So"),"") -> Fr | F34: =IF(OR(C34="",D34=""),"",MAX(0,MOD(D34-C34,1)-N(E34)/1440)) | G34: =IF(F34="","",MIN(F34,$C$6/24)) | H34: =IF(F34="","",F34-G34)
A35: =IF(26<=DAY(DATE($I$5,$I$4+1,0)),DATE($I$5,$I$4,26),"") -> 46564 | B35: =IF(ISNUMBER(A35),CHOOSE(WEEKDAY(A35,2),"Mo","Di","Mi","Do","Fr","Sa","So"),"") -> Sa | F35: =IF(OR(C35="",D35=""),"",MAX(0,MOD(D35-C35,1)-N(E35)/1440)) | G35: =IF(F35="","",MIN(F35,$C$6/24)) | H35: =IF(F35="","",F35-G35)
A36: =IF(27<=DAY(DATE($I$5,$I$4+1,0)),DATE($I$5,$I$4,27),"") -> 46565 | B36: =IF(ISNUMBER(A36),CHOOSE(WEEKDAY(A36,2),"Mo","Di","Mi","Do","Fr","Sa","So"),"") -> So | F36: =IF(OR(C36="",D36=""),"",MAX(0,MOD(D36-C36,1)-N(E36)/1440)) | G36: =IF(F36="","",MIN(F36,$C$6/24)) | H36: =IF(F36="","",F36-G36)
A37: =IF(28<=DAY(DATE($I$5,$I$4+1,0)),DATE($I$5,$I$4,28),"") -> 46566 | B37: =IF(ISNUMBER(A37),CHOOSE(WEEKDAY(A37,2),"Mo","Di","Mi","Do","Fr","Sa","So"),"") -> Mo | F37: =IF(OR(C37="",D37=""),"",MAX(0,MOD(D37-C37,1)-N(E37)/1440)) | G37: =IF(F37="","",MIN(F37,$C$6/24)) | H37: =IF(F37="","",F37-G37)
A38: =IF(29<=DAY(DATE($I$5,$I$4+1,0)),DATE($I$5,$I$4,29),"") -> 46567 | B38: =IF(ISNUMBER(A38),CHOOSE(WEEKDAY(A38,2),"Mo","Di","Mi","Do","Fr","Sa","So"),"") -> Di | F38: =IF(OR(C38="",D38=""),"",MAX(0,MOD(D38-C38,1)-N(E38)/1440)) | G38: =IF(F38="","",MIN(F38,$C$6/24)) | H38: =IF(F38="","",F38-G38)
A39: =IF(30<=DAY(DATE($I$5,$I$4+1,0)),DATE($I$5,$I$4,30),"") -> 46568 | B39: =IF(ISNUMBER(A39),CHOOSE(WEEKDAY(A39,2),"Mo","Di","Mi","Do","Fr","Sa","So"),"") -> Mi | F39: =IF(OR(C39="",D39=""),"",MAX(0,MOD(D39-C39,1)-N(E39)/1440)) | G39: =IF(F39="","",MIN(F39,$C$6/24)) | H39: =IF(F39="","",F39-G39)
A40: =IF(31<=DAY(DATE($I$5,$I$4+1,0)),DATE($I$5,$I$4,31),"") | B40: =IF(ISNUMBER(A40),CHOOSE(WEEKDAY(A40,2),"Mo","Di","Mi","Do","Fr","Sa","So"),"") | F40: =IF(OR(C40="",D40=""),"",MAX(0,MOD(D40-C40,1)-N(E40)/1440)) | G40: =IF(F40="","",MIN(F40,$C$6/24)) | H40: =IF(F40="","",F40-G40)
A41: Summe Monat | F41: =SUM(F10:F40) -> 0 | G41: =SUM(G10:G40) -> 0 | H41: =SUM(H10:H40) -> 0 | I41: =COUNTA(I10:I40) -> 0
A43: Monatsübersicht
A44: Arbeitsstunden | C44: Reguläre Stunden | E44: Überstunden | G44: Stunden dezimal | I44: Arbeitstage | J44: Kosten (optional)
A45: =F41 -> 0 | C45: =G41 -> 0 | E45: =H41 -> 0 | G45: =F41*24 -> 0 | I45: =COUNTIF(F10:F40,">0") -> 0 | J45: =IF(I6="","",ROUND((G41+H41*(1+N(I7)))*24*I6,2))
A47: Abwesenheiten (Tage)
A48: =INDEX(AbsenceCodes,1)&" · "&INDEX(AbsenceNames,1) -> U · Urlaub | B48: =INDEX(AbsenceCodes,2)&" · "&INDEX(AbsenceNames,2) -> SU · Sonderurlaub | C48: =INDEX(AbsenceCodes,3)&" · "&INDEX(AbsenceNames,3) -> K · Krankheit | D48: =INDEX(AbsenceCodes,4)&" · "&INDEX(AbsenceNames,4) -> ZA · Zeitausgleich | E48: =INDEX(AbsenceCodes,5)&" · "&INDEX(AbsenceNames,5) -> UF · Arbeitsunfall | F48: =INDEX(AbsenceCodes,6)&" · "&INDEX(AbsenceNames,6) -> EZ · Elternzeit | G48: =INDEX(AbsenceCodes,7)&" · "&INDEX(AbsenceNames,7) -> R · Ruhetag | H48: Feiertage im Zeitraum
A49: =COUNTIF($I$10:$I$40,INDEX(AbsenceCodes,1)) -> 0 | B49: =COUNTIF($I$10:$I$40,INDEX(AbsenceCodes,2)) -> 0 | C49: =COUNTIF($I$10:$I$40,INDEX(AbsenceCodes,3)) -> 0 | D49: =COUNTIF($I$10:$I$40,INDEX(AbsenceCodes,4)) -> 0 | E49: =COUNTIF($I$10:$I$40,INDEX(AbsenceCodes,5)) -> 0 | F49: =COUNTIF($I$10:$I$40,INDEX(AbsenceCodes,6)) -> 0 | G49: =COUNTIF($I$10:$I$40,INDEX(AbsenceCodes,7)) -> 0 | H49: =SUMPRODUCT(ISNUMBER(A10:A40)*ISNUMBER(MATCH(A10:A40,Holidays,0))) -> 0
A51: Mitarbeiter/in und Arbeitgeber bestätigen, dass die eingetragenen Stunden den tatsächlich geleisteten entsprechen.
A53: Unterschrift Mitarbeiter/in: ______________________________ | F53: Unterschrift Arbeitgeber: ______________________________
A54: Datum: ____ / ____ / ________

Sheet Juli
A1: Stundenzettel Jahr · Juli
A2: Kostenlose Vorlage von NoBadge · hellviolette Zellen = ausfüllen · graue Zellen = berechnet, nicht überschreiben
A4: Mitarbeiter/in | C4: =IF(Jahresübersicht!$C$5="","",Jahresübersicht!$C$5) | G4: Monat (1-12) | I4: 7 | J4: =IF(AND(ISNUMBER($I$4),$I$4>=1,$I$4<=12),CHOOSE($I$4,"Januar","Februar","März","April","Mai","Juni","Juli","August","September","Oktober","November","Dezember")&" "&$I$5,"") -> Juli 2027
A5: Tätigkeit / Abteilung | C5: =IF(Jahresübersicht!$C$6="","",Jahresübersicht!$C$6) | G5: Jahr | I5: =Jahresübersicht!$I$5 -> 2027
A6: Regelarbeitszeit pro Tag (Std.) | C6: =Jahresübersicht!$I$6 -> 8 | D6: darüber = Überstunden | G6: Stundenlohn (optional) | I6: =IF(Jahresübersicht!$C$7="","",Jahresübersicht!$C$7)
G7: Überstundenzuschlag (optional) | I7: =IF(Jahresübersicht!$I$7="","",Jahresübersicht!$I$7)
A9: Datum | B9: Tag | C9: Beginn | D9: Ende | E9: Pause (Min.) | F9: Arbeits- zeit | G9: Regulär | H9: Überstunden | I9: Abwesenheit | J9: Notizen
A10: =IF(1<=DAY(DATE($I$5,$I$4+1,0)),DATE($I$5,$I$4,1),"") -> 46569 | B10: =IF(ISNUMBER(A10),CHOOSE(WEEKDAY(A10,2),"Mo","Di","Mi","Do","Fr","Sa","So"),"") -> Do | F10: =IF(OR(C10="",D10=""),"",MAX(0,MOD(D10-C10,1)-N(E10)/1440)) | G10: =IF(F10="","",MIN(F10,$C$6/24)) | H10: =IF(F10="","",F10-G10)
A11: =IF(2<=DAY(DATE($I$5,$I$4+1,0)),DATE($I$5,$I$4,2),"") -> 46570 | B11: =IF(ISNUMBER(A11),CHOOSE(WEEKDAY(A11,2),"Mo","Di","Mi","Do","Fr","Sa","So"),"") -> Fr | F11: =IF(OR(C11="",D11=""),"",MAX(0,MOD(D11-C11,1)-N(E11)/1440)) | G11: =IF(F11="","",MIN(F11,$C$6/24)) | H11: =IF(F11="","",F11-G11)
A12: =IF(3<=DAY(DATE($I$5,$I$4+1,0)),DATE($I$5,$I$4,3),"") -> 46571 | B12: =IF(ISNUMBER(A12),CHOOSE(WEEKDAY(A12,2),"Mo","Di","Mi","Do","Fr","Sa","So"),"") -> Sa | F12: =IF(OR(C12="",D12=""),"",MAX(0,MOD(D12-C12,1)-N(E12)/1440)) | G12: =IF(F12="","",MIN(F12,$C$6/24)) | H12: =IF(F12="","",F12-G12)
A13: =IF(4<=DAY(DATE($I$5,$I$4+1,0)),DATE($I$5,$I$4,4),"") -> 46572 | B13: =IF(ISNUMBER(A13),CHOOSE(WEEKDAY(A13,2),"Mo","Di","Mi","Do","Fr","Sa","So"),"") -> So | F13: =IF(OR(C13="",D13=""),"",MAX(0,MOD(D13-C13,1)-N(E13)/1440)) | G13: =IF(F13="","",MIN(F13,$C$6/24)) | H13: =IF(F13="","",F13-G13)
A14: =IF(5<=DAY(DATE($I$5,$I$4+1,0)),DATE($I$5,$I$4,5),"") -> 46573 | B14: =IF(ISNUMBER(A14),CHOOSE(WEEKDAY(A14,2),"Mo","Di","Mi","Do","Fr","Sa","So"),"") -> Mo | F14: =IF(OR(C14="",D14=""),"",MAX(0,MOD(D14-C14,1)-N(E14)/1440)) | G14: =IF(F14="","",MIN(F14,$C$6/24)) | H14: =IF(F14="","",F14-G14)
A15: =IF(6<=DAY(DATE($I$5,$I$4+1,0)),DATE($I$5,$I$4,6),"") -> 46574 | B15: =IF(ISNUMBER(A15),CHOOSE(WEEKDAY(A15,2),"Mo","Di","Mi","Do","Fr","Sa","So"),"") -> Di | F15: =IF(OR(C15="",D15=""),"",MAX(0,MOD(D15-C15,1)-N(E15)/1440)) | G15: =IF(F15="","",MIN(F15,$C$6/24)) | H15: =IF(F15="","",F15-G15)
A16: =IF(7<=DAY(DATE($I$5,$I$4+1,0)),DATE($I$5,$I$4,7),"") -> 46575 | B16: =IF(ISNUMBER(A16),CHOOSE(WEEKDAY(A16,2),"Mo","Di","Mi","Do","Fr","Sa","So"),"") -> Mi | F16: =IF(OR(C16="",D16=""),"",MAX(0,MOD(D16-C16,1)-N(E16)/1440)) | G16: =IF(F16="","",MIN(F16,$C$6/24)) | H16: =IF(F16="","",F16-G16)
A17: =IF(8<=DAY(DATE($I$5,$I$4+1,0)),DATE($I$5,$I$4,8),"") -> 46576 | B17: =IF(ISNUMBER(A17),CHOOSE(WEEKDAY(A17,2),"Mo","Di","Mi","Do","Fr","Sa","So"),"") -> Do | F17: =IF(OR(C17="",D17=""),"",MAX(0,MOD(D17-C17,1)-N(E17)/1440)) | G17: =IF(F17="","",MIN(F17,$C$6/24)) | H17: =IF(F17="","",F17-G17)
A18: =IF(9<=DAY(DATE($I$5,$I$4+1,0)),DATE($I$5,$I$4,9),"") -> 46577 | B18: =IF(ISNUMBER(A18),CHOOSE(WEEKDAY(A18,2),"Mo","Di","Mi","Do","Fr","Sa","So"),"") -> Fr | F18: =IF(OR(C18="",D18=""),"",MAX(0,MOD(D18-C18,1)-N(E18)/1440)) | G18: =IF(F18="","",MIN(F18,$C$6/24)) | H18: =IF(F18="","",F18-G18)
A19: =IF(10<=DAY(DATE($I$5,$I$4+1,0)),DATE($I$5,$I$4,10),"") -> 46578 | B19: =IF(ISNUMBER(A19),CHOOSE(WEEKDAY(A19,2),"Mo","Di","Mi","Do","Fr","Sa","So"),"") -> Sa | F19: =IF(OR(C19="",D19=""),"",MAX(0,MOD(D19-C19,1)-N(E19)/1440)) | G19: =IF(F19="","",MIN(F19,$C$6/24)) | H19: =IF(F19="","",F19-G19)
A20: =IF(11<=DAY(DATE($I$5,$I$4+1,0)),DATE($I$5,$I$4,11),"") -> 46579 | B20: =IF(ISNUMBER(A20),CHOOSE(WEEKDAY(A20,2),"Mo","Di","Mi","Do","Fr","Sa","So"),"") -> So | F20: =IF(OR(C20="",D20=""),"",MAX(0,MOD(D20-C20,1)-N(E20)/1440)) | G20: =IF(F20="","",MIN(F20,$C$6/24)) | H20: =IF(F20="","",F20-G20)
A21: =IF(12<=DAY(DATE($I$5,$I$4+1,0)),DATE($I$5,$I$4,12),"") -> 46580 | B21: =IF(ISNUMBER(A21),CHOOSE(WEEKDAY(A21,2),"Mo","Di","Mi","Do","Fr","Sa","So"),"") -> Mo | F21: =IF(OR(C21="",D21=""),"",MAX(0,MOD(D21-C21,1)-N(E21)/1440)) | G21: =IF(F21="","",MIN(F21,$C$6/24)) | H21: =IF(F21="","",F21-G21)
A22: =IF(13<=DAY(DATE($I$5,$I$4+1,0)),DATE($I$5,$I$4,13),"") -> 46581 | B22: =IF(ISNUMBER(A22),CHOOSE(WEEKDAY(A22,2),"Mo","Di","Mi","Do","Fr","Sa","So"),"") -> Di | F22: =IF(OR(C22="",D22=""),"",MAX(0,MOD(D22-C22,1)-N(E22)/1440)) | G22: =IF(F22="","",MIN(F22,$C$6/24)) | H22: =IF(F22="","",F22-G22)
A23: =IF(14<=DAY(DATE($I$5,$I$4+1,0)),DATE($I$5,$I$4,14),"") -> 46582 | B23: =IF(ISNUMBER(A23),CHOOSE(WEEKDAY(A23,2),"Mo","Di","Mi","Do","Fr","Sa","So"),"") -> Mi | F23: =IF(OR(C23="",D23=""),"",MAX(0,MOD(D23-C23,1)-N(E23)/1440)) | G23: =IF(F23="","",MIN(F23,$C$6/24)) | H23: =IF(F23="","",F23-G23)
A24: =IF(15<=DAY(DATE($I$5,$I$4+1,0)),DATE($I$5,$I$4,15),"") -> 46583 | B24: =IF(ISNUMBER(A24),CHOOSE(WEEKDAY(A24,2),"Mo","Di","Mi","Do","Fr","Sa","So"),"") -> Do | F24: =IF(OR(C24="",D24=""),"",MAX(0,MOD(D24-C24,1)-N(E24)/1440)) | G24: =IF(F24="","",MIN(F24,$C$6/24)) | H24: =IF(F24="","",F24-G24)
A25: =IF(16<=DAY(DATE($I$5,$I$4+1,0)),DATE($I$5,$I$4,16),"") -> 46584 | B25: =IF(ISNUMBER(A25),CHOOSE(WEEKDAY(A25,2),"Mo","Di","Mi","Do","Fr","Sa","So"),"") -> Fr | F25: =IF(OR(C25="",D25=""),"",MAX(0,MOD(D25-C25,1)-N(E25)/1440)) | G25: =IF(F25="","",MIN(F25,$C$6/24)) | H25: =IF(F25="","",F25-G25)
A26: =IF(17<=DAY(DATE($I$5,$I$4+1,0)),DATE($I$5,$I$4,17),"") -> 46585 | B26: =IF(ISNUMBER(A26),CHOOSE(WEEKDAY(A26,2),"Mo","Di","Mi","Do","Fr","Sa","So"),"") -> Sa | F26: =IF(OR(C26="",D26=""),"",MAX(0,MOD(D26-C26,1)-N(E26)/1440)) | G26: =IF(F26="","",MIN(F26,$C$6/24)) | H26: =IF(F26="","",F26-G26)
A27: =IF(18<=DAY(DATE($I$5,$I$4+1,0)),DATE($I$5,$I$4,18),"") -> 46586 | B27: =IF(ISNUMBER(A27),CHOOSE(WEEKDAY(A27,2),"Mo","Di","Mi","Do","Fr","Sa","So"),"") -> So | F27: =IF(OR(C27="",D27=""),"",MAX(0,MOD(D27-C27,1)-N(E27)/1440)) | G27: =IF(F27="","",MIN(F27,$C$6/24)) | H27: =IF(F27="","",F27-G27)
A28: =IF(19<=DAY(DATE($I$5,$I$4+1,0)),DATE($I$5,$I$4,19),"") -> 46587 | B28: =IF(ISNUMBER(A28),CHOOSE(WEEKDAY(A28,2),"Mo","Di","Mi","Do","Fr","Sa","So"),"") -> Mo | F28: =IF(OR(C28="",D28=""),"",MAX(0,MOD(D28-C28,1)-N(E28)/1440)) | G28: =IF(F28="","",MIN(F28,$C$6/24)) | H28: =IF(F28="","",F28-G28)
A29: =IF(20<=DAY(DATE($I$5,$I$4+1,0)),DATE($I$5,$I$4,20),"") -> 46588 | B29: =IF(ISNUMBER(A29),CHOOSE(WEEKDAY(A29,2),"Mo","Di","Mi","Do","Fr","Sa","So"),"") -> Di | F29: =IF(OR(C29="",D29=""),"",MAX(0,MOD(D29-C29,1)-N(E29)/1440)) | G29: =IF(F29="","",MIN(F29,$C$6/24)) | H29: =IF(F29="","",F29-G29)
A30: =IF(21<=DAY(DATE($I$5,$I$4+1,0)),DATE($I$5,$I$4,21),"") -> 46589 | B30: =IF(ISNUMBER(A30),CHOOSE(WEEKDAY(A30,2),"Mo","Di","Mi","Do","Fr","Sa","So"),"") -> Mi | F30: =IF(OR(C30="",D30=""),"",MAX(0,MOD(D30-C30,1)-N(E30)/1440)) | G30: =IF(F30="","",MIN(F30,$C$6/24)) | H30: =IF(F30="","",F30-G30)
A31: =IF(22<=DAY(DATE($I$5,$I$4+1,0)),DATE($I$5,$I$4,22),"") -> 46590 | B31: =IF(ISNUMBER(A31),CHOOSE(WEEKDAY(A31,2),"Mo","Di","Mi","Do","Fr","Sa","So"),"") -> Do | F31: =IF(OR(C31="",D31=""),"",MAX(0,MOD(D31-C31,1)-N(E31)/1440)) | G31: =IF(F31="","",MIN(F31,$C$6/24)) | H31: =IF(F31="","",F31-G31)
A32: =IF(23<=DAY(DATE($I$5,$I$4+1,0)),DATE($I$5,$I$4,23),"") -> 46591 | B32: =IF(ISNUMBER(A32),CHOOSE(WEEKDAY(A32,2),"Mo","Di","Mi","Do","Fr","Sa","So"),"") -> Fr | F32: =IF(OR(C32="",D32=""),"",MAX(0,MOD(D32-C32,1)-N(E32)/1440)) | G32: =IF(F32="","",MIN(F32,$C$6/24)) | H32: =IF(F32="","",F32-G32)
A33: =IF(24<=DAY(DATE($I$5,$I$4+1,0)),DATE($I$5,$I$4,24),"") -> 46592 | B33: =IF(ISNUMBER(A33),CHOOSE(WEEKDAY(A33,2),"Mo","Di","Mi","Do","Fr","Sa","So"),"") -> Sa | F33: =IF(OR(C33="",D33=""),"",MAX(0,MOD(D33-C33,1)-N(E33)/1440)) | G33: =IF(F33="","",MIN(F33,$C$6/24)) | H33: =IF(F33="","",F33-G33)
A34: =IF(25<=DAY(DATE($I$5,$I$4+1,0)),DATE($I$5,$I$4,25),"") -> 46593 | B34: =IF(ISNUMBER(A34),CHOOSE(WEEKDAY(A34,2),"Mo","Di","Mi","Do","Fr","Sa","So"),"") -> So | F34: =IF(OR(C34="",D34=""),"",MAX(0,MOD(D34-C34,1)-N(E34)/1440)) | G34: =IF(F34="","",MIN(F34,$C$6/24)) | H34: =IF(F34="","",F34-G34)
A35: =IF(26<=DAY(DATE($I$5,$I$4+1,0)),DATE($I$5,$I$4,26),"") -> 46594 | B35: =IF(ISNUMBER(A35),CHOOSE(WEEKDAY(A35,2),"Mo","Di","Mi","Do","Fr","Sa","So"),"") -> Mo | F35: =IF(OR(C35="",D35=""),"",MAX(0,MOD(D35-C35,1)-N(E35)/1440)) | G35: =IF(F35="","",MIN(F35,$C$6/24)) | H35: =IF(F35="","",F35-G35)
A36: =IF(27<=DAY(DATE($I$5,$I$4+1,0)),DATE($I$5,$I$4,27),"") -> 46595 | B36: =IF(ISNUMBER(A36),CHOOSE(WEEKDAY(A36,2),"Mo","Di","Mi","Do","Fr","Sa","So"),"") -> Di | F36: =IF(OR(C36="",D36=""),"",MAX(0,MOD(D36-C36,1)-N(E36)/1440)) | G36: =IF(F36="","",MIN(F36,$C$6/24)) | H36: =IF(F36="","",F36-G36)
A37: =IF(28<=DAY(DATE($I$5,$I$4+1,0)),DATE($I$5,$I$4,28),"") -> 46596 | B37: =IF(ISNUMBER(A37),CHOOSE(WEEKDAY(A37,2),"Mo","Di","Mi","Do","Fr","Sa","So"),"") -> Mi | F37: =IF(OR(C37="",D37=""),"",MAX(0,MOD(D37-C37,1)-N(E37)/1440)) | G37: =IF(F37="","",MIN(F37,$C$6/24)) | H37: =IF(F37="","",F37-G37)
A38: =IF(29<=DAY(DATE($I$5,$I$4+1,0)),DATE($I$5,$I$4,29),"") -> 46597 | B38: =IF(ISNUMBER(A38),CHOOSE(WEEKDAY(A38,2),"Mo","Di","Mi","Do","Fr","Sa","So"),"") -> Do | F38: =IF(OR(C38="",D38=""),"",MAX(0,MOD(D38-C38,1)-N(E38)/1440)) | G38: =IF(F38="","",MIN(F38,$C$6/24)) | H38: =IF(F38="","",F38-G38)
A39: =IF(30<=DAY(DATE($I$5,$I$4+1,0)),DATE($I$5,$I$4,30),"") -> 46598 | B39: =IF(ISNUMBER(A39),CHOOSE(WEEKDAY(A39,2),"Mo","Di","Mi","Do","Fr","Sa","So"),"") -> Fr | F39: =IF(OR(C39="",D39=""),"",MAX(0,MOD(D39-C39,1)-N(E39)/1440)) | G39: =IF(F39="","",MIN(F39,$C$6/24)) | H39: =IF(F39="","",F39-G39)
A40: =IF(31<=DAY(DATE($I$5,$I$4+1,0)),DATE($I$5,$I$4,31),"") -> 46599 | B40: =IF(ISNUMBER(A40),CHOOSE(WEEKDAY(A40,2),"Mo","Di","Mi","Do","Fr","Sa","So"),"") -> Sa | F40: =IF(OR(C40="",D40=""),"",MAX(0,MOD(D40-C40,1)-N(E40)/1440)) | G40: =IF(F40="","",MIN(F40,$C$6/24)) | H40: =IF(F40="","",F40-G40)
A41: Summe Monat | F41: =SUM(F10:F40) -> 0 | G41: =SUM(G10:G40) -> 0 | H41: =SUM(H10:H40) -> 0 | I41: =COUNTA(I10:I40) -> 0
A43: Monatsübersicht
A44: Arbeitsstunden | C44: Reguläre Stunden | E44: Überstunden | G44: Stunden dezimal | I44: Arbeitstage | J44: Kosten (optional)
A45: =F41 -> 0 | C45: =G41 -> 0 | E45: =H41 -> 0 | G45: =F41*24 -> 0 | I45: =COUNTIF(F10:F40,">0") -> 0 | J45: =IF(I6="","",ROUND((G41+H41*(1+N(I7)))*24*I6,2))
A47: Abwesenheiten (Tage)
A48: =INDEX(AbsenceCodes,1)&" · "&INDEX(AbsenceNames,1) -> U · Urlaub | B48: =INDEX(AbsenceCodes,2)&" · "&INDEX(AbsenceNames,2) -> SU · Sonderurlaub | C48: =INDEX(AbsenceCodes,3)&" · "&INDEX(AbsenceNames,3) -> K · Krankheit | D48: =INDEX(AbsenceCodes,4)&" · "&INDEX(AbsenceNames,4) -> ZA · Zeitausgleich | E48: =INDEX(AbsenceCodes,5)&" · "&INDEX(AbsenceNames,5) -> UF · Arbeitsunfall | F48: =INDEX(AbsenceCodes,6)&" · "&INDEX(AbsenceNames,6) -> EZ · Elternzeit | G48: =INDEX(AbsenceCodes,7)&" · "&INDEX(AbsenceNames,7) -> R · Ruhetag | H48: Feiertage im Zeitraum
A49: =COUNTIF($I$10:$I$40,INDEX(AbsenceCodes,1)) -> 0 | B49: =COUNTIF($I$10:$I$40,INDEX(AbsenceCodes,2)) -> 0 | C49: =COUNTIF($I$10:$I$40,INDEX(AbsenceCodes,3)) -> 0 | D49: =COUNTIF($I$10:$I$40,INDEX(AbsenceCodes,4)) -> 0 | E49: =COUNTIF($I$10:$I$40,INDEX(AbsenceCodes,5)) -> 0 | F49: =COUNTIF($I$10:$I$40,INDEX(AbsenceCodes,6)) -> 0 | G49: =COUNTIF($I$10:$I$40,INDEX(AbsenceCodes,7)) -> 0 | H49: =SUMPRODUCT(ISNUMBER(A10:A40)*ISNUMBER(MATCH(A10:A40,Holidays,0))) -> 0
A51: Mitarbeiter/in und Arbeitgeber bestätigen, dass die eingetragenen Stunden den tatsächlich geleisteten entsprechen.
A53: Unterschrift Mitarbeiter/in: ______________________________ | F53: Unterschrift Arbeitgeber: ______________________________
A54: Datum: ____ / ____ / ________

Sheet August
A1: Stundenzettel Jahr · August
A2: Kostenlose Vorlage von NoBadge · hellviolette Zellen = ausfüllen · graue Zellen = berechnet, nicht überschreiben
A4: Mitarbeiter/in | C4: =IF(Jahresübersicht!$C$5="","",Jahresübersicht!$C$5) | G4: Monat (1-12) | I4: 8 | J4: =IF(AND(ISNUMBER($I$4),$I$4>=1,$I$4<=12),CHOOSE($I$4,"Januar","Februar","März","April","Mai","Juni","Juli","August","September","Oktober","November","Dezember")&" "&$I$5,"") -> August 2027
A5: Tätigkeit / Abteilung | C5: =IF(Jahresübersicht!$C$6="","",Jahresübersicht!$C$6) | G5: Jahr | I5: =Jahresübersicht!$I$5 -> 2027
A6: Regelarbeitszeit pro Tag (Std.) | C6: =Jahresübersicht!$I$6 -> 8 | D6: darüber = Überstunden | G6: Stundenlohn (optional) | I6: =IF(Jahresübersicht!$C$7="","",Jahresübersicht!$C$7)
G7: Überstundenzuschlag (optional) | I7: =IF(Jahresübersicht!$I$7="","",Jahresübersicht!$I$7)
A9: Datum | B9: Tag | C9: Beginn | D9: Ende | E9: Pause (Min.) | F9: Arbeits- zeit | G9: Regulär | H9: Überstunden | I9: Abwesenheit | J9: Notizen
A10: =IF(1<=DAY(DATE($I$5,$I$4+1,0)),DATE($I$5,$I$4,1),"") -> 46600 | B10: =IF(ISNUMBER(A10),CHOOSE(WEEKDAY(A10,2),"Mo","Di","Mi","Do","Fr","Sa","So"),"") -> So | F10: =IF(OR(C10="",D10=""),"",MAX(0,MOD(D10-C10,1)-N(E10)/1440)) | G10: =IF(F10="","",MIN(F10,$C$6/24)) | H10: =IF(F10="","",F10-G10)
A11: =IF(2<=DAY(DATE($I$5,$I$4+1,0)),DATE($I$5,$I$4,2),"") -> 46601 | B11: =IF(ISNUMBER(A11),CHOOSE(WEEKDAY(A11,2),"Mo","Di","Mi","Do","Fr","Sa","So"),"") -> Mo | F11: =IF(OR(C11="",D11=""),"",MAX(0,MOD(D11-C11,1)-N(E11)/1440)) | G11: =IF(F11="","",MIN(F11,$C$6/24)) | H11: =IF(F11="","",F11-G11)
A12: =IF(3<=DAY(DATE($I$5,$I$4+1,0)),DATE($I$5,$I$4,3),"") -> 46602 | B12: =IF(ISNUMBER(A12),CHOOSE(WEEKDAY(A12,2),"Mo","Di","Mi","Do","Fr","Sa","So"),"") -> Di | F12: =IF(OR(C12="",D12=""),"",MAX(0,MOD(D12-C12,1)-N(E12)/1440)) | G12: =IF(F12="","",MIN(F12,$C$6/24)) | H12: =IF(F12="","",F12-G12)
A13: =IF(4<=DAY(DATE($I$5,$I$4+1,0)),DATE($I$5,$I$4,4),"") -> 46603 | B13: =IF(ISNUMBER(A13),CHOOSE(WEEKDAY(A13,2),"Mo","Di","Mi","Do","Fr","Sa","So"),"") -> Mi | F13: =IF(OR(C13="",D13=""),"",MAX(0,MOD(D13-C13,1)-N(E13)/1440)) | G13: =IF(F13="","",MIN(F13,$C$6/24)) | H13: =IF(F13="","",F13-G13)
A14: =IF(5<=DAY(DATE($I$5,$I$4+1,0)),DATE($I$5,$I$4,5),"") -> 46604 | B14: =IF(ISNUMBER(A14),CHOOSE(WEEKDAY(A14,2),"Mo","Di","Mi","Do","Fr","Sa","So"),"") -> Do | F14: =IF(OR(C14="",D14=""),"",MAX(0,MOD(D14-C14,1)-N(E14)/1440)) | G14: =IF(F14="","",MIN(F14,$C$6/24)) | H14: =IF(F14="","",F14-G14)
A15: =IF(6<=DAY(DATE($I$5,$I$4+1,0)),DATE($I$5,$I$4,6),"") -> 46605 | B15: =IF(ISNUMBER(A15),CHOOSE(WEEKDAY(A15,2),"Mo","Di","Mi","Do","Fr","Sa","So"),"") -> Fr | F15: =IF(OR(C15="",D15=""),"",MAX(0,MOD(D15-C15,1)-N(E15)/1440)) | G15: =IF(F15="","",MIN(F15,$C$6/24)) | H15: =IF(F15="","",F15-G15)
A16: =IF(7<=DAY(DATE($I$5,$I$4+1,0)),DATE($I$5,$I$4,7),"") -> 46606 | B16: =IF(ISNUMBER(A16),CHOOSE(WEEKDAY(A16,2),"Mo","Di","Mi","Do","Fr","Sa","So"),"") -> Sa | F16: =IF(OR(C16="",D16=""),"",MAX(0,MOD(D16-C16,1)-N(E16)/1440)) | G16: =IF(F16="","",MIN(F16,$C$6/24)) | H16: =IF(F16="","",F16-G16)
A17: =IF(8<=DAY(DATE($I$5,$I$4+1,0)),DATE($I$5,$I$4,8),"") -> 46607 | B17: =IF(ISNUMBER(A17),CHOOSE(WEEKDAY(A17,2),"Mo","Di","Mi","Do","Fr","Sa","So"),"") -> So | F17: =IF(OR(C17="",D17=""),"",MAX(0,MOD(D17-C17,1)-N(E17)/1440)) | G17: =IF(F17="","",MIN(F17,$C$6/24)) | H17: =IF(F17="","",F17-G17)
A18: =IF(9<=DAY(DATE($I$5,$I$4+1,0)),DATE($I$5,$I$4,9),"") -> 46608 | B18: =IF(ISNUMBER(A18),CHOOSE(WEEKDAY(A18,2),"Mo","Di","Mi","Do","Fr","Sa","So"),"") -> Mo | F18: =IF(OR(C18="",D18=""),"",MAX(0,MOD(D18-C18,1)-N(E18)/1440)) | G18: =IF(F18="","",MIN(F18,$C$6/24)) | H18: =IF(F18="","",F18-G18)
A19: =IF(10<=DAY(DATE($I$5,$I$4+1,0)),DATE($I$5,$I$4,10),"") -> 46609 | B19: =IF(ISNUMBER(A19),CHOOSE(WEEKDAY(A19,2),"Mo","Di","Mi","Do","Fr","Sa","So"),"") -> Di | F19: =IF(OR(C19="",D19=""),"",MAX(0,MOD(D19-C19,1)-N(E19)/1440)) | G19: =IF(F19="","",MIN(F19,$C$6/24)) | H19: =IF(F19="","",F19-G19)
A20: =IF(11<=DAY(DATE($I$5,$I$4+1,0)),DATE($I$5,$I$4,11),"") -> 46610 | B20: =IF(ISNUMBER(A20),CHOOSE(WEEKDAY(A20,2),"Mo","Di","Mi","Do","Fr","Sa","So"),"") -> Mi | F20: =IF(OR(C20="",D20=""),"",MAX(0,MOD(D20-C20,1)-N(E20)/1440)) | G20: =IF(F20="","",MIN(F20,$C$6/24)) | H20: =IF(F20="","",F20-G20)
A21: =IF(12<=DAY(DATE($I$5,$I$4+1,0)),DATE($I$5,$I$4,12),"") -> 46611 | B21: =IF(ISNUMBER(A21),CHOOSE(WEEKDAY(A21,2),"Mo","Di","Mi","Do","Fr","Sa","So"),"") -> Do | F21: =IF(OR(C21="",D21=""),"",MAX(0,MOD(D21-C21,1)-N(E21)/1440)) | G21: =IF(F21="","",MIN(F21,$C$6/24)) | H21: =IF(F21="","",F21-G21)
A22: =IF(13<=DAY(DATE($I$5,$I$4+1,0)),DATE($I$5,$I$4,13),"") -> 46612 | B22: =IF(ISNUMBER(A22),CHOOSE(WEEKDAY(A22,2),"Mo","Di","Mi","Do","Fr","Sa","So"),"") -> Fr | F22: =IF(OR(C22="",D22=""),"",MAX(0,MOD(D22-C22,1)-N(E22)/1440)) | G22: =IF(F22="","",MIN(F22,$C$6/24)) | H22: =IF(F22="","",F22-G22)
A23: =IF(14<=DAY(DATE($I$5,$I$4+1,0)),DATE($I$5,$I$4,14),"") -> 46613 | B23: =IF(ISNUMBER(A23),CHOOSE(WEEKDAY(A23,2),"Mo","Di","Mi","Do","Fr","Sa","So"),"") -> Sa | F23: =IF(OR(C23="",D23=""),"",MAX(0,MOD(D23-C23,1)-N(E23)/1440)) | G23: =IF(F23="","",MIN(F23,$C$6/24)) | H23: =IF(F23="","",F23-G23)
A24: =IF(15<=DAY(DATE($I$5,$I$4+1,0)),DATE($I$5,$I$4,15),"") -> 46614 | B24: =IF(ISNUMBER(A24),CHOOSE(WEEKDAY(A24,2),"Mo","Di","Mi","Do","Fr","Sa","So"),"") -> So | F24: =IF(OR(C24="",D24=""),"",MAX(0,MOD(D24-C24,1)-N(E24)/1440)) | G24: =IF(F24="","",MIN(F24,$C$6/24)) | H24: =IF(F24="","",F24-G24)
A25: =IF(16<=DAY(DATE($I$5,$I$4+1,0)),DATE($I$5,$I$4,16),"") -> 46615 | B25: =IF(ISNUMBER(A25),CHOOSE(WEEKDAY(A25,2),"Mo","Di","Mi","Do","Fr","Sa","So"),"") -> Mo | F25: =IF(OR(C25="",D25=""),"",MAX(0,MOD(D25-C25,1)-N(E25)/1440)) | G25: =IF(F25="","",MIN(F25,$C$6/24)) | H25: =IF(F25="","",F25-G25)
A26: =IF(17<=DAY(DATE($I$5,$I$4+1,0)),DATE($I$5,$I$4,17),"") -> 46616 | B26: =IF(ISNUMBER(A26),CHOOSE(WEEKDAY(A26,2),"Mo","Di","Mi","Do","Fr","Sa","So"),"") -> Di | F26: =IF(OR(C26="",D26=""),"",MAX(0,MOD(D26-C26,1)-N(E26)/1440)) | G26: =IF(F26="","",MIN(F26,$C$6/24)) | H26: =IF(F26="","",F26-G26)
A27: =IF(18<=DAY(DATE($I$5,$I$4+1,0)),DATE($I$5,$I$4,18),"") -> 46617 | B27: =IF(ISNUMBER(A27),CHOOSE(WEEKDAY(A27,2),"Mo","Di","Mi","Do","Fr","Sa","So"),"") -> Mi | F27: =IF(OR(C27="",D27=""),"",MAX(0,MOD(D27-C27,1)-N(E27)/1440)) | G27: =IF(F27="","",MIN(F27,$C$6/24)) | H27: =IF(F27="","",F27-G27)
A28: =IF(19<=DAY(DATE($I$5,$I$4+1,0)),DATE($I$5,$I$4,19),"") -> 46618 | B28: =IF(ISNUMBER(A28),CHOOSE(WEEKDAY(A28,2),"Mo","Di","Mi","Do","Fr","Sa","So"),"") -> Do | F28: =IF(OR(C28="",D28=""),"",MAX(0,MOD(D28-C28,1)-N(E28)/1440)) | G28: =IF(F28="","",MIN(F28,$C$6/24)) | H28: =IF(F28="","",F28-G28)
A29: =IF(20<=DAY(DATE($I$5,$I$4+1,0)),DATE($I$5,$I$4,20),"") -> 46619 | B29: =IF(ISNUMBER(A29),CHOOSE(WEEKDAY(A29,2),"Mo","Di","Mi","Do","Fr","Sa","So"),"") -> Fr | F29: =IF(OR(C29="",D29=""),"",MAX(0,MOD(D29-C29,1)-N(E29)/1440)) | G29: =IF(F29="","",MIN(F29,$C$6/24)) | H29: =IF(F29="","",F29-G29)
A30: =IF(21<=DAY(DATE($I$5,$I$4+1,0)),DATE($I$5,$I$4,21),"") -> 46620 | B30: =IF(ISNUMBER(A30),CHOOSE(WEEKDAY(A30,2),"Mo","Di","Mi","Do","Fr","Sa","So"),"") -> Sa | F30: =IF(OR(C30="",D30=""),"",MAX(0,MOD(D30-C30,1)-N(E30)/1440)) | G30: =IF(F30="","",MIN(F30,$C$6/24)) | H30: =IF(F30="","",F30-G30)
A31: =IF(22<=DAY(DATE($I$5,$I$4+1,0)),DATE($I$5,$I$4,22),"") -> 46621 | B31: =IF(ISNUMBER(A31),CHOOSE(WEEKDAY(A31,2),"Mo","Di","Mi","Do","Fr","Sa","So"),"") -> So | F31: =IF(OR(C31="",D31=""),"",MAX(0,MOD(D31-C31,1)-N(E31)/1440)) | G31: =IF(F31="","",MIN(F31,$C$6/24)) | H31: =IF(F31="","",F31-G31)
A32: =IF(23<=DAY(DATE($I$5,$I$4+1,0)),DATE($I$5,$I$4,23),"") -> 46622 | B32: =IF(ISNUMBER(A32),CHOOSE(WEEKDAY(A32,2),"Mo","Di","Mi","Do","Fr","Sa","So"),"") -> Mo | F32: =IF(OR(C32="",D32=""),"",MAX(0,MOD(D32-C32,1)-N(E32)/1440)) | G32: =IF(F32="","",MIN(F32,$C$6/24)) | H32: =IF(F32="","",F32-G32)
A33: =IF(24<=DAY(DATE($I$5,$I$4+1,0)),DATE($I$5,$I$4,24),"") -> 46623 | B33: =IF(ISNUMBER(A33),CHOOSE(WEEKDAY(A33,2),"Mo","Di","Mi","Do","Fr","Sa","So"),"") -> Di | F33: =IF(OR(C33="",D33=""),"",MAX(0,MOD(D33-C33,1)-N(E33)/1440)) | G33: =IF(F33="","",MIN(F33,$C$6/24)) | H33: =IF(F33="","",F33-G33)
A34: =IF(25<=DAY(DATE($I$5,$I$4+1,0)),DATE($I$5,$I$4,25),"") -> 46624 | B34: =IF(ISNUMBER(A34),CHOOSE(WEEKDAY(A34,2),"Mo","Di","Mi","Do","Fr","Sa","So"),"") -> Mi | F34: =IF(OR(C34="",D34=""),"",MAX(0,MOD(D34-C34,1)-N(E34)/1440)) | G34: =IF(F34="","",MIN(F34,$C$6/24)) | H34: =IF(F34="","",F34-G34)
A35: =IF(26<=DAY(DATE($I$5,$I$4+1,0)),DATE($I$5,$I$4,26),"") -> 46625 | B35: =IF(ISNUMBER(A35),CHOOSE(WEEKDAY(A35,2),"Mo","Di","Mi","Do","Fr","Sa","So"),"") -> Do | F35: =IF(OR(C35="",D35=""),"",MAX(0,MOD(D35-C35,1)-N(E35)/1440)) | G35: =IF(F35="","",MIN(F35,$C$6/24)) | H35: =IF(F35="","",F35-G35)
A36: =IF(27<=DAY(DATE($I$5,$I$4+1,0)),DATE($I$5,$I$4,27),"") -> 46626 | B36: =IF(ISNUMBER(A36),CHOOSE(WEEKDAY(A36,2),"Mo","Di","Mi","Do","Fr","Sa","So"),"") -> Fr | F36: =IF(OR(C36="",D36=""),"",MAX(0,MOD(D36-C36,1)-N(E36)/1440)) | G36: =IF(F36="","",MIN(F36,$C$6/24)) | H36: =IF(F36="","",F36-G36)
A37: =IF(28<=DAY(DATE($I$5,$I$4+1,0)),DATE($I$5,$I$4,28),"") -> 46627 | B37: =IF(ISNUMBER(A37),CHOOSE(WEEKDAY(A37,2),"Mo","Di","Mi","Do","Fr","Sa","So"),"") -> Sa | F37: =IF(OR(C37="",D37=""),"",MAX(0,MOD(D37-C37,1)-N(E37)/1440)) | G37: =IF(F37="","",MIN(F37,$C$6/24)) | H37: =IF(F37="","",F37-G37)
A38: =IF(29<=DAY(DATE($I$5,$I$4+1,0)),DATE($I$5,$I$4,29),"") -> 46628 | B38: =IF(ISNUMBER(A38),CHOOSE(WEEKDAY(A38,2),"Mo","Di","Mi","Do","Fr","Sa","So"),"") -> So | F38: =IF(OR(C38="",D38=""),"",MAX(0,MOD(D38-C38,1)-N(E38)/1440)) | G38: =IF(F38="","",MIN(F38,$C$6/24)) | H38: =IF(F38="","",F38-G38)
A39: =IF(30<=DAY(DATE($I$5,$I$4+1,0)),DATE($I$5,$I$4,30),"") -> 46629 | B39: =IF(ISNUMBER(A39),CHOOSE(WEEKDAY(A39,2),"Mo","Di","Mi","Do","Fr","Sa","So"),"") -> Mo | F39: =IF(OR(C39="",D39=""),"",MAX(0,MOD(D39-C39,1)-N(E39)/1440)) | G39: =IF(F39="","",MIN(F39,$C$6/24)) | H39: =IF(F39="","",F39-G39)
A40: =IF(31<=DAY(DATE($I$5,$I$4+1,0)),DATE($I$5,$I$4,31),"") -> 46630 | B40: =IF(ISNUMBER(A40),CHOOSE(WEEKDAY(A40,2),"Mo","Di","Mi","Do","Fr","Sa","So"),"") -> Di | F40: =IF(OR(C40="",D40=""),"",MAX(0,MOD(D40-C40,1)-N(E40)/1440)) | G40: =IF(F40="","",MIN(F40,$C$6/24)) | H40: =IF(F40="","",F40-G40)
A41: Summe Monat | F41: =SUM(F10:F40) -> 0 | G41: =SUM(G10:G40) -> 0 | H41: =SUM(H10:H40) -> 0 | I41: =COUNTA(I10:I40) -> 0
A43: Monatsübersicht
A44: Arbeitsstunden | C44: Reguläre Stunden | E44: Überstunden | G44: Stunden dezimal | I44: Arbeitstage | J44: Kosten (optional)
A45: =F41 -> 0 | C45: =G41 -> 0 | E45: =H41 -> 0 | G45: =F41*24 -> 0 | I45: =COUNTIF(F10:F40,">0") -> 0 | J45: =IF(I6="","",ROUND((G41+H41*(1+N(I7)))*24*I6,2))
A47: Abwesenheiten (Tage)
A48: =INDEX(AbsenceCodes,1)&" · "&INDEX(AbsenceNames,1) -> U · Urlaub | B48: =INDEX(AbsenceCodes,2)&" · "&INDEX(AbsenceNames,2) -> SU · Sonderurlaub | C48: =INDEX(AbsenceCodes,3)&" · "&INDEX(AbsenceNames,3) -> K · Krankheit | D48: =INDEX(AbsenceCodes,4)&" · "&INDEX(AbsenceNames,4) -> ZA · Zeitausgleich | E48: =INDEX(AbsenceCodes,5)&" · "&INDEX(AbsenceNames,5) -> UF · Arbeitsunfall | F48: =INDEX(AbsenceCodes,6)&" · "&INDEX(AbsenceNames,6) -> EZ · Elternzeit | G48: =INDEX(AbsenceCodes,7)&" · "&INDEX(AbsenceNames,7) -> R · Ruhetag | H48: Feiertage im Zeitraum
A49: =COUNTIF($I$10:$I$40,INDEX(AbsenceCodes,1)) -> 0 | B49: =COUNTIF($I$10:$I$40,INDEX(AbsenceCodes,2)) -> 0 | C49: =COUNTIF($I$10:$I$40,INDEX(AbsenceCodes,3)) -> 0 | D49: =COUNTIF($I$10:$I$40,INDEX(AbsenceCodes,4)) -> 0 | E49: =COUNTIF($I$10:$I$40,INDEX(AbsenceCodes,5)) -> 0 | F49: =COUNTIF($I$10:$I$40,INDEX(AbsenceCodes,6)) -> 0 | G49: =COUNTIF($I$10:$I$40,INDEX(AbsenceCodes,7)) -> 0 | H49: =SUMPRODUCT(ISNUMBER(A10:A40)*ISNUMBER(MATCH(A10:A40,Holidays,0))) -> 0
A51: Mitarbeiter/in und Arbeitgeber bestätigen, dass die eingetragenen Stunden den tatsächlich geleisteten entsprechen.
A53: Unterschrift Mitarbeiter/in: ______________________________ | F53: Unterschrift Arbeitgeber: ______________________________
A54: Datum: ____ / ____ / ________

Sheet September
A1: Stundenzettel Jahr · September
A2: Kostenlose Vorlage von NoBadge · hellviolette Zellen = ausfüllen · graue Zellen = berechnet, nicht überschreiben
A4: Mitarbeiter/in | C4: =IF(Jahresübersicht!$C$5="","",Jahresübersicht!$C$5) | G4: Monat (1-12) | I4: 9 | J4: =IF(AND(ISNUMBER($I$4),$I$4>=1,$I$4<=12),CHOOSE($I$4,"Januar","Februar","März","April","Mai","Juni","Juli","August","September","Oktober","November","Dezember")&" "&$I$5,"") -> September 2027
A5: Tätigkeit / Abteilung | C5: =IF(Jahresübersicht!$C$6="","",Jahresübersicht!$C$6) | G5: Jahr | I5: =Jahresübersicht!$I$5 -> 2027
A6: Regelarbeitszeit pro Tag (Std.) | C6: =Jahresübersicht!$I$6 -> 8 | D6: darüber = Überstunden | G6: Stundenlohn (optional) | I6: =IF(Jahresübersicht!$C$7="","",Jahresübersicht!$C$7)
G7: Überstundenzuschlag (optional) | I7: =IF(Jahresübersicht!$I$7="","",Jahresübersicht!$I$7)
A9: Datum | B9: Tag | C9: Beginn | D9: Ende | E9: Pause (Min.) | F9: Arbeits- zeit | G9: Regulär | H9: Überstunden | I9: Abwesenheit | J9: Notizen
A10: =IF(1<=DAY(DATE($I$5,$I$4+1,0)),DATE($I$5,$I$4,1),"") -> 46631 | B10: =IF(ISNUMBER(A10),CHOOSE(WEEKDAY(A10,2),"Mo","Di","Mi","Do","Fr","Sa","So"),"") -> Mi | F10: =IF(OR(C10="",D10=""),"",MAX(0,MOD(D10-C10,1)-N(E10)/1440)) | G10: =IF(F10="","",MIN(F10,$C$6/24)) | H10: =IF(F10="","",F10-G10)
A11: =IF(2<=DAY(DATE($I$5,$I$4+1,0)),DATE($I$5,$I$4,2),"") -> 46632 | B11: =IF(ISNUMBER(A11),CHOOSE(WEEKDAY(A11,2),"Mo","Di","Mi","Do","Fr","Sa","So"),"") -> Do | F11: =IF(OR(C11="",D11=""),"",MAX(0,MOD(D11-C11,1)-N(E11)/1440)) | G11: =IF(F11="","",MIN(F11,$C$6/24)) | H11: =IF(F11="","",F11-G11)
A12: =IF(3<=DAY(DATE($I$5,$I$4+1,0)),DATE($I$5,$I$4,3),"") -> 46633 | B12: =IF(ISNUMBER(A12),CHOOSE(WEEKDAY(A12,2),"Mo","Di","Mi","Do","Fr","Sa","So"),"") -> Fr | F12: =IF(OR(C12="",D12=""),"",MAX(0,MOD(D12-C12,1)-N(E12)/1440)) | G12: =IF(F12="","",MIN(F12,$C$6/24)) | H12: =IF(F12="","",F12-G12)
A13: =IF(4<=DAY(DATE($I$5,$I$4+1,0)),DATE($I$5,$I$4,4),"") -> 46634 | B13: =IF(ISNUMBER(A13),CHOOSE(WEEKDAY(A13,2),"Mo","Di","Mi","Do","Fr","Sa","So"),"") -> Sa | F13: =IF(OR(C13="",D13=""),"",MAX(0,MOD(D13-C13,1)-N(E13)/1440)) | G13: =IF(F13="","",MIN(F13,$C$6/24)) | H13: =IF(F13="","",F13-G13)
A14: =IF(5<=DAY(DATE($I$5,$I$4+1,0)),DATE($I$5,$I$4,5),"") -> 46635 | B14: =IF(ISNUMBER(A14),CHOOSE(WEEKDAY(A14,2),"Mo","Di","Mi","Do","Fr","Sa","So"),"") -> So | F14: =IF(OR(C14="",D14=""),"",MAX(0,MOD(D14-C14,1)-N(E14)/1440)) | G14: =IF(F14="","",MIN(F14,$C$6/24)) | H14: =IF(F14="","",F14-G14)
A15: =IF(6<=DAY(DATE($I$5,$I$4+1,0)),DATE($I$5,$I$4,6),"") -> 46636 | B15: =IF(ISNUMBER(A15),CHOOSE(WEEKDAY(A15,2),"Mo","Di","Mi","Do","Fr","Sa","So"),"") -> Mo | F15: =IF(OR(C15="",D15=""),"",MAX(0,MOD(D15-C15,1)-N(E15)/1440)) | G15: =IF(F15="","",MIN(F15,$C$6/24)) | H15: =IF(F15="","",F15-G15)
A16: =IF(7<=DAY(DATE($I$5,$I$4+1,0)),DATE($I$5,$I$4,7),"") -> 46637 | B16: =IF(ISNUMBER(A16),CHOOSE(WEEKDAY(A16,2),"Mo","Di","Mi","Do","Fr","Sa","So"),"") -> Di | F16: =IF(OR(C16="",D16=""),"",MAX(0,MOD(D16-C16,1)-N(E16)/1440)) | G16: =IF(F16="","",MIN(F16,$C$6/24)) | H16: =IF(F16="","",F16-G16)
A17: =IF(8<=DAY(DATE($I$5,$I$4+1,0)),DATE($I$5,$I$4,8),"") -> 46638 | B17: =IF(ISNUMBER(A17),CHOOSE(WEEKDAY(A17,2),"Mo","Di","Mi","Do","Fr","Sa","So"),"") -> Mi | F17: =IF(OR(C17="",D17=""),"",MAX(0,MOD(D17-C17,1)-N(E17)/1440)) | G17: =IF(F17="","",MIN(F17,$C$6/24)) | H17: =IF(F17="","",F17-G17)
A18: =IF(9<=DAY(DATE($I$5,$I$4+1,0)),DATE($I$5,$I$4,9),"") -> 46639 | B18: =IF(ISNUMBER(A18),CHOOSE(WEEKDAY(A18,2),"Mo","Di","Mi","Do","Fr","Sa","So"),"") -> Do | F18: =IF(OR(C18="",D18=""),"",MAX(0,MOD(D18-C18,1)-N(E18)/1440)) | G18: =IF(F18="","",MIN(F18,$C$6/24)) | H18: =IF(F18="","",F18-G18)
A19: =IF(10<=DAY(DATE($I$5,$I$4+1,0)),DATE($I$5,$I$4,10),"") -> 46640 | B19: =IF(ISNUMBER(A19),CHOOSE(WEEKDAY(A19,2),"Mo","Di","Mi","Do","Fr","Sa","So"),"") -> Fr | F19: =IF(OR(C19="",D19=""),"",MAX(0,MOD(D19-C19,1)-N(E19)/1440)) | G19: =IF(F19="","",MIN(F19,$C$6/24)) | H19: =IF(F19="","",F19-G19)
A20: =IF(11<=DAY(DATE($I$5,$I$4+1,0)),DATE($I$5,$I$4,11),"") -> 46641 | B20: =IF(ISNUMBER(A20),CHOOSE(WEEKDAY(A20,2),"Mo","Di","Mi","Do","Fr","Sa","So"),"") -> Sa | F20: =IF(OR(C20="",D20=""),"",MAX(0,MOD(D20-C20,1)-N(E20)/1440)) | G20: =IF(F20="","",MIN(F20,$C$6/24)) | H20: =IF(F20="","",F20-G20)
A21: =IF(12<=DAY(DATE($I$5,$I$4+1,0)),DATE($I$5,$I$4,12),"") -> 46642 | B21: =IF(ISNUMBER(A21),CHOOSE(WEEKDAY(A21,2),"Mo","Di","Mi","Do","Fr","Sa","So"),"") -> So | F21: =IF(OR(C21="",D21=""),"",MAX(0,MOD(D21-C21,1)-N(E21)/1440)) | G21: =IF(F21="","",MIN(F21,$C$6/24)) | H21: =IF(F21="","",F21-G21)
A22: =IF(13<=DAY(DATE($I$5,$I$4+1,0)),DATE($I$5,$I$4,13),"") -> 46643 | B22: =IF(ISNUMBER(A22),CHOOSE(WEEKDAY(A22,2),"Mo","Di","Mi","Do","Fr","Sa","So"),"") -> Mo | F22: =IF(OR(C22="",D22=""),"",MAX(0,MOD(D22-C22,1)-N(E22)/1440)) | G22: =IF(F22="","",MIN(F22,$C$6/24)) | H22: =IF(F22="","",F22-G22)
A23: =IF(14<=DAY(DATE($I$5,$I$4+1,0)),DATE($I$5,$I$4,14),"") -> 46644 | B23: =IF(ISNUMBER(A23),CHOOSE(WEEKDAY(A23,2),"Mo","Di","Mi","Do","Fr","Sa","So"),"") -> Di | F23: =IF(OR(C23="",D23=""),"",MAX(0,MOD(D23-C23,1)-N(E23)/1440)) | G23: =IF(F23="","",MIN(F23,$C$6/24)) | H23: =IF(F23="","",F23-G23)
A24: =IF(15<=DAY(DATE($I$5,$I$4+1,0)),DATE($I$5,$I$4,15),"") -> 46645 | B24: =IF(ISNUMBER(A24),CHOOSE(WEEKDAY(A24,2),"Mo","Di","Mi","Do","Fr","Sa","So"),"") -> Mi | F24: =IF(OR(C24="",D24=""),"",MAX(0,MOD(D24-C24,1)-N(E24)/1440)) | G24: =IF(F24="","",MIN(F24,$C$6/24)) | H24: =IF(F24="","",F24-G24)
A25: =IF(16<=DAY(DATE($I$5,$I$4+1,0)),DATE($I$5,$I$4,16),"") -> 46646 | B25: =IF(ISNUMBER(A25),CHOOSE(WEEKDAY(A25,2),"Mo","Di","Mi","Do","Fr","Sa","So"),"") -> Do | F25: =IF(OR(C25="",D25=""),"",MAX(0,MOD(D25-C25,1)-N(E25)/1440)) | G25: =IF(F25="","",MIN(F25,$C$6/24)) | H25: =IF(F25="","",F25-G25)
A26: =IF(17<=DAY(DATE($I$5,$I$4+1,0)),DATE($I$5,$I$4,17),"") -> 46647 | B26: =IF(ISNUMBER(A26),CHOOSE(WEEKDAY(A26,2),"Mo","Di","Mi","Do","Fr","Sa","So"),"") -> Fr | F26: =IF(OR(C26="",D26=""),"",MAX(0,MOD(D26-C26,1)-N(E26)/1440)) | G26: =IF(F26="","",MIN(F26,$C$6/24)) | H26: =IF(F26="","",F26-G26)
A27: =IF(18<=DAY(DATE($I$5,$I$4+1,0)),DATE($I$5,$I$4,18),"") -> 46648 | B27: =IF(ISNUMBER(A27),CHOOSE(WEEKDAY(A27,2),"Mo","Di","Mi","Do","Fr","Sa","So"),"") -> Sa | F27: =IF(OR(C27="",D27=""),"",MAX(0,MOD(D27-C27,1)-N(E27)/1440)) | G27: =IF(F27="","",MIN(F27,$C$6/24)) | H27: =IF(F27="","",F27-G27)
A28: =IF(19<=DAY(DATE($I$5,$I$4+1,0)),DATE($I$5,$I$4,19),"") -> 46649 | B28: =IF(ISNUMBER(A28),CHOOSE(WEEKDAY(A28,2),"Mo","Di","Mi","Do","Fr","Sa","So"),"") -> So | F28: =IF(OR(C28="",D28=""),"",MAX(0,MOD(D28-C28,1)-N(E28)/1440)) | G28: =IF(F28="","",MIN(F28,$C$6/24)) | H28: =IF(F28="","",F28-G28)
A29: =IF(20<=DAY(DATE($I$5,$I$4+1,0)),DATE($I$5,$I$4,20),"") -> 46650 | B29: =IF(ISNUMBER(A29),CHOOSE(WEEKDAY(A29,2),"Mo","Di","Mi","Do","Fr","Sa","So"),"") -> Mo | F29: =IF(OR(C29="",D29=""),"",MAX(0,MOD(D29-C29,1)-N(E29)/1440)) | G29: =IF(F29="","",MIN(F29,$C$6/24)) | H29: =IF(F29="","",F29-G29)
A30: =IF(21<=DAY(DATE($I$5,$I$4+1,0)),DATE($I$5,$I$4,21),"") -> 46651 | B30: =IF(ISNUMBER(A30),CHOOSE(WEEKDAY(A30,2),"Mo","Di","Mi","Do","Fr","Sa","So"),"") -> Di | F30: =IF(OR(C30="",D30=""),"",MAX(0,MOD(D30-C30,1)-N(E30)/1440)) | G30: =IF(F30="","",MIN(F30,$C$6/24)) | H30: =IF(F30="","",F30-G30)
A31: =IF(22<=DAY(DATE($I$5,$I$4+1,0)),DATE($I$5,$I$4,22),"") -> 46652 | B31: =IF(ISNUMBER(A31),CHOOSE(WEEKDAY(A31,2),"Mo","Di","Mi","Do","Fr","Sa","So"),"") -> Mi | F31: =IF(OR(C31="",D31=""),"",MAX(0,MOD(D31-C31,1)-N(E31)/1440)) | G31: =IF(F31="","",MIN(F31,$C$6/24)) | H31: =IF(F31="","",F31-G31)
A32: =IF(23<=DAY(DATE($I$5,$I$4+1,0)),DATE($I$5,$I$4,23),"") -> 46653 | B32: =IF(ISNUMBER(A32),CHOOSE(WEEKDAY(A32,2),"Mo","Di","Mi","Do","Fr","Sa","So"),"") -> Do | F32: =IF(OR(C32="",D32=""),"",MAX(0,MOD(D32-C32,1)-N(E32)/1440)) | G32: =IF(F32="","",MIN(F32,$C$6/24)) | H32: =IF(F32="","",F32-G32)
A33: =IF(24<=DAY(DATE($I$5,$I$4+1,0)),DATE($I$5,$I$4,24),"") -> 46654 | B33: =IF(ISNUMBER(A33),CHOOSE(WEEKDAY(A33,2),"Mo","Di","Mi","Do","Fr","Sa","So"),"") -> Fr | F33: =IF(OR(C33="",D33=""),"",MAX(0,MOD(D33-C33,1)-N(E33)/1440)) | G33: =IF(F33="","",MIN(F33,$C$6/24)) | H33: =IF(F33="","",F33-G33)
A34: =IF(25<=DAY(DATE($I$5,$I$4+1,0)),DATE($I$5,$I$4,25),"") -> 46655 | B34: =IF(ISNUMBER(A34),CHOOSE(WEEKDAY(A34,2),"Mo","Di","Mi","Do","Fr","Sa","So"),"") -> Sa | F34: =IF(OR(C34="",D34=""),"",MAX(0,MOD(D34-C34,1)-N(E34)/1440)) | G34: =IF(F34="","",MIN(F34,$C$6/24)) | H34: =IF(F34="","",F34-G34)
A35: =IF(26<=DAY(DATE($I$5,$I$4+1,0)),DATE($I$5,$I$4,26),"") -> 46656 | B35: =IF(ISNUMBER(A35),CHOOSE(WEEKDAY(A35,2),"Mo","Di","Mi","Do","Fr","Sa","So"),"") -> So | F35: =IF(OR(C35="",D35=""),"",MAX(0,MOD(D35-C35,1)-N(E35)/1440)) | G35: =IF(F35="","",MIN(F35,$C$6/24)) | H35: =IF(F35="","",F35-G35)
A36: =IF(27<=DAY(DATE($I$5,$I$4+1,0)),DATE($I$5,$I$4,27),"") -> 46657 | B36: =IF(ISNUMBER(A36),CHOOSE(WEEKDAY(A36,2),"Mo","Di","Mi","Do","Fr","Sa","So"),"") -> Mo | F36: =IF(OR(C36="",D36=""),"",MAX(0,MOD(D36-C36,1)-N(E36)/1440)) | G36: =IF(F36="","",MIN(F36,$C$6/24)) | H36: =IF(F36="","",F36-G36)
A37: =IF(28<=DAY(DATE($I$5,$I$4+1,0)),DATE($I$5,$I$4,28),"") -> 46658 | B37: =IF(ISNUMBER(A37),CHOOSE(WEEKDAY(A37,2),"Mo","Di","Mi","Do","Fr","Sa","So"),"") -> Di | F37: =IF(OR(C37="",D37=""),"",MAX(0,MOD(D37-C37,1)-N(E37)/1440)) | G37: =IF(F37="","",MIN(F37,$C$6/24)) | H37: =IF(F37="","",F37-G37)
A38: =IF(29<=DAY(DATE($I$5,$I$4+1,0)),DATE($I$5,$I$4,29),"") -> 46659 | B38: =IF(ISNUMBER(A38),CHOOSE(WEEKDAY(A38,2),"Mo","Di","Mi","Do","Fr","Sa","So"),"") -> Mi | F38: =IF(OR(C38="",D38=""),"",MAX(0,MOD(D38-C38,1)-N(E38)/1440)) | G38: =IF(F38="","",MIN(F38,$C$6/24)) | H38: =IF(F38="","",F38-G38)
A39: =IF(30<=DAY(DATE($I$5,$I$4+1,0)),DATE($I$5,$I$4,30),"") -> 46660 | B39: =IF(ISNUMBER(A39),CHOOSE(WEEKDAY(A39,2),"Mo","Di","Mi","Do","Fr","Sa","So"),"") -> Do | F39: =IF(OR(C39="",D39=""),"",MAX(0,MOD(D39-C39,1)-N(E39)/1440)) | G39: =IF(F39="","",MIN(F39,$C$6/24)) | H39: =IF(F39="","",F39-G39)
A40: =IF(31<=DAY(DATE($I$5,$I$4+1,0)),DATE($I$5,$I$4,31),"") | B40: =IF(ISNUMBER(A40),CHOOSE(WEEKDAY(A40,2),"Mo","Di","Mi","Do","Fr","Sa","So"),"") | F40: =IF(OR(C40="",D40=""),"",MAX(0,MOD(D40-C40,1)-N(E40)/1440)) | G40: =IF(F40="","",MIN(F40,$C$6/24)) | H40: =IF(F40="","",F40-G40)
A41: Summe Monat | F41: =SUM(F10:F40) -> 0 | G41: =SUM(G10:G40) -> 0 | H41: =SUM(H10:H40) -> 0 | I41: =COUNTA(I10:I40) -> 0
A43: Monatsübersicht
A44: Arbeitsstunden | C44: Reguläre Stunden | E44: Überstunden | G44: Stunden dezimal | I44: Arbeitstage | J44: Kosten (optional)
A45: =F41 -> 0 | C45: =G41 -> 0 | E45: =H41 -> 0 | G45: =F41*24 -> 0 | I45: =COUNTIF(F10:F40,">0") -> 0 | J45: =IF(I6="","",ROUND((G41+H41*(1+N(I7)))*24*I6,2))
A47: Abwesenheiten (Tage)
A48: =INDEX(AbsenceCodes,1)&" · "&INDEX(AbsenceNames,1) -> U · Urlaub | B48: =INDEX(AbsenceCodes,2)&" · "&INDEX(AbsenceNames,2) -> SU · Sonderurlaub | C48: =INDEX(AbsenceCodes,3)&" · "&INDEX(AbsenceNames,3) -> K · Krankheit | D48: =INDEX(AbsenceCodes,4)&" · "&INDEX(AbsenceNames,4) -> ZA · Zeitausgleich | E48: =INDEX(AbsenceCodes,5)&" · "&INDEX(AbsenceNames,5) -> UF · Arbeitsunfall | F48: =INDEX(AbsenceCodes,6)&" · "&INDEX(AbsenceNames,6) -> EZ · Elternzeit | G48: =INDEX(AbsenceCodes,7)&" · "&INDEX(AbsenceNames,7) -> R · Ruhetag | H48: Feiertage im Zeitraum
A49: =COUNTIF($I$10:$I$40,INDEX(AbsenceCodes,1)) -> 0 | B49: =COUNTIF($I$10:$I$40,INDEX(AbsenceCodes,2)) -> 0 | C49: =COUNTIF($I$10:$I$40,INDEX(AbsenceCodes,3)) -> 0 | D49: =COUNTIF($I$10:$I$40,INDEX(AbsenceCodes,4)) -> 0 | E49: =COUNTIF($I$10:$I$40,INDEX(AbsenceCodes,5)) -> 0 | F49: =COUNTIF($I$10:$I$40,INDEX(AbsenceCodes,6)) -> 0 | G49: =COUNTIF($I$10:$I$40,INDEX(AbsenceCodes,7)) -> 0 | H49: =SUMPRODUCT(ISNUMBER(A10:A40)*ISNUMBER(MATCH(A10:A40,Holidays,0))) -> 0
A51: Mitarbeiter/in und Arbeitgeber bestätigen, dass die eingetragenen Stunden den tatsächlich geleisteten entsprechen.
A53: Unterschrift Mitarbeiter/in: ______________________________ | F53: Unterschrift Arbeitgeber: ______________________________
A54: Datum: ____ / ____ / ________

Sheet Oktober
A1: Stundenzettel Jahr · Oktober
A2: Kostenlose Vorlage von NoBadge · hellviolette Zellen = ausfüllen · graue Zellen = berechnet, nicht überschreiben
A4: Mitarbeiter/in | C4: =IF(Jahresübersicht!$C$5="","",Jahresübersicht!$C$5) | G4: Monat (1-12) | I4: 10 | J4: =IF(AND(ISNUMBER($I$4),$I$4>=1,$I$4<=12),CHOOSE($I$4,"Januar","Februar","März","April","Mai","Juni","Juli","August","September","Oktober","November","Dezember")&" "&$I$5,"") -> Oktober 2027
A5: Tätigkeit / Abteilung | C5: =IF(Jahresübersicht!$C$6="","",Jahresübersicht!$C$6) | G5: Jahr | I5: =Jahresübersicht!$I$5 -> 2027
A6: Regelarbeitszeit pro Tag (Std.) | C6: =Jahresübersicht!$I$6 -> 8 | D6: darüber = Überstunden | G6: Stundenlohn (optional) | I6: =IF(Jahresübersicht!$C$7="","",Jahresübersicht!$C$7)
G7: Überstundenzuschlag (optional) | I7: =IF(Jahresübersicht!$I$7="","",Jahresübersicht!$I$7)
A9: Datum | B9: Tag | C9: Beginn | D9: Ende | E9: Pause (Min.) | F9: Arbeits- zeit | G9: Regulär | H9: Überstunden | I9: Abwesenheit | J9: Notizen
A10: =IF(1<=DAY(DATE($I$5,$I$4+1,0)),DATE($I$5,$I$4,1),"") -> 46661 | B10: =IF(ISNUMBER(A10),CHOOSE(WEEKDAY(A10,2),"Mo","Di","Mi","Do","Fr","Sa","So"),"") -> Fr | F10: =IF(OR(C10="",D10=""),"",MAX(0,MOD(D10-C10,1)-N(E10)/1440)) | G10: =IF(F10="","",MIN(F10,$C$6/24)) | H10: =IF(F10="","",F10-G10)
A11: =IF(2<=DAY(DATE($I$5,$I$4+1,0)),DATE($I$5,$I$4,2),"") -> 46662 | B11: =IF(ISNUMBER(A11),CHOOSE(WEEKDAY(A11,2),"Mo","Di","Mi","Do","Fr","Sa","So"),"") -> Sa | F11: =IF(OR(C11="",D11=""),"",MAX(0,MOD(D11-C11,1)-N(E11)/1440)) | G11: =IF(F11="","",MIN(F11,$C$6/24)) | H11: =IF(F11="","",F11-G11)
A12: =IF(3<=DAY(DATE($I$5,$I$4+1,0)),DATE($I$5,$I$4,3),"") -> 46663 | B12: =IF(ISNUMBER(A12),CHOOSE(WEEKDAY(A12,2),"Mo","Di","Mi","Do","Fr","Sa","So"),"") -> So | F12: =IF(OR(C12="",D12=""),"",MAX(0,MOD(D12-C12,1)-N(E12)/1440)) | G12: =IF(F12="","",MIN(F12,$C$6/24)) | H12: =IF(F12="","",F12-G12)
A13: =IF(4<=DAY(DATE($I$5,$I$4+1,0)),DATE($I$5,$I$4,4),"") -> 46664 | B13: =IF(ISNUMBER(A13),CHOOSE(WEEKDAY(A13,2),"Mo","Di","Mi","Do","Fr","Sa","So"),"") -> Mo | F13: =IF(OR(C13="",D13=""),"",MAX(0,MOD(D13-C13,1)-N(E13)/1440)) | G13: =IF(F13="","",MIN(F13,$C$6/24)) | H13: =IF(F13="","",F13-G13)
A14: =IF(5<=DAY(DATE($I$5,$I$4+1,0)),DATE($I$5,$I$4,5),"") -> 46665 | B14: =IF(ISNUMBER(A14),CHOOSE(WEEKDAY(A14,2),"Mo","Di","Mi","Do","Fr","Sa","So"),"") -> Di | F14: =IF(OR(C14="",D14=""),"",MAX(0,MOD(D14-C14,1)-N(E14)/1440)) | G14: =IF(F14="","",MIN(F14,$C$6/24)) | H14: =IF(F14="","",F14-G14)
A15: =IF(6<=DAY(DATE($I$5,$I$4+1,0)),DATE($I$5,$I$4,6),"") -> 46666 | B15: =IF(ISNUMBER(A15),CHOOSE(WEEKDAY(A15,2),"Mo","Di","Mi","Do","Fr","Sa","So"),"") -> Mi | F15: =IF(OR(C15="",D15=""),"",MAX(0,MOD(D15-C15,1)-N(E15)/1440)) | G15: =IF(F15="","",MIN(F15,$C$6/24)) | H15: =IF(F15="","",F15-G15)
A16: =IF(7<=DAY(DATE($I$5,$I$4+1,0)),DATE($I$5,$I$4,7),"") -> 46667 | B16: =IF(ISNUMBER(A16),CHOOSE(WEEKDAY(A16,2),"Mo","Di","Mi","Do","Fr","Sa","So"),"") -> Do | F16: =IF(OR(C16="",D16=""),"",MAX(0,MOD(D16-C16,1)-N(E16)/1440)) | G16: =IF(F16="","",MIN(F16,$C$6/24)) | H16: =IF(F16="","",F16-G16)
A17: =IF(8<=DAY(DATE($I$5,$I$4+1,0)),DATE($I$5,$I$4,8),"") -> 46668 | B17: =IF(ISNUMBER(A17),CHOOSE(WEEKDAY(A17,2),"Mo","Di","Mi","Do","Fr","Sa","So"),"") -> Fr | F17: =IF(OR(C17="",D17=""),"",MAX(0,MOD(D17-C17,1)-N(E17)/1440)) | G17: =IF(F17="","",MIN(F17,$C$6/24)) | H17: =IF(F17="","",F17-G17)
A18: =IF(9<=DAY(DATE($I$5,$I$4+1,0)),DATE($I$5,$I$4,9),"") -> 46669 | B18: =IF(ISNUMBER(A18),CHOOSE(WEEKDAY(A18,2),"Mo","Di","Mi","Do","Fr","Sa","So"),"") -> Sa | F18: =IF(OR(C18="",D18=""),"",MAX(0,MOD(D18-C18,1)-N(E18)/1440)) | G18: =IF(F18="","",MIN(F18,$C$6/24)) | H18: =IF(F18="","",F18-G18)
A19: =IF(10<=DAY(DATE($I$5,$I$4+1,0)),DATE($I$5,$I$4,10),"") -> 46670 | B19: =IF(ISNUMBER(A19),CHOOSE(WEEKDAY(A19,2),"Mo","Di","Mi","Do","Fr","Sa","So"),"") -> So | F19: =IF(OR(C19="",D19=""),"",MAX(0,MOD(D19-C19,1)-N(E19)/1440)) | G19: =IF(F19="","",MIN(F19,$C$6/24)) | H19: =IF(F19="","",F19-G19)
A20: =IF(11<=DAY(DATE($I$5,$I$4+1,0)),DATE($I$5,$I$4,11),"") -> 46671 | B20: =IF(ISNUMBER(A20),CHOOSE(WEEKDAY(A20,2),"Mo","Di","Mi","Do","Fr","Sa","So"),"") -> Mo | F20: =IF(OR(C20="",D20=""),"",MAX(0,MOD(D20-C20,1)-N(E20)/1440)) | G20: =IF(F20="","",MIN(F20,$C$6/24)) | H20: =IF(F20="","",F20-G20)
A21: =IF(12<=DAY(DATE($I$5,$I$4+1,0)),DATE($I$5,$I$4,12),"") -> 46672 | B21: =IF(ISNUMBER(A21),CHOOSE(WEEKDAY(A21,2),"Mo","Di","Mi","Do","Fr","Sa","So"),"") -> Di | F21: =IF(OR(C21="",D21=""),"",MAX(0,MOD(D21-C21,1)-N(E21)/1440)) | G21: =IF(F21="","",MIN(F21,$C$6/24)) | H21: =IF(F21="","",F21-G21)
A22: =IF(13<=DAY(DATE($I$5,$I$4+1,0)),DATE($I$5,$I$4,13),"") -> 46673 | B22: =IF(ISNUMBER(A22),CHOOSE(WEEKDAY(A22,2),"Mo","Di","Mi","Do","Fr","Sa","So"),"") -> Mi | F22: =IF(OR(C22="",D22=""),"",MAX(0,MOD(D22-C22,1)-N(E22)/1440)) | G22: =IF(F22="","",MIN(F22,$C$6/24)) | H22: =IF(F22="","",F22-G22)
A23: =IF(14<=DAY(DATE($I$5,$I$4+1,0)),DATE($I$5,$I$4,14),"") -> 46674 | B23: =IF(ISNUMBER(A23),CHOOSE(WEEKDAY(A23,2),"Mo","Di","Mi","Do","Fr","Sa","So"),"") -> Do | F23: =IF(OR(C23="",D23=""),"",MAX(0,MOD(D23-C23,1)-N(E23)/1440)) | G23: =IF(F23="","",MIN(F23,$C$6/24)) | H23: =IF(F23="","",F23-G23)
A24: =IF(15<=DAY(DATE($I$5,$I$4+1,0)),DATE($I$5,$I$4,15),"") -> 46675 | B24: =IF(ISNUMBER(A24),CHOOSE(WEEKDAY(A24,2),"Mo","Di","Mi","Do","Fr","Sa","So"),"") -> Fr | F24: =IF(OR(C24="",D24=""),"",MAX(0,MOD(D24-C24,1)-N(E24)/1440)) | G24: =IF(F24="","",MIN(F24,$C$6/24)) | H24: =IF(F24="","",F24-G24)
A25: =IF(16<=DAY(DATE($I$5,$I$4+1,0)),DATE($I$5,$I$4,16),"") -> 46676 | B25: =IF(ISNUMBER(A25),CHOOSE(WEEKDAY(A25,2),"Mo","Di","Mi","Do","Fr","Sa","So"),"") -> Sa | F25: =IF(OR(C25="",D25=""),"",MAX(0,MOD(D25-C25,1)-N(E25)/1440)) | G25: =IF(F25="","",MIN(F25,$C$6/24)) | H25: =IF(F25="","",F25-G25)
A26: =IF(17<=DAY(DATE($I$5,$I$4+1,0)),DATE($I$5,$I$4,17),"") -> 46677 | B26: =IF(ISNUMBER(A26),CHOOSE(WEEKDAY(A26,2),"Mo","Di","Mi","Do","Fr","Sa","So"),"") -> So | F26: =IF(OR(C26="",D26=""),"",MAX(0,MOD(D26-C26,1)-N(E26)/1440)) | G26: =IF(F26="","",MIN(F26,$C$6/24)) | H26: =IF(F26="","",F26-G26)
A27: =IF(18<=DAY(DATE($I$5,$I$4+1,0)),DATE($I$5,$I$4,18),"") -> 46678 | B27: =IF(ISNUMBER(A27),CHOOSE(WEEKDAY(A27,2),"Mo","Di","Mi","Do","Fr","Sa","So"),"") -> Mo | F27: =IF(OR(C27="",D27=""),"",MAX(0,MOD(D27-C27,1)-N(E27)/1440)) | G27: =IF(F27="","",MIN(F27,$C$6/24)) | H27: =IF(F27="","",F27-G27)
A28: =IF(19<=DAY(DATE($I$5,$I$4+1,0)),DATE($I$5,$I$4,19),"") -> 46679 | B28: =IF(ISNUMBER(A28),CHOOSE(WEEKDAY(A28,2),"Mo","Di","Mi","Do","Fr","Sa","So"),"") -> Di | F28: =IF(OR(C28="",D28=""),"",MAX(0,MOD(D28-C28,1)-N(E28)/1440)) | G28: =IF(F28="","",MIN(F28,$C$6/24)) | H28: =IF(F28="","",F28-G28)
A29: =IF(20<=DAY(DATE($I$5,$I$4+1,0)),DATE($I$5,$I$4,20),"") -> 46680 | B29: =IF(ISNUMBER(A29),CHOOSE(WEEKDAY(A29,2),"Mo","Di","Mi","Do","Fr","Sa","So"),"") -> Mi | F29: =IF(OR(C29="",D29=""),"",MAX(0,MOD(D29-C29,1)-N(E29)/1440)) | G29: =IF(F29="","",MIN(F29,$C$6/24)) | H29: =IF(F29="","",F29-G29)
A30: =IF(21<=DAY(DATE($I$5,$I$4+1,0)),DATE($I$5,$I$4,21),"") -> 46681 | B30: =IF(ISNUMBER(A30),CHOOSE(WEEKDAY(A30,2),"Mo","Di","Mi","Do","Fr","Sa","So"),"") -> Do | F30: =IF(OR(C30="",D30=""),"",MAX(0,MOD(D30-C30,1)-N(E30)/1440)) | G30: =IF(F30="","",MIN(F30,$C$6/24)) | H30: =IF(F30="","",F30-G30)
A31: =IF(22<=DAY(DATE($I$5,$I$4+1,0)),DATE($I$5,$I$4,22),"") -> 46682 | B31: =IF(ISNUMBER(A31),CHOOSE(WEEKDAY(A31,2),"Mo","Di","Mi","Do","Fr","Sa","So"),"") -> Fr | F31: =IF(OR(C31="",D31=""),"",MAX(0,MOD(D31-C31,1)-N(E31)/1440)) | G31: =IF(F31="","",MIN(F31,$C$6/24)) | H31: =IF(F31="","",F31-G31)
A32: =IF(23<=DAY(DATE($I$5,$I$4+1,0)),DATE($I$5,$I$4,23),"") -> 46683 | B32: =IF(ISNUMBER(A32),CHOOSE(WEEKDAY(A32,2),"Mo","Di","Mi","Do","Fr","Sa","So"),"") -> Sa | F32: =IF(OR(C32="",D32=""),"",MAX(0,MOD(D32-C32,1)-N(E32)/1440)) | G32: =IF(F32="","",MIN(F32,$C$6/24)) | H32: =IF(F32="","",F32-G32)
A33: =IF(24<=DAY(DATE($I$5,$I$4+1,0)),DATE($I$5,$I$4,24),"") -> 46684 | B33: =IF(ISNUMBER(A33),CHOOSE(WEEKDAY(A33,2),"Mo","Di","Mi","Do","Fr","Sa","So"),"") -> So | F33: =IF(OR(C33="",D33=""),"",MAX(0,MOD(D33-C33,1)-N(E33)/1440)) | G33: =IF(F33="","",MIN(F33,$C$6/24)) | H33: =IF(F33="","",F33-G33)
A34: =IF(25<=DAY(DATE($I$5,$I$4+1,0)),DATE($I$5,$I$4,25),"") -> 46685 | B34: =IF(ISNUMBER(A34),CHOOSE(WEEKDAY(A34,2),"Mo","Di","Mi","Do","Fr","Sa","So"),"") -> Mo | F34: =IF(OR(C34="",D34=""),"",MAX(0,MOD(D34-C34,1)-N(E34)/1440)) | G34: =IF(F34="","",MIN(F34,$C$6/24)) | H34: =IF(F34="","",F34-G34)
A35: =IF(26<=DAY(DATE($I$5,$I$4+1,0)),DATE($I$5,$I$4,26),"") -> 46686 | B35: =IF(ISNUMBER(A35),CHOOSE(WEEKDAY(A35,2),"Mo","Di","Mi","Do","Fr","Sa","So"),"") -> Di | F35: =IF(OR(C35="",D35=""),"",MAX(0,MOD(D35-C35,1)-N(E35)/1440)) | G35: =IF(F35="","",MIN(F35,$C$6/24)) | H35: =IF(F35="","",F35-G35)
A36: =IF(27<=DAY(DATE($I$5,$I$4+1,0)),DATE($I$5,$I$4,27),"") -> 46687 | B36: =IF(ISNUMBER(A36),CHOOSE(WEEKDAY(A36,2),"Mo","Di","Mi","Do","Fr","Sa","So"),"") -> Mi | F36: =IF(OR(C36="",D36=""),"",MAX(0,MOD(D36-C36,1)-N(E36)/1440)) | G36: =IF(F36="","",MIN(F36,$C$6/24)) | H36: =IF(F36="","",F36-G36)
A37: =IF(28<=DAY(DATE($I$5,$I$4+1,0)),DATE($I$5,$I$4,28),"") -> 46688 | B37: =IF(ISNUMBER(A37),CHOOSE(WEEKDAY(A37,2),"Mo","Di","Mi","Do","Fr","Sa","So"),"") -> Do | F37: =IF(OR(C37="",D37=""),"",MAX(0,MOD(D37-C37,1)-N(E37)/1440)) | G37: =IF(F37="","",MIN(F37,$C$6/24)) | H37: =IF(F37="","",F37-G37)
A38: =IF(29<=DAY(DATE($I$5,$I$4+1,0)),DATE($I$5,$I$4,29),"") -> 46689 | B38: =IF(ISNUMBER(A38),CHOOSE(WEEKDAY(A38,2),"Mo","Di","Mi","Do","Fr","Sa","So"),"") -> Fr | F38: =IF(OR(C38="",D38=""),"",MAX(0,MOD(D38-C38,1)-N(E38)/1440)) | G38: =IF(F38="","",MIN(F38,$C$6/24)) | H38: =IF(F38="","",F38-G38)
A39: =IF(30<=DAY(DATE($I$5,$I$4+1,0)),DATE($I$5,$I$4,30),"") -> 46690 | B39: =IF(ISNUMBER(A39),CHOOSE(WEEKDAY(A39,2),"Mo","Di","Mi","Do","Fr","Sa","So"),"") -> Sa | F39: =IF(OR(C39="",D39=""),"",MAX(0,MOD(D39-C39,1)-N(E39)/1440)) | G39: =IF(F39="","",MIN(F39,$C$6/24)) | H39: =IF(F39="","",F39-G39)
A40: =IF(31<=DAY(DATE($I$5,$I$4+1,0)),DATE($I$5,$I$4,31),"") -> 46691 | B40: =IF(ISNUMBER(A40),CHOOSE(WEEKDAY(A40,2),"Mo","Di","Mi","Do","Fr","Sa","So"),"") -> So | F40: =IF(OR(C40="",D40=""),"",MAX(0,MOD(D40-C40,1)-N(E40)/1440)) | G40: =IF(F40="","",MIN(F40,$C$6/24)) | H40: =IF(F40="","",F40-G40)
A41: Summe Monat | F41: =SUM(F10:F40) -> 0 | G41: =SUM(G10:G40) -> 0 | H41: =SUM(H10:H40) -> 0 | I41: =COUNTA(I10:I40) -> 0
A43: Monatsübersicht
A44: Arbeitsstunden | C44: Reguläre Stunden | E44: Überstunden | G44: Stunden dezimal | I44: Arbeitstage | J44: Kosten (optional)
A45: =F41 -> 0 | C45: =G41 -> 0 | E45: =H41 -> 0 | G45: =F41*24 -> 0 | I45: =COUNTIF(F10:F40,">0") -> 0 | J45: =IF(I6="","",ROUND((G41+H41*(1+N(I7)))*24*I6,2))
A47: Abwesenheiten (Tage)
A48: =INDEX(AbsenceCodes,1)&" · "&INDEX(AbsenceNames,1) -> U · Urlaub | B48: =INDEX(AbsenceCodes,2)&" · "&INDEX(AbsenceNames,2) -> SU · Sonderurlaub | C48: =INDEX(AbsenceCodes,3)&" · "&INDEX(AbsenceNames,3) -> K · Krankheit | D48: =INDEX(AbsenceCodes,4)&" · "&INDEX(AbsenceNames,4) -> ZA · Zeitausgleich | E48: =INDEX(AbsenceCodes,5)&" · "&INDEX(AbsenceNames,5) -> UF · Arbeitsunfall | F48: =INDEX(AbsenceCodes,6)&" · "&INDEX(AbsenceNames,6) -> EZ · Elternzeit | G48: =INDEX(AbsenceCodes,7)&" · "&INDEX(AbsenceNames,7) -> R · Ruhetag | H48: Feiertage im Zeitraum
A49: =COUNTIF($I$10:$I$40,INDEX(AbsenceCodes,1)) -> 0 | B49: =COUNTIF($I$10:$I$40,INDEX(AbsenceCodes,2)) -> 0 | C49: =COUNTIF($I$10:$I$40,INDEX(AbsenceCodes,3)) -> 0 | D49: =COUNTIF($I$10:$I$40,INDEX(AbsenceCodes,4)) -> 0 | E49: =COUNTIF($I$10:$I$40,INDEX(AbsenceCodes,5)) -> 0 | F49: =COUNTIF($I$10:$I$40,INDEX(AbsenceCodes,6)) -> 0 | G49: =COUNTIF($I$10:$I$40,INDEX(AbsenceCodes,7)) -> 0 | H49: =SUMPRODUCT(ISNUMBER(A10:A40)*ISNUMBER(MATCH(A10:A40,Holidays,0))) -> 0
A51: Mitarbeiter/in und Arbeitgeber bestätigen, dass die eingetragenen Stunden den tatsächlich geleisteten entsprechen.
A53: Unterschrift Mitarbeiter/in: ______________________________ | F53: Unterschrift Arbeitgeber: ______________________________
A54: Datum: ____ / ____ / ________

Sheet November
A1: Stundenzettel Jahr · November
A2: Kostenlose Vorlage von NoBadge · hellviolette Zellen = ausfüllen · graue Zellen = berechnet, nicht überschreiben
A4: Mitarbeiter/in | C4: =IF(Jahresübersicht!$C$5="","",Jahresübersicht!$C$5) | G4: Monat (1-12) | I4: 11 | J4: =IF(AND(ISNUMBER($I$4),$I$4>=1,$I$4<=12),CHOOSE($I$4,"Januar","Februar","März","April","Mai","Juni","Juli","August","September","Oktober","November","Dezember")&" "&$I$5,"") -> November 2027
A5: Tätigkeit / Abteilung | C5: =IF(Jahresübersicht!$C$6="","",Jahresübersicht!$C$6) | G5: Jahr | I5: =Jahresübersicht!$I$5 -> 2027
A6: Regelarbeitszeit pro Tag (Std.) | C6: =Jahresübersicht!$I$6 -> 8 | D6: darüber = Überstunden | G6: Stundenlohn (optional) | I6: =IF(Jahresübersicht!$C$7="","",Jahresübersicht!$C$7)
G7: Überstundenzuschlag (optional) | I7: =IF(Jahresübersicht!$I$7="","",Jahresübersicht!$I$7)
A9: Datum | B9: Tag | C9: Beginn | D9: Ende | E9: Pause (Min.) | F9: Arbeits- zeit | G9: Regulär | H9: Überstunden | I9: Abwesenheit | J9: Notizen
A10: =IF(1<=DAY(DATE($I$5,$I$4+1,0)),DATE($I$5,$I$4,1),"") -> 46692 | B10: =IF(ISNUMBER(A10),CHOOSE(WEEKDAY(A10,2),"Mo","Di","Mi","Do","Fr","Sa","So"),"") -> Mo | F10: =IF(OR(C10="",D10=""),"",MAX(0,MOD(D10-C10,1)-N(E10)/1440)) | G10: =IF(F10="","",MIN(F10,$C$6/24)) | H10: =IF(F10="","",F10-G10)
A11: =IF(2<=DAY(DATE($I$5,$I$4+1,0)),DATE($I$5,$I$4,2),"") -> 46693 | B11: =IF(ISNUMBER(A11),CHOOSE(WEEKDAY(A11,2),"Mo","Di","Mi","Do","Fr","Sa","So"),"") -> Di | F11: =IF(OR(C11="",D11=""),"",MAX(0,MOD(D11-C11,1)-N(E11)/1440)) | G11: =IF(F11="","",MIN(F11,$C$6/24)) | H11: =IF(F11="","",F11-G11)
A12: =IF(3<=DAY(DATE($I$5,$I$4+1,0)),DATE($I$5,$I$4,3),"") -> 46694 | B12: =IF(ISNUMBER(A12),CHOOSE(WEEKDAY(A12,2),"Mo","Di","Mi","Do","Fr","Sa","So"),"") -> Mi | F12: =IF(OR(C12="",D12=""),"",MAX(0,MOD(D12-C12,1)-N(E12)/1440)) | G12: =IF(F12="","",MIN(F12,$C$6/24)) | H12: =IF(F12="","",F12-G12)
A13: =IF(4<=DAY(DATE($I$5,$I$4+1,0)),DATE($I$5,$I$4,4),"") -> 46695 | B13: =IF(ISNUMBER(A13),CHOOSE(WEEKDAY(A13,2),"Mo","Di","Mi","Do","Fr","Sa","So"),"") -> Do | F13: =IF(OR(C13="",D13=""),"",MAX(0,MOD(D13-C13,1)-N(E13)/1440)) | G13: =IF(F13="","",MIN(F13,$C$6/24)) | H13: =IF(F13="","",F13-G13)
A14: =IF(5<=DAY(DATE($I$5,$I$4+1,0)),DATE($I$5,$I$4,5),"") -> 46696 | B14: =IF(ISNUMBER(A14),CHOOSE(WEEKDAY(A14,2),"Mo","Di","Mi","Do","Fr","Sa","So"),"") -> Fr | F14: =IF(OR(C14="",D14=""),"",MAX(0,MOD(D14-C14,1)-N(E14)/1440)) | G14: =IF(F14="","",MIN(F14,$C$6/24)) | H14: =IF(F14="","",F14-G14)
A15: =IF(6<=DAY(DATE($I$5,$I$4+1,0)),DATE($I$5,$I$4,6),"") -> 46697 | B15: =IF(ISNUMBER(A15),CHOOSE(WEEKDAY(A15,2),"Mo","Di","Mi","Do","Fr","Sa","So"),"") -> Sa | F15: =IF(OR(C15="",D15=""),"",MAX(0,MOD(D15-C15,1)-N(E15)/1440)) | G15: =IF(F15="","",MIN(F15,$C$6/24)) | H15: =IF(F15="","",F15-G15)
A16: =IF(7<=DAY(DATE($I$5,$I$4+1,0)),DATE($I$5,$I$4,7),"") -> 46698 | B16: =IF(ISNUMBER(A16),CHOOSE(WEEKDAY(A16,2),"Mo","Di","Mi","Do","Fr","Sa","So"),"") -> So | F16: =IF(OR(C16="",D16=""),"",MAX(0,MOD(D16-C16,1)-N(E16)/1440)) | G16: =IF(F16="","",MIN(F16,$C$6/24)) | H16: =IF(F16="","",F16-G16)
A17: =IF(8<=DAY(DATE($I$5,$I$4+1,0)),DATE($I$5,$I$4,8),"") -> 46699 | B17: =IF(ISNUMBER(A17),CHOOSE(WEEKDAY(A17,2),"Mo","Di","Mi","Do","Fr","Sa","So"),"") -> Mo | F17: =IF(OR(C17="",D17=""),"",MAX(0,MOD(D17-C17,1)-N(E17)/1440)) | G17: =IF(F17="","",MIN(F17,$C$6/24)) | H17: =IF(F17="","",F17-G17)
A18: =IF(9<=DAY(DATE($I$5,$I$4+1,0)),DATE($I$5,$I$4,9),"") -> 46700 | B18: =IF(ISNUMBER(A18),CHOOSE(WEEKDAY(A18,2),"Mo","Di","Mi","Do","Fr","Sa","So"),"") -> Di | F18: =IF(OR(C18="",D18=""),"",MAX(0,MOD(D18-C18,1)-N(E18)/1440)) | G18: =IF(F18="","",MIN(F18,$C$6/24)) | H18: =IF(F18="","",F18-G18)
A19: =IF(10<=DAY(DATE($I$5,$I$4+1,0)),DATE($I$5,$I$4,10),"") -> 46701 | B19: =IF(ISNUMBER(A19),CHOOSE(WEEKDAY(A19,2),"Mo","Di","Mi","Do","Fr","Sa","So"),"") -> Mi | F19: =IF(OR(C19="",D19=""),"",MAX(0,MOD(D19-C19,1)-N(E19)/1440)) | G19: =IF(F19="","",MIN(F19,$C$6/24)) | H19: =IF(F19="","",F19-G19)
A20: =IF(11<=DAY(DATE($I$5,$I$4+1,0)),DATE($I$5,$I$4,11),"") -> 46702 | B20: =IF(ISNUMBER(A20),CHOOSE(WEEKDAY(A20,2),"Mo","Di","Mi","Do","Fr","Sa","So"),"") -> Do | F20: =IF(OR(C20="",D20=""),"",MAX(0,MOD(D20-C20,1)-N(E20)/1440)) | G20: =IF(F20="","",MIN(F20,$C$6/24)) | H20: =IF(F20="","",F20-G20)
A21: =IF(12<=DAY(DATE($I$5,$I$4+1,0)),DATE($I$5,$I$4,12),"") -> 46703 | B21: =IF(ISNUMBER(A21),CHOOSE(WEEKDAY(A21,2),"Mo","Di","Mi","Do","Fr","Sa","So"),"") -> Fr | F21: =IF(OR(C21="",D21=""),"",MAX(0,MOD(D21-C21,1)-N(E21)/1440)) | G21: =IF(F21="","",MIN(F21,$C$6/24)) | H21: =IF(F21="","",F21-G21)
A22: =IF(13<=DAY(DATE($I$5,$I$4+1,0)),DATE($I$5,$I$4,13),"") -> 46704 | B22: =IF(ISNUMBER(A22),CHOOSE(WEEKDAY(A22,2),"Mo","Di","Mi","Do","Fr","Sa","So"),"") -> Sa | F22: =IF(OR(C22="",D22=""),"",MAX(0,MOD(D22-C22,1)-N(E22)/1440)) | G22: =IF(F22="","",MIN(F22,$C$6/24)) | H22: =IF(F22="","",F22-G22)
A23: =IF(14<=DAY(DATE($I$5,$I$4+1,0)),DATE($I$5,$I$4,14),"") -> 46705 | B23: =IF(ISNUMBER(A23),CHOOSE(WEEKDAY(A23,2),"Mo","Di","Mi","Do","Fr","Sa","So"),"") -> So | F23: =IF(OR(C23="",D23=""),"",MAX(0,MOD(D23-C23,1)-N(E23)/1440)) | G23: =IF(F23="","",MIN(F23,$C$6/24)) | H23: =IF(F23="","",F23-G23)
A24: =IF(15<=DAY(DATE($I$5,$I$4+1,0)),DATE($I$5,$I$4,15),"") -> 46706 | B24: =IF(ISNUMBER(A24),CHOOSE(WEEKDAY(A24,2),"Mo","Di","Mi","Do","Fr","Sa","So"),"") -> Mo | F24: =IF(OR(C24="",D24=""),"",MAX(0,MOD(D24-C24,1)-N(E24)/1440)) | G24: =IF(F24="","",MIN(F24,$C$6/24)) | H24: =IF(F24="","",F24-G24)
A25: =IF(16<=DAY(DATE($I$5,$I$4+1,0)),DATE($I$5,$I$4,16),"") -> 46707 | B25: =IF(ISNUMBER(A25),CHOOSE(WEEKDAY(A25,2),"Mo","Di","Mi","Do","Fr","Sa","So"),"") -> Di | F25: =IF(OR(C25="",D25=""),"",MAX(0,MOD(D25-C25,1)-N(E25)/1440)) | G25: =IF(F25="","",MIN(F25,$C$6/24)) | H25: =IF(F25="","",F25-G25)
A26: =IF(17<=DAY(DATE($I$5,$I$4+1,0)),DATE($I$5,$I$4,17),"") -> 46708 | B26: =IF(ISNUMBER(A26),CHOOSE(WEEKDAY(A26,2),"Mo","Di","Mi","Do","Fr","Sa","So"),"") -> Mi | F26: =IF(OR(C26="",D26=""),"",MAX(0,MOD(D26-C26,1)-N(E26)/1440)) | G26: =IF(F26="","",MIN(F26,$C$6/24)) | H26: =IF(F26="","",F26-G26)
A27: =IF(18<=DAY(DATE($I$5,$I$4+1,0)),DATE($I$5,$I$4,18),"") -> 46709 | B27: =IF(ISNUMBER(A27),CHOOSE(WEEKDAY(A27,2),"Mo","Di","Mi","Do","Fr","Sa","So"),"") -> Do | F27: =IF(OR(C27="",D27=""),"",MAX(0,MOD(D27-C27,1)-N(E27)/1440)) | G27: =IF(F27="","",MIN(F27,$C$6/24)) | H27: =IF(F27="","",F27-G27)
A28: =IF(19<=DAY(DATE($I$5,$I$4+1,0)),DATE($I$5,$I$4,19),"") -> 46710 | B28: =IF(ISNUMBER(A28),CHOOSE(WEEKDAY(A28,2),"Mo","Di","Mi","Do","Fr","Sa","So"),"") -> Fr | F28: =IF(OR(C28="",D28=""),"",MAX(0,MOD(D28-C28,1)-N(E28)/1440)) | G28: =IF(F28="","",MIN(F28,$C$6/24)) | H28: =IF(F28="","",F28-G28)
A29: =IF(20<=DAY(DATE($I$5,$I$4+1,0)),DATE($I$5,$I$4,20),"") -> 46711 | B29: =IF(ISNUMBER(A29),CHOOSE(WEEKDAY(A29,2),"Mo","Di","Mi","Do","Fr","Sa","So"),"") -> Sa | F29: =IF(OR(C29="",D29=""),"",MAX(0,MOD(D29-C29,1)-N(E29)/1440)) | G29: =IF(F29="","",MIN(F29,$C$6/24)) | H29: =IF(F29="","",F29-G29)
A30: =IF(21<=DAY(DATE($I$5,$I$4+1,0)),DATE($I$5,$I$4,21),"") -> 46712 | B30: =IF(ISNUMBER(A30),CHOOSE(WEEKDAY(A30,2),"Mo","Di","Mi","Do","Fr","Sa","So"),"") -> So | F30: =IF(OR(C30="",D30=""),"",MAX(0,MOD(D30-C30,1)-N(E30)/1440)) | G30: =IF(F30="","",MIN(F30,$C$6/24)) | H30: =IF(F30="","",F30-G30)
A31: =IF(22<=DAY(DATE($I$5,$I$4+1,0)),DATE($I$5,$I$4,22),"") -> 46713 | B31: =IF(ISNUMBER(A31),CHOOSE(WEEKDAY(A31,2),"Mo","Di","Mi","Do","Fr","Sa","So"),"") -> Mo | F31: =IF(OR(C31="",D31=""),"",MAX(0,MOD(D31-C31,1)-N(E31)/1440)) | G31: =IF(F31="","",MIN(F31,$C$6/24)) | H31: =IF(F31="","",F31-G31)
A32: =IF(23<=DAY(DATE($I$5,$I$4+1,0)),DATE($I$5,$I$4,23),"") -> 46714 | B32: =IF(ISNUMBER(A32),CHOOSE(WEEKDAY(A32,2),"Mo","Di","Mi","Do","Fr","Sa","So"),"") -> Di | F32: =IF(OR(C32="",D32=""),"",MAX(0,MOD(D32-C32,1)-N(E32)/1440)) | G32: =IF(F32="","",MIN(F32,$C$6/24)) | H32: =IF(F32="","",F32-G32)
A33: =IF(24<=DAY(DATE($I$5,$I$4+1,0)),DATE($I$5,$I$4,24),"") -> 46715 | B33: =IF(ISNUMBER(A33),CHOOSE(WEEKDAY(A33,2),"Mo","Di","Mi","Do","Fr","Sa","So"),"") -> Mi | F33: =IF(OR(C33="",D33=""),"",MAX(0,MOD(D33-C33,1)-N(E33)/1440)) | G33: =IF(F33="","",MIN(F33,$C$6/24)) | H33: =IF(F33="","",F33-G33)
A34: =IF(25<=DAY(DATE($I$5,$I$4+1,0)),DATE($I$5,$I$4,25),"") -> 46716 | B34: =IF(ISNUMBER(A34),CHOOSE(WEEKDAY(A34,2),"Mo","Di","Mi","Do","Fr","Sa","So"),"") -> Do | F34: =IF(OR(C34="",D34=""),"",MAX(0,MOD(D34-C34,1)-N(E34)/1440)) | G34: =IF(F34="","",MIN(F34,$C$6/24)) | H34: =IF(F34="","",F34-G34)
A35: =IF(26<=DAY(DATE($I$5,$I$4+1,0)),DATE($I$5,$I$4,26),"") -> 46717 | B35: =IF(ISNUMBER(A35),CHOOSE(WEEKDAY(A35,2),"Mo","Di","Mi","Do","Fr","Sa","So"),"") -> Fr | F35: =IF(OR(C35="",D35=""),"",MAX(0,MOD(D35-C35,1)-N(E35)/1440)) | G35: =IF(F35="","",MIN(F35,$C$6/24)) | H35: =IF(F35="","",F35-G35)
A36: =IF(27<=DAY(DATE($I$5,$I$4+1,0)),DATE($I$5,$I$4,27),"") -> 46718 | B36: =IF(ISNUMBER(A36),CHOOSE(WEEKDAY(A36,2),"Mo","Di","Mi","Do","Fr","Sa","So"),"") -> Sa | F36: =IF(OR(C36="",D36=""),"",MAX(0,MOD(D36-C36,1)-N(E36)/1440)) | G36: =IF(F36="","",MIN(F36,$C$6/24)) | H36: =IF(F36="","",F36-G36)
A37: =IF(28<=DAY(DATE($I$5,$I$4+1,0)),DATE($I$5,$I$4,28),"") -> 46719 | B37: =IF(ISNUMBER(A37),CHOOSE(WEEKDAY(A37,2),"Mo","Di","Mi","Do","Fr","Sa","So"),"") -> So | F37: =IF(OR(C37="",D37=""),"",MAX(0,MOD(D37-C37,1)-N(E37)/1440)) | G37: =IF(F37="","",MIN(F37,$C$6/24)) | H37: =IF(F37="","",F37-G37)
A38: =IF(29<=DAY(DATE($I$5,$I$4+1,0)),DATE($I$5,$I$4,29),"") -> 46720 | B38: =IF(ISNUMBER(A38),CHOOSE(WEEKDAY(A38,2),"Mo","Di","Mi","Do","Fr","Sa","So"),"") -> Mo | F38: =IF(OR(C38="",D38=""),"",MAX(0,MOD(D38-C38,1)-N(E38)/1440)) | G38: =IF(F38="","",MIN(F38,$C$6/24)) | H38: =IF(F38="","",F38-G38)
A39: =IF(30<=DAY(DATE($I$5,$I$4+1,0)),DATE($I$5,$I$4,30),"") -> 46721 | B39: =IF(ISNUMBER(A39),CHOOSE(WEEKDAY(A39,2),"Mo","Di","Mi","Do","Fr","Sa","So"),"") -> Di | F39: =IF(OR(C39="",D39=""),"",MAX(0,MOD(D39-C39,1)-N(E39)/1440)) | G39: =IF(F39="","",MIN(F39,$C$6/24)) | H39: =IF(F39="","",F39-G39)
A40: =IF(31<=DAY(DATE($I$5,$I$4+1,0)),DATE($I$5,$I$4,31),"") | B40: =IF(ISNUMBER(A40),CHOOSE(WEEKDAY(A40,2),"Mo","Di","Mi","Do","Fr","Sa","So"),"") | F40: =IF(OR(C40="",D40=""),"",MAX(0,MOD(D40-C40,1)-N(E40)/1440)) | G40: =IF(F40="","",MIN(F40,$C$6/24)) | H40: =IF(F40="","",F40-G40)
A41: Summe Monat | F41: =SUM(F10:F40) -> 0 | G41: =SUM(G10:G40) -> 0 | H41: =SUM(H10:H40) -> 0 | I41: =COUNTA(I10:I40) -> 0
A43: Monatsübersicht
A44: Arbeitsstunden | C44: Reguläre Stunden | E44: Überstunden | G44: Stunden dezimal | I44: Arbeitstage | J44: Kosten (optional)
A45: =F41 -> 0 | C45: =G41 -> 0 | E45: =H41 -> 0 | G45: =F41*24 -> 0 | I45: =COUNTIF(F10:F40,">0") -> 0 | J45: =IF(I6="","",ROUND((G41+H41*(1+N(I7)))*24*I6,2))
A47: Abwesenheiten (Tage)
A48: =INDEX(AbsenceCodes,1)&" · "&INDEX(AbsenceNames,1) -> U · Urlaub | B48: =INDEX(AbsenceCodes,2)&" · "&INDEX(AbsenceNames,2) -> SU · Sonderurlaub | C48: =INDEX(AbsenceCodes,3)&" · "&INDEX(AbsenceNames,3) -> K · Krankheit | D48: =INDEX(AbsenceCodes,4)&" · "&INDEX(AbsenceNames,4) -> ZA · Zeitausgleich | E48: =INDEX(AbsenceCodes,5)&" · "&INDEX(AbsenceNames,5) -> UF · Arbeitsunfall | F48: =INDEX(AbsenceCodes,6)&" · "&INDEX(AbsenceNames,6) -> EZ · Elternzeit | G48: =INDEX(AbsenceCodes,7)&" · "&INDEX(AbsenceNames,7) -> R · Ruhetag | H48: Feiertage im Zeitraum
A49: =COUNTIF($I$10:$I$40,INDEX(AbsenceCodes,1)) -> 0 | B49: =COUNTIF($I$10:$I$40,INDEX(AbsenceCodes,2)) -> 0 | C49: =COUNTIF($I$10:$I$40,INDEX(AbsenceCodes,3)) -> 0 | D49: =COUNTIF($I$10:$I$40,INDEX(AbsenceCodes,4)) -> 0 | E49: =COUNTIF($I$10:$I$40,INDEX(AbsenceCodes,5)) -> 0 | F49: =COUNTIF($I$10:$I$40,INDEX(AbsenceCodes,6)) -> 0 | G49: =COUNTIF($I$10:$I$40,INDEX(AbsenceCodes,7)) -> 0 | H49: =SUMPRODUCT(ISNUMBER(A10:A40)*ISNUMBER(MATCH(A10:A40,Holidays,0))) -> 0
A51: Mitarbeiter/in und Arbeitgeber bestätigen, dass die eingetragenen Stunden den tatsächlich geleisteten entsprechen.
A53: Unterschrift Mitarbeiter/in: ______________________________ | F53: Unterschrift Arbeitgeber: ______________________________
A54: Datum: ____ / ____ / ________

Sheet Dezember
A1: Stundenzettel Jahr · Dezember
A2: Kostenlose Vorlage von NoBadge · hellviolette Zellen = ausfüllen · graue Zellen = berechnet, nicht überschreiben
A4: Mitarbeiter/in | C4: =IF(Jahresübersicht!$C$5="","",Jahresübersicht!$C$5) | G4: Monat (1-12) | I4: 12 | J4: =IF(AND(ISNUMBER($I$4),$I$4>=1,$I$4<=12),CHOOSE($I$4,"Januar","Februar","März","April","Mai","Juni","Juli","August","September","Oktober","November","Dezember")&" "&$I$5,"") -> Dezember 2027
A5: Tätigkeit / Abteilung | C5: =IF(Jahresübersicht!$C$6="","",Jahresübersicht!$C$6) | G5: Jahr | I5: =Jahresübersicht!$I$5 -> 2027
A6: Regelarbeitszeit pro Tag (Std.) | C6: =Jahresübersicht!$I$6 -> 8 | D6: darüber = Überstunden | G6: Stundenlohn (optional) | I6: =IF(Jahresübersicht!$C$7="","",Jahresübersicht!$C$7)
G7: Überstundenzuschlag (optional) | I7: =IF(Jahresübersicht!$I$7="","",Jahresübersicht!$I$7)
A9: Datum | B9: Tag | C9: Beginn | D9: Ende | E9: Pause (Min.) | F9: Arbeits- zeit | G9: Regulär | H9: Überstunden | I9: Abwesenheit | J9: Notizen
A10: =IF(1<=DAY(DATE($I$5,$I$4+1,0)),DATE($I$5,$I$4,1),"") -> 46722 | B10: =IF(ISNUMBER(A10),CHOOSE(WEEKDAY(A10,2),"Mo","Di","Mi","Do","Fr","Sa","So"),"") -> Mi | F10: =IF(OR(C10="",D10=""),"",MAX(0,MOD(D10-C10,1)-N(E10)/1440)) | G10: =IF(F10="","",MIN(F10,$C$6/24)) | H10: =IF(F10="","",F10-G10)
A11: =IF(2<=DAY(DATE($I$5,$I$4+1,0)),DATE($I$5,$I$4,2),"") -> 46723 | B11: =IF(ISNUMBER(A11),CHOOSE(WEEKDAY(A11,2),"Mo","Di","Mi","Do","Fr","Sa","So"),"") -> Do | F11: =IF(OR(C11="",D11=""),"",MAX(0,MOD(D11-C11,1)-N(E11)/1440)) | G11: =IF(F11="","",MIN(F11,$C$6/24)) | H11: =IF(F11="","",F11-G11)
A12: =IF(3<=DAY(DATE($I$5,$I$4+1,0)),DATE($I$5,$I$4,3),"") -> 46724 | B12: =IF(ISNUMBER(A12),CHOOSE(WEEKDAY(A12,2),"Mo","Di","Mi","Do","Fr","Sa","So"),"") -> Fr | F12: =IF(OR(C12="",D12=""),"",MAX(0,MOD(D12-C12,1)-N(E12)/1440)) | G12: =IF(F12="","",MIN(F12,$C$6/24)) | H12: =IF(F12="","",F12-G12)
A13: =IF(4<=DAY(DATE($I$5,$I$4+1,0)),DATE($I$5,$I$4,4),"") -> 46725 | B13: =IF(ISNUMBER(A13),CHOOSE(WEEKDAY(A13,2),"Mo","Di","Mi","Do","Fr","Sa","So"),"") -> Sa | F13: =IF(OR(C13="",D13=""),"",MAX(0,MOD(D13-C13,1)-N(E13)/1440)) | G13: =IF(F13="","",MIN(F13,$C$6/24)) | H13: =IF(F13="","",F13-G13)
A14: =IF(5<=DAY(DATE($I$5,$I$4+1,0)),DATE($I$5,$I$4,5),"") -> 46726 | B14: =IF(ISNUMBER(A14),CHOOSE(WEEKDAY(A14,2),"Mo","Di","Mi","Do","Fr","Sa","So"),"") -> So | F14: =IF(OR(C14="",D14=""),"",MAX(0,MOD(D14-C14,1)-N(E14)/1440)) | G14: =IF(F14="","",MIN(F14,$C$6/24)) | H14: =IF(F14="","",F14-G14)
A15: =IF(6<=DAY(DATE($I$5,$I$4+1,0)),DATE($I$5,$I$4,6),"") -> 46727 | B15: =IF(ISNUMBER(A15),CHOOSE(WEEKDAY(A15,2),"Mo","Di","Mi","Do","Fr","Sa","So"),"") -> Mo | F15: =IF(OR(C15="",D15=""),"",MAX(0,MOD(D15-C15,1)-N(E15)/1440)) | G15: =IF(F15="","",MIN(F15,$C$6/24)) | H15: =IF(F15="","",F15-G15)
A16: =IF(7<=DAY(DATE($I$5,$I$4+1,0)),DATE($I$5,$I$4,7),"") -> 46728 | B16: =IF(ISNUMBER(A16),CHOOSE(WEEKDAY(A16,2),"Mo","Di","Mi","Do","Fr","Sa","So"),"") -> Di | F16: =IF(OR(C16="",D16=""),"",MAX(0,MOD(D16-C16,1)-N(E16)/1440)) | G16: =IF(F16="","",MIN(F16,$C$6/24)) | H16: =IF(F16="","",F16-G16)
A17: =IF(8<=DAY(DATE($I$5,$I$4+1,0)),DATE($I$5,$I$4,8),"") -> 46729 | B17: =IF(ISNUMBER(A17),CHOOSE(WEEKDAY(A17,2),"Mo","Di","Mi","Do","Fr","Sa","So"),"") -> Mi | F17: =IF(OR(C17="",D17=""),"",MAX(0,MOD(D17-C17,1)-N(E17)/1440)) | G17: =IF(F17="","",MIN(F17,$C$6/24)) | H17: =IF(F17="","",F17-G17)
A18: =IF(9<=DAY(DATE($I$5,$I$4+1,0)),DATE($I$5,$I$4,9),"") -> 46730 | B18: =IF(ISNUMBER(A18),CHOOSE(WEEKDAY(A18,2),"Mo","Di","Mi","Do","Fr","Sa","So"),"") -> Do | F18: =IF(OR(C18="",D18=""),"",MAX(0,MOD(D18-C18,1)-N(E18)/1440)) | G18: =IF(F18="","",MIN(F18,$C$6/24)) | H18: =IF(F18="","",F18-G18)
A19: =IF(10<=DAY(DATE($I$5,$I$4+1,0)),DATE($I$5,$I$4,10),"") -> 46731 | B19: =IF(ISNUMBER(A19),CHOOSE(WEEKDAY(A19,2),"Mo","Di","Mi","Do","Fr","Sa","So"),"") -> Fr | F19: =IF(OR(C19="",D19=""),"",MAX(0,MOD(D19-C19,1)-N(E19)/1440)) | G19: =IF(F19="","",MIN(F19,$C$6/24)) | H19: =IF(F19="","",F19-G19)
A20: =IF(11<=DAY(DATE($I$5,$I$4+1,0)),DATE($I$5,$I$4,11),"") -> 46732 | B20: =IF(ISNUMBER(A20),CHOOSE(WEEKDAY(A20,2),"Mo","Di","Mi","Do","Fr","Sa","So"),"") -> Sa | F20: =IF(OR(C20="",D20=""),"",MAX(0,MOD(D20-C20,1)-N(E20)/1440)) | G20: =IF(F20="","",MIN(F20,$C$6/24)) | H20: =IF(F20="","",F20-G20)
A21: =IF(12<=DAY(DATE($I$5,$I$4+1,0)),DATE($I$5,$I$4,12),"") -> 46733 | B21: =IF(ISNUMBER(A21),CHOOSE(WEEKDAY(A21,2),"Mo","Di","Mi","Do","Fr","Sa","So"),"") -> So | F21: =IF(OR(C21="",D21=""),"",MAX(0,MOD(D21-C21,1)-N(E21)/1440)) | G21: =IF(F21="","",MIN(F21,$C$6/24)) | H21: =IF(F21="","",F21-G21)
A22: =IF(13<=DAY(DATE($I$5,$I$4+1,0)),DATE($I$5,$I$4,13),"") -> 46734 | B22: =IF(ISNUMBER(A22),CHOOSE(WEEKDAY(A22,2),"Mo","Di","Mi","Do","Fr","Sa","So"),"") -> Mo | F22: =IF(OR(C22="",D22=""),"",MAX(0,MOD(D22-C22,1)-N(E22)/1440)) | G22: =IF(F22="","",MIN(F22,$C$6/24)) | H22: =IF(F22="","",F22-G22)
A23: =IF(14<=DAY(DATE($I$5,$I$4+1,0)),DATE($I$5,$I$4,14),"") -> 46735 | B23: =IF(ISNUMBER(A23),CHOOSE(WEEKDAY(A23,2),"Mo","Di","Mi","Do","Fr","Sa","So"),"") -> Di | F23: =IF(OR(C23="",D23=""),"",MAX(0,MOD(D23-C23,1)-N(E23)/1440)) | G23: =IF(F23="","",MIN(F23,$C$6/24)) | H23: =IF(F23="","",F23-G23)
A24: =IF(15<=DAY(DATE($I$5,$I$4+1,0)),DATE($I$5,$I$4,15),"") -> 46736 | B24: =IF(ISNUMBER(A24),CHOOSE(WEEKDAY(A24,2),"Mo","Di","Mi","Do","Fr","Sa","So"),"") -> Mi | F24: =IF(OR(C24="",D24=""),"",MAX(0,MOD(D24-C24,1)-N(E24)/1440)) | G24: =IF(F24="","",MIN(F24,$C$6/24)) | H24: =IF(F24="","",F24-G24)
A25: =IF(16<=DAY(DATE($I$5,$I$4+1,0)),DATE($I$5,$I$4,16),"") -> 46737 | B25: =IF(ISNUMBER(A25),CHOOSE(WEEKDAY(A25,2),"Mo","Di","Mi","Do","Fr","Sa","So"),"") -> Do | F25: =IF(OR(C25="",D25=""),"",MAX(0,MOD(D25-C25,1)-N(E25)/1440)) | G25: =IF(F25="","",MIN(F25,$C$6/24)) | H25: =IF(F25="","",F25-G25)
A26: =IF(17<=DAY(DATE($I$5,$I$4+1,0)),DATE($I$5,$I$4,17),"") -> 46738 | B26: =IF(ISNUMBER(A26),CHOOSE(WEEKDAY(A26,2),"Mo","Di","Mi","Do","Fr","Sa","So"),"") -> Fr | F26: =IF(OR(C26="",D26=""),"",MAX(0,MOD(D26-C26,1)-N(E26)/1440)) | G26: =IF(F26="","",MIN(F26,$C$6/24)) | H26: =IF(F26="","",F26-G26)
A27: =IF(18<=DAY(DATE($I$5,$I$4+1,0)),DATE($I$5,$I$4,18),"") -> 46739 | B27: =IF(ISNUMBER(A27),CHOOSE(WEEKDAY(A27,2),"Mo","Di","Mi","Do","Fr","Sa","So"),"") -> Sa | F27: =IF(OR(C27="",D27=""),"",MAX(0,MOD(D27-C27,1)-N(E27)/1440)) | G27: =IF(F27="","",MIN(F27,$C$6/24)) | H27: =IF(F27="","",F27-G27)
A28: =IF(19<=DAY(DATE($I$5,$I$4+1,0)),DATE($I$5,$I$4,19),"") -> 46740 | B28: =IF(ISNUMBER(A28),CHOOSE(WEEKDAY(A28,2),"Mo","Di","Mi","Do","Fr","Sa","So"),"") -> So | F28: =IF(OR(C28="",D28=""),"",MAX(0,MOD(D28-C28,1)-N(E28)/1440)) | G28: =IF(F28="","",MIN(F28,$C$6/24)) | H28: =IF(F28="","",F28-G28)
A29: =IF(20<=DAY(DATE($I$5,$I$4+1,0)),DATE($I$5,$I$4,20),"") -> 46741 | B29: =IF(ISNUMBER(A29),CHOOSE(WEEKDAY(A29,2),"Mo","Di","Mi","Do","Fr","Sa","So"),"") -> Mo | F29: =IF(OR(C29="",D29=""),"",MAX(0,MOD(D29-C29,1)-N(E29)/1440)) | G29: =IF(F29="","",MIN(F29,$C$6/24)) | H29: =IF(F29="","",F29-G29)
A30: =IF(21<=DAY(DATE($I$5,$I$4+1,0)),DATE($I$5,$I$4,21),"") -> 46742 | B30: =IF(ISNUMBER(A30),CHOOSE(WEEKDAY(A30,2),"Mo","Di","Mi","Do","Fr","Sa","So"),"") -> Di | F30: =IF(OR(C30="",D30=""),"",MAX(0,MOD(D30-C30,1)-N(E30)/1440)) | G30: =IF(F30="","",MIN(F30,$C$6/24)) | H30: =IF(F30="","",F30-G30)
A31: =IF(22<=DAY(DATE($I$5,$I$4+1,0)),DATE($I$5,$I$4,22),"") -> 46743 | B31: =IF(ISNUMBER(A31),CHOOSE(WEEKDAY(A31,2),"Mo","Di","Mi","Do","Fr","Sa","So"),"") -> Mi | F31: =IF(OR(C31="",D31=""),"",MAX(0,MOD(D31-C31,1)-N(E31)/1440)) | G31: =IF(F31="","",MIN(F31,$C$6/24)) | H31: =IF(F31="","",F31-G31)
A32: =IF(23<=DAY(DATE($I$5,$I$4+1,0)),DATE($I$5,$I$4,23),"") -> 46744 | B32: =IF(ISNUMBER(A32),CHOOSE(WEEKDAY(A32,2),"Mo","Di","Mi","Do","Fr","Sa","So"),"") -> Do | F32: =IF(OR(C32="",D32=""),"",MAX(0,MOD(D32-C32,1)-N(E32)/1440)) | G32: =IF(F32="","",MIN(F32,$C$6/24)) | H32: =IF(F32="","",F32-G32)
A33: =IF(24<=DAY(DATE($I$5,$I$4+1,0)),DATE($I$5,$I$4,24),"") -> 46745 | B33: =IF(ISNUMBER(A33),CHOOSE(WEEKDAY(A33,2),"Mo","Di","Mi","Do","Fr","Sa","So"),"") -> Fr | F33: =IF(OR(C33="",D33=""),"",MAX(0,MOD(D33-C33,1)-N(E33)/1440)) | G33: =IF(F33="","",MIN(F33,$C$6/24)) | H33: =IF(F33="","",F33-G33)
A34: =IF(25<=DAY(DATE($I$5,$I$4+1,0)),DATE($I$5,$I$4,25),"") -> 46746 | B34: =IF(ISNUMBER(A34),CHOOSE(WEEKDAY(A34,2),"Mo","Di","Mi","Do","Fr","Sa","So"),"") -> Sa | F34: =IF(OR(C34="",D34=""),"",MAX(0,MOD(D34-C34,1)-N(E34)/1440)) | G34: =IF(F34="","",MIN(F34,$C$6/24)) | H34: =IF(F34="","",F34-G34)
A35: =IF(26<=DAY(DATE($I$5,$I$4+1,0)),DATE($I$5,$I$4,26),"") -> 46747 | B35: =IF(ISNUMBER(A35),CHOOSE(WEEKDAY(A35,2),"Mo","Di","Mi","Do","Fr","Sa","So"),"") -> So | F35: =IF(OR(C35="",D35=""),"",MAX(0,MOD(D35-C35,1)-N(E35)/1440)) | G35: =IF(F35="","",MIN(F35,$C$6/24)) | H35: =IF(F35="","",F35-G35)
A36: =IF(27<=DAY(DATE($I$5,$I$4+1,0)),DATE($I$5,$I$4,27),"") -> 46748 | B36: =IF(ISNUMBER(A36),CHOOSE(WEEKDAY(A36,2),"Mo","Di","Mi","Do","Fr","Sa","So"),"") -> Mo | F36: =IF(OR(C36="",D36=""),"",MAX(0,MOD(D36-C36,1)-N(E36)/1440)) | G36: =IF(F36="","",MIN(F36,$C$6/24)) | H36: =IF(F36="","",F36-G36)
A37: =IF(28<=DAY(DATE($I$5,$I$4+1,0)),DATE($I$5,$I$4,28),"") -> 46749 | B37: =IF(ISNUMBER(A37),CHOOSE(WEEKDAY(A37,2),"Mo","Di","Mi","Do","Fr","Sa","So"),"") -> Di | F37: =IF(OR(C37="",D37=""),"",MAX(0,MOD(D37-C37,1)-N(E37)/1440)) | G37: =IF(F37="","",MIN(F37,$C$6/24)) | H37: =IF(F37="","",F37-G37)
A38: =IF(29<=DAY(DATE($I$5,$I$4+1,0)),DATE($I$5,$I$4,29),"") -> 46750 | B38: =IF(ISNUMBER(A38),CHOOSE(WEEKDAY(A38,2),"Mo","Di","Mi","Do","Fr","Sa","So"),"") -> Mi | F38: =IF(OR(C38="",D38=""),"",MAX(0,MOD(D38-C38,1)-N(E38)/1440)) | G38: =IF(F38="","",MIN(F38,$C$6/24)) | H38: =IF(F38="","",F38-G38)
A39: =IF(30<=DAY(DATE($I$5,$I$4+1,0)),DATE($I$5,$I$4,30),"") -> 46751 | B39: =IF(ISNUMBER(A39),CHOOSE(WEEKDAY(A39,2),"Mo","Di","Mi","Do","Fr","Sa","So"),"") -> Do | F39: =IF(OR(C39="",D39=""),"",MAX(0,MOD(D39-C39,1)-N(E39)/1440)) | G39: =IF(F39="","",MIN(F39,$C$6/24)) | H39: =IF(F39="","",F39-G39)
A40: =IF(31<=DAY(DATE($I$5,$I$4+1,0)),DATE($I$5,$I$4,31),"") -> 46752 | B40: =IF(ISNUMBER(A40),CHOOSE(WEEKDAY(A40,2),"Mo","Di","Mi","Do","Fr","Sa","So"),"") -> Fr | F40: =IF(OR(C40="",D40=""),"",MAX(0,MOD(D40-C40,1)-N(E40)/1440)) | G40: =IF(F40="","",MIN(F40,$C$6/24)) | H40: =IF(F40="","",F40-G40)
A41: Summe Monat | F41: =SUM(F10:F40) -> 0 | G41: =SUM(G10:G40) -> 0 | H41: =SUM(H10:H40) -> 0 | I41: =COUNTA(I10:I40) -> 0
A43: Monatsübersicht
A44: Arbeitsstunden | C44: Reguläre Stunden | E44: Überstunden | G44: Stunden dezimal | I44: Arbeitstage | J44: Kosten (optional)
A45: =F41 -> 0 | C45: =G41 -> 0 | E45: =H41 -> 0 | G45: =F41*24 -> 0 | I45: =COUNTIF(F10:F40,">0") -> 0 | J45: =IF(I6="","",ROUND((G41+H41*(1+N(I7)))*24*I6,2))
A47: Abwesenheiten (Tage)
A48: =INDEX(AbsenceCodes,1)&" · "&INDEX(AbsenceNames,1) -> U · Urlaub | B48: =INDEX(AbsenceCodes,2)&" · "&INDEX(AbsenceNames,2) -> SU · Sonderurlaub | C48: =INDEX(AbsenceCodes,3)&" · "&INDEX(AbsenceNames,3) -> K · Krankheit | D48: =INDEX(AbsenceCodes,4)&" · "&INDEX(AbsenceNames,4) -> ZA · Zeitausgleich | E48: =INDEX(AbsenceCodes,5)&" · "&INDEX(AbsenceNames,5) -> UF · Arbeitsunfall | F48: =INDEX(AbsenceCodes,6)&" · "&INDEX(AbsenceNames,6) -> EZ · Elternzeit | G48: =INDEX(AbsenceCodes,7)&" · "&INDEX(AbsenceNames,7) -> R · Ruhetag | H48: Feiertage im Zeitraum
A49: =COUNTIF($I$10:$I$40,INDEX(AbsenceCodes,1)) -> 0 | B49: =COUNTIF($I$10:$I$40,INDEX(AbsenceCodes,2)) -> 0 | C49: =COUNTIF($I$10:$I$40,INDEX(AbsenceCodes,3)) -> 0 | D49: =COUNTIF($I$10:$I$40,INDEX(AbsenceCodes,4)) -> 0 | E49: =COUNTIF($I$10:$I$40,INDEX(AbsenceCodes,5)) -> 0 | F49: =COUNTIF($I$10:$I$40,INDEX(AbsenceCodes,6)) -> 0 | G49: =COUNTIF($I$10:$I$40,INDEX(AbsenceCodes,7)) -> 0 | H49: =SUMPRODUCT(ISNUMBER(A10:A40)*ISNUMBER(MATCH(A10:A40,Holidays,0))) -> 1
A51: Mitarbeiter/in und Arbeitgeber bestätigen, dass die eingetragenen Stunden den tatsächlich geleisteten entsprechen.
A53: Unterschrift Mitarbeiter/in: ______________________________ | F53: Unterschrift Arbeitgeber: ______________________________
A54: Datum: ____ / ____ / ________

Sheet Codes & Feiertage
A1: Codes & Feiertage
A3: Abwesenheitscodes
A4: Code | B4: Bedeutung
A5: U | B5: Urlaub | D5: Codes und Beschreibungen lassen sich ändern: Auswahllisten und Summen passen sich automatisch an.
A6: SU | B6: Sonderurlaub
A7: K | B7: Krankheit
A8: ZA | B8: Zeitausgleich
A9: UF | B9: Arbeitsunfall
A10: EZ | B10: Elternzeit
A11: R | B11: Ruhetag
A13: Feiertage
A14: Jahr der Feiertage | B14: =Jahresübersicht!$I$5 -> 2027
A15: Datum | B15: Feiertag
A16: =DATE($B$14,1,1) -> 46388 | B16: Neujahr | D16: Feiertage sind je nach Land und Bundesland verschieden. Zwei Beispiele sind eingetragen; ergänzen Sie in den freien Zeilen die Feiertage, die für Sie gelten (sie werden im Stundenzettel markiert).
A17: =DATE($B$14,12,25) -> 46746 | B17: 1. Weihnachtstag
